BEGIN:VCALENDAR
VERSION:2.0
PRODID:-//Beads At Dusti Creek - ECPv6.15.20//NONSGML v1.0//EN
CALSCALE:GREGORIAN
METHOD:PUBLISH
X-ORIGINAL-URL:https://beadsatdusticreek.com
X-WR-CALDESC:Events for Beads At Dusti Creek
REFRESH-INTERVAL;VALUE=DURATION:PT1H
X-Robots-Tag:noindex
X-PUBLISHED-TTL:PT1H
BEGIN:VTIMEZONE
TZID:America/Los_Angeles
BEGIN:DAYLIGHT
TZOFFSETFROM:-0800
TZOFFSETTO:-0700
TZNAME:PDT
DTSTART:20190310T100000
END:DAYLIGHT
BEGIN:STANDARD
TZOFFSETFROM:-0700
TZOFFSETTO:-0800
TZNAME:PST
DTSTART:20191103T090000
END:STANDARD
BEGIN:DAYLIGHT
TZOFFSETFROM:-0800
TZOFFSETTO:-0700
TZNAME:PDT
DTSTART:20200308T100000
END:DAYLIGHT
BEGIN:STANDARD
TZOFFSETFROM:-0700
TZOFFSETTO:-0800
TZNAME:PST
DTSTART:20201101T090000
END:STANDARD
BEGIN:DAYLIGHT
TZOFFSETFROM:-0800
TZOFFSETTO:-0700
TZNAME:PDT
DTSTART:20210314T100000
END:DAYLIGHT
BEGIN:STANDARD
TZOFFSETFROM:-0700
TZOFFSETTO:-0800
TZNAME:PST
DTSTART:20211107T090000
END:STANDARD
END:VTIMEZONE
BEGIN:VEVENT
DTSTART;VALUE=DATE:20201231
DTEND;VALUE=DATE:20210101
DTSTAMP:20260420T122119
CREATED:20201229T024933Z
LAST-MODIFIED:20201229T024947Z
UID:2784-1609372800-1609459199@beadsatdusticreek.com
SUMMARY:BDC OPEN ALL DAY\, New Year's Eve !
DESCRIPTION:Yes\, BDC will be OPEN All Day\,  \nThursday\, December 31\, 2020.   \nRegular Hours\, 11 AM to  6 PM.   \nWe just thought you might want to know.   \nIf not\, we’ll look forward to seeing you in 2021. \n  \n  \n  \n 
URL:https://beadsatdusticreek.com/event/bdc-open-all-day-new-years-eve/
END:VEVENT
BEGIN:VEVENT
DTSTART;VALUE=DATE:20201231
DTEND;VALUE=DATE:20210101
DTSTAMP:20260420T122119
CREATED:20201231T203342Z
LAST-MODIFIED:20201231T203645Z
UID:2791-1609372800-1609459199@beadsatdusticreek.com
SUMMARY:20% OFF Everything\, Dec. 31\, 2020
DESCRIPTION:Hi\, Fellow Beaders. \nWe’re saying “Goodbye” to 2020 with a 20% OFF Sale on Everything in the shop. \nThat’s TODAY ONLY\, Thursday\, Dec. 31\, 2020.   \nWe’re open our normal hours\, 11A to 6P.   \nWe hope to see you\, if not today\, in the New Year. \nDusti & Eric
URL:https://beadsatdusticreek.com/event/20-off-everything-dec-31-2020/
END:VEVENT
END:VCALENDAR