BEGIN:VCALENDAR
VERSION:2.0
PRODID:-//Beads At Dusti Creek - ECPv6.15.20//NONSGML v1.0//EN
CALSCALE:GREGORIAN
METHOD:PUBLISH
X-WR-CALNAME:Beads At Dusti Creek
X-ORIGINAL-URL:https://beadsatdusticreek.com
X-WR-CALDESC:Events for Beads At Dusti Creek
REFRESH-INTERVAL;VALUE=DURATION:PT1H
X-Robots-Tag:noindex
X-PUBLISHED-TTL:PT1H
BEGIN:VTIMEZONE
TZID:America/Los_Angeles
BEGIN:DAYLIGHT
TZOFFSETFROM:-0800
TZOFFSETTO:-0700
TZNAME:PDT
DTSTART:20200308T100000
END:DAYLIGHT
BEGIN:STANDARD
TZOFFSETFROM:-0700
TZOFFSETTO:-0800
TZNAME:PST
DTSTART:20201101T090000
END:STANDARD
BEGIN:DAYLIGHT
TZOFFSETFROM:-0800
TZOFFSETTO:-0700
TZNAME:PDT
DTSTART:20210314T100000
END:DAYLIGHT
BEGIN:STANDARD
TZOFFSETFROM:-0700
TZOFFSETTO:-0800
TZNAME:PST
DTSTART:20211107T090000
END:STANDARD
BEGIN:DAYLIGHT
TZOFFSETFROM:-0800
TZOFFSETTO:-0700
TZNAME:PDT
DTSTART:20220313T100000
END:DAYLIGHT
BEGIN:STANDARD
TZOFFSETFROM:-0700
TZOFFSETTO:-0800
TZNAME:PST
DTSTART:20221106T090000
END:STANDARD
END:VTIMEZONE
BEGIN:VEVENT
DTSTART;VALUE=DATE:20210220
DTEND;VALUE=DATE:20210223
DTSTAMP:20260420T103259
CREATED:20210218T021044Z
LAST-MODIFIED:20210218T021655Z
UID:2267-1613779200-1614038399@beadsatdusticreek.com
SUMMARY:Janu Gems T.S. Feb. 20 - 22\, 2021
DESCRIPTION:In a change of pace\, Theodore\, of Janu Gems\, is holding a   \nWeekend Trunk Show  \nAt BDC This \nSaturday thru Monday    \n(Ok\, Monday is part of the workweek.) \nSo it’s This Weekend\, (& Monday\, too!) \nFebruary 20 – 22\, 2021   \n  \n\nFirst\, the NEW.   Janu Gems is pleased to be offering an expanded assortment of Loose Stones (Gemstone quality)\, as well as more Finished Jewelry.  All at tempting prices.\n\n  \n\nNext\, Special Pricing on Large Size Beads.  These are entry-level beads that are priced by the gram\, rather than by the strand.  The result is that they will be sold at up to 75% OFF their Retail price.\n\n  \n\nFinally\, For those of you who want to avoid being stymied during the next “Snowpocalypse”\, any Janu Gems purchase will entitle you to 15% OFF on any BDC Findings.  (Some already discounted Bulk findings are excluded. )\n\n  \nHe sent along some candid shots of the special items that he’ll be bringing for you\, our customers. \n \n \n \n \n    And there will be plenty of your favorites. \n   Yes.  It’s an “Event.”  Anytime Janu Gems is at BDC ! \nWould you like to see more of Theodore’s offerings?   \nClick Here
URL:https://beadsatdusticreek.com/event/janu-gems-t-s-feb-20-22-2021/
END:VEVENT
END:VCALENDAR