BEGIN:VCALENDAR
VERSION:2.0
PRODID:-//Beads At Dusti Creek - ECPv6.15.20//NONSGML v1.0//EN
CALSCALE:GREGORIAN
METHOD:PUBLISH
X-ORIGINAL-URL:https://beadsatdusticreek.com
X-WR-CALDESC:Events for Beads At Dusti Creek
REFRESH-INTERVAL;VALUE=DURATION:PT1H
X-Robots-Tag:noindex
X-PUBLISHED-TTL:PT1H
BEGIN:VTIMEZONE
TZID:America/Denver
BEGIN:DAYLIGHT
TZOFFSETFROM:-0700
TZOFFSETTO:-0600
TZNAME:MDT
DTSTART:20200308T090000
END:DAYLIGHT
BEGIN:STANDARD
TZOFFSETFROM:-0600
TZOFFSETTO:-0700
TZNAME:MST
DTSTART:20201101T080000
END:STANDARD
BEGIN:DAYLIGHT
TZOFFSETFROM:-0700
TZOFFSETTO:-0600
TZNAME:MDT
DTSTART:20210314T090000
END:DAYLIGHT
BEGIN:STANDARD
TZOFFSETFROM:-0600
TZOFFSETTO:-0700
TZNAME:MST
DTSTART:20211107T080000
END:STANDARD
BEGIN:DAYLIGHT
TZOFFSETFROM:-0700
TZOFFSETTO:-0600
TZNAME:MDT
DTSTART:20220313T090000
END:DAYLIGHT
BEGIN:STANDARD
TZOFFSETFROM:-0600
TZOFFSETTO:-0700
TZNAME:MST
DTSTART:20221106T080000
END:STANDARD
END:VTIMEZONE
BEGIN:VEVENT
DTSTART;TZID=America/Denver:20211224T110000
DTEND;TZID=America/Denver:20211224T140000
DTSTAMP:20260420T120203
CREATED:20211224T015042Z
LAST-MODIFIED:20211224T015148Z
UID:3156-1640343600-1640354400@beadsatdusticreek.com
SUMMARY:BDC Closes at 2 PM\, Friday\, Christmas Eve.
DESCRIPTION:BDC Wishes you a \nMerry Christmas\, & a Happy New Year. \nBDC Closes at 2 PM on Christmas Eve\, Friday\, Dec. 24\, 2021. \nWe will also be Closed for Christmas Day\, Saturday\, Dec. 25\, 2021. \n \nWe will Re-Open at 10 AM\, on Sunday\,  \nDecember 26th\, 2021
URL:https://beadsatdusticreek.com/event/bdc-closes-at-2-pm-saturday-christmas-eve/
END:VEVENT
BEGIN:VEVENT
DTSTART;TZID=America/Denver:20211224T110000
DTEND;TZID=America/Denver:20211224T140000
DTSTAMP:20260420T120203
CREATED:20221121T151456Z
LAST-MODIFIED:20221121T151456Z
UID:3422-1640343600-1640354400@beadsatdusticreek.com
SUMMARY:BDC Closes at 2 PM\, Friday\, Christmas Eve.
DESCRIPTION:BDC Wishes you a \nMerry Christmas\, & a Happy New Year. \nBDC Closes at 2 PM on Christmas Eve\, Saturday\, Dec. 24\, 2022. \nWe will also be Closed for Christmas Day\, Sunday\, Dec. 25\, 2022. \n \nWe will Re-Open at 10 AM\, on Monday\,  \nDecember 26th\, 2022
URL:https://beadsatdusticreek.com/event/bdc-closes-at-2-pm-friday-christmas-eve/
END:VEVENT
END:VCALENDAR