BEGIN:VCALENDAR
VERSION:2.0
PRODID:-//Beads At Dusti Creek - ECPv6.15.20//NONSGML v1.0//EN
CALSCALE:GREGORIAN
METHOD:PUBLISH
X-WR-CALNAME:Beads At Dusti Creek
X-ORIGINAL-URL:https://beadsatdusticreek.com
X-WR-CALDESC:Events for Beads At Dusti Creek
REFRESH-INTERVAL;VALUE=DURATION:PT1H
X-Robots-Tag:noindex
X-PUBLISHED-TTL:PT1H
BEGIN:VTIMEZONE
TZID:America/Los_Angeles
BEGIN:DAYLIGHT
TZOFFSETFROM:-0800
TZOFFSETTO:-0700
TZNAME:PDT
DTSTART:20200308T100000
END:DAYLIGHT
BEGIN:STANDARD
TZOFFSETFROM:-0700
TZOFFSETTO:-0800
TZNAME:PST
DTSTART:20201101T090000
END:STANDARD
BEGIN:DAYLIGHT
TZOFFSETFROM:-0800
TZOFFSETTO:-0700
TZNAME:PDT
DTSTART:20210314T100000
END:DAYLIGHT
BEGIN:STANDARD
TZOFFSETFROM:-0700
TZOFFSETTO:-0800
TZNAME:PST
DTSTART:20211107T090000
END:STANDARD
BEGIN:DAYLIGHT
TZOFFSETFROM:-0800
TZOFFSETTO:-0700
TZNAME:PDT
DTSTART:20220313T100000
END:DAYLIGHT
BEGIN:STANDARD
TZOFFSETFROM:-0700
TZOFFSETTO:-0800
TZNAME:PST
DTSTART:20221106T090000
END:STANDARD
END:VTIMEZONE
BEGIN:VEVENT
DTSTART;VALUE=DATE:20211225
DTEND;VALUE=DATE:20211226
DTSTAMP:20260420T103308
CREATED:20211224T013952Z
LAST-MODIFIED:20211224T013952Z
UID:3153-1640390400-1640476799@beadsatdusticreek.com
SUMMARY:Christmas Day - BDC CLOSED
DESCRIPTION:We are CLOSED this Saturday\, December 25th\, in observance of  \nChristmas Day. \nWe’ll be back on Sunday\, December 26th\, (Boxing Day) to serve all your beading needs. \nMerry Christmas\,  Everybody !.
URL:https://beadsatdusticreek.com/event/christmas-day-bdc-closed-3/
END:VEVENT
END:VCALENDAR