BEGIN:VCALENDAR
VERSION:2.0
PRODID:-//Beads At Dusti Creek - ECPv6.15.20//NONSGML v1.0//EN
CALSCALE:GREGORIAN
METHOD:PUBLISH
X-WR-CALNAME:Beads At Dusti Creek
X-ORIGINAL-URL:https://beadsatdusticreek.com
X-WR-CALDESC:Events for Beads At Dusti Creek
REFRESH-INTERVAL;VALUE=DURATION:PT1H
X-Robots-Tag:noindex
X-PUBLISHED-TTL:PT1H
BEGIN:VTIMEZONE
TZID:America/Los_Angeles
BEGIN:DAYLIGHT
TZOFFSETFROM:-0800
TZOFFSETTO:-0700
TZNAME:PDT
DTSTART:20210314T100000
END:DAYLIGHT
BEGIN:STANDARD
TZOFFSETFROM:-0700
TZOFFSETTO:-0800
TZNAME:PST
DTSTART:20211107T090000
END:STANDARD
BEGIN:DAYLIGHT
TZOFFSETFROM:-0800
TZOFFSETTO:-0700
TZNAME:PDT
DTSTART:20220313T100000
END:DAYLIGHT
BEGIN:STANDARD
TZOFFSETFROM:-0700
TZOFFSETTO:-0800
TZNAME:PST
DTSTART:20221106T090000
END:STANDARD
BEGIN:DAYLIGHT
TZOFFSETFROM:-0800
TZOFFSETTO:-0700
TZNAME:PDT
DTSTART:20230312T100000
END:DAYLIGHT
BEGIN:STANDARD
TZOFFSETFROM:-0700
TZOFFSETTO:-0800
TZNAME:PST
DTSTART:20231105T090000
END:STANDARD
END:VTIMEZONE
BEGIN:VEVENT
DTSTART;VALUE=DATE:20220417
DTEND;VALUE=DATE:20220418
DTSTAMP:20260420T172237
CREATED:20220417T035931Z
LAST-MODIFIED:20220417T035931Z
UID:3254-1650153600-1650239999@beadsatdusticreek.com
SUMMARY:BDC CLOSED for Easter Sunday.
DESCRIPTION:Beads At Dusti Creek will be CLOSED for Easter Sunday. We’ll look forward to serving your beading needs once again\, starting  Monday\, April 18th. 
URL:https://beadsatdusticreek.com/event/bdc-closed-for-easter-sunday-4/
END:VEVENT
END:VCALENDAR