BEGIN:VCALENDAR
VERSION:2.0
PRODID:-//Beads At Dusti Creek - ECPv6.15.20//NONSGML v1.0//EN
CALSCALE:GREGORIAN
METHOD:PUBLISH
X-WR-CALNAME:Beads At Dusti Creek
X-ORIGINAL-URL:https://beadsatdusticreek.com
X-WR-CALDESC:Events for Beads At Dusti Creek
REFRESH-INTERVAL;VALUE=DURATION:PT1H
X-Robots-Tag:noindex
X-PUBLISHED-TTL:PT1H
BEGIN:VTIMEZONE
TZID:America/Los_Angeles
BEGIN:DAYLIGHT
TZOFFSETFROM:-0800
TZOFFSETTO:-0700
TZNAME:PDT
DTSTART:20240310T100000
END:DAYLIGHT
BEGIN:STANDARD
TZOFFSETFROM:-0700
TZOFFSETTO:-0800
TZNAME:PST
DTSTART:20241103T090000
END:STANDARD
BEGIN:DAYLIGHT
TZOFFSETFROM:-0800
TZOFFSETTO:-0700
TZNAME:PDT
DTSTART:20250309T100000
END:DAYLIGHT
BEGIN:STANDARD
TZOFFSETFROM:-0700
TZOFFSETTO:-0800
TZNAME:PST
DTSTART:20251102T090000
END:STANDARD
BEGIN:DAYLIGHT
TZOFFSETFROM:-0800
TZOFFSETTO:-0700
TZNAME:PDT
DTSTART:20260308T100000
END:DAYLIGHT
BEGIN:STANDARD
TZOFFSETFROM:-0700
TZOFFSETTO:-0800
TZNAME:PST
DTSTART:20261101T090000
END:STANDARD
END:VTIMEZONE
BEGIN:VEVENT
DTSTART;VALUE=DATE:20250620
DTEND;VALUE=DATE:20250621
DTSTAMP:20260420T103309
CREATED:20250618T230559Z
LAST-MODIFIED:20250618T230559Z
UID:4017-1750377600-1750463999@beadsatdusticreek.com
SUMMARY:Dress Like a Druid Day
DESCRIPTION:Today\, Friday\, June 20th is the First Day of Summer\, and also the Summer Solstice.  The Longest Day of the year\, in the Northern Hemisphere. \nSo\, in recognition of this Special Day\, BDC is offering a 10% Discount of virtually all items in the shop to  our Customers who shop with us on Friday  dressed like a Druid.  Please mention your Costume and Discount when Checking out!  \n(Our Staff’s opinion  about your Costume is Final\, however they’ve been instructed to be generous. 🙂 ) \n 
URL:https://beadsatdusticreek.com/event/dress-like-a-druid-day/
END:VEVENT
END:VCALENDAR