BEGIN:VCALENDAR
VERSION:2.0
PRODID:-//Beads At Dusti Creek - ECPv6.15.20//NONSGML v1.0//EN
CALSCALE:GREGORIAN
METHOD:PUBLISH
X-ORIGINAL-URL:https://beadsatdusticreek.com
X-WR-CALDESC:Events for Beads At Dusti Creek
REFRESH-INTERVAL;VALUE=DURATION:PT1H
X-Robots-Tag:noindex
X-PUBLISHED-TTL:PT1H
BEGIN:VTIMEZONE
TZID:America/Los_Angeles
BEGIN:DAYLIGHT
TZOFFSETFROM:-0800
TZOFFSETTO:-0700
TZNAME:PDT
DTSTART:20240310T100000
END:DAYLIGHT
BEGIN:STANDARD
TZOFFSETFROM:-0700
TZOFFSETTO:-0800
TZNAME:PST
DTSTART:20241103T090000
END:STANDARD
BEGIN:DAYLIGHT
TZOFFSETFROM:-0800
TZOFFSETTO:-0700
TZNAME:PDT
DTSTART:20250309T100000
END:DAYLIGHT
BEGIN:STANDARD
TZOFFSETFROM:-0700
TZOFFSETTO:-0800
TZNAME:PST
DTSTART:20251102T090000
END:STANDARD
BEGIN:DAYLIGHT
TZOFFSETFROM:-0800
TZOFFSETTO:-0700
TZNAME:PDT
DTSTART:20260308T100000
END:DAYLIGHT
BEGIN:STANDARD
TZOFFSETFROM:-0700
TZOFFSETTO:-0800
TZNAME:PST
DTSTART:20261101T090000
END:STANDARD
END:VTIMEZONE
BEGIN:VEVENT
DTSTART;VALUE=DATE:20251212
DTEND;VALUE=DATE:20251215
DTSTAMP:20260420T061447
CREATED:20251212T022056Z
LAST-MODIFIED:20251212T023209Z
UID:4159-1765497600-1765756799@beadsatdusticreek.com
SUMMARY:BDC "Artists in Residence" T.S.
DESCRIPTION:As a patron of Beads At Dusti Creek\, you are already aware of our shop’s expertise in Heirloom jewelry revival.  We bring your cherished pieces back to life\, thanks to our Beading Magicians who rescue treasures from the forgotten corners of your jewelry box.     \n  \nBut you may not be aware that our Staff are artists in their own right.  We will feature them in two trunk shows this December\, each lasting three days\, over two consecutive weekends.  December 5 – 7\, and December 12 – 14.  Here\, you’ll find all the traditional beaded jewelry\, including bracelets\, earrings\, and necklaces. However\, that’s not all; they also offer handmade greeting cards and novelty items\, such as beaded bookmarks. Expect a range of carefully crafted treasures. \n  \nJoin us for two special weekends\, December 5-7 and December 12-14\, as BDC presents our talented bead artists showcasing their creativity and expertise. \nYou’ll meet the artists themselves: \nJennifer                “North of Rain” \nClare                     “Clare De Lune” \nAnn                       “Cheap & Cheerful” \nKaren                    “From the Heart” \nKrista                    “Zoned Out Creations” \nCome see how the Muse moves these artists. And\, as our British friends like to say\, their inspired pieces will be “on offer.”  
URL:https://beadsatdusticreek.com/event/bdc-artists-in-residence-t-s/
END:VEVENT
END:VCALENDAR