BEGIN:VCALENDAR
VERSION:2.0
PRODID:-//Beads At Dusti Creek - ECPv6.15.20//NONSGML v1.0//EN
CALSCALE:GREGORIAN
METHOD:PUBLISH
X-WR-CALNAME:Beads At Dusti Creek
X-ORIGINAL-URL:https://beadsatdusticreek.com
X-WR-CALDESC:Events for Beads At Dusti Creek
REFRESH-INTERVAL;VALUE=DURATION:PT1H
X-Robots-Tag:noindex
X-PUBLISHED-TTL:PT1H
BEGIN:VTIMEZONE
TZID:America/Los_Angeles
BEGIN:DAYLIGHT
TZOFFSETFROM:-0800
TZOFFSETTO:-0700
TZNAME:PDT
DTSTART:20200308T100000
END:DAYLIGHT
BEGIN:STANDARD
TZOFFSETFROM:-0700
TZOFFSETTO:-0800
TZNAME:PST
DTSTART:20201101T090000
END:STANDARD
BEGIN:DAYLIGHT
TZOFFSETFROM:-0800
TZOFFSETTO:-0700
TZNAME:PDT
DTSTART:20210314T100000
END:DAYLIGHT
BEGIN:STANDARD
TZOFFSETFROM:-0700
TZOFFSETTO:-0800
TZNAME:PST
DTSTART:20211107T090000
END:STANDARD
BEGIN:DAYLIGHT
TZOFFSETFROM:-0800
TZOFFSETTO:-0700
TZNAME:PDT
DTSTART:20220313T100000
END:DAYLIGHT
BEGIN:STANDARD
TZOFFSETFROM:-0700
TZOFFSETTO:-0800
TZNAME:PST
DTSTART:20221106T090000
END:STANDARD
END:VTIMEZONE
BEGIN:VEVENT
DTSTART;VALUE=DATE:20210907
DTEND;VALUE=DATE:20210908
DTSTAMP:20260420T085134
CREATED:20210903T233659Z
LAST-MODIFIED:20210903T233659Z
UID:3025-1630972800-1631059199@beadsatdusticreek.com
SUMMARY:BDC CLOSED on Tuesdays
DESCRIPTION:We’re CLOSED on Tuesdays.  It’s the one day each week that we rest\, relax\, and take stock. \nTuesday closures were not chosen at random: Traditionally\, Tuesdays have had the lowest number of Customer visits of any day of the week.  And we want to be at our best when you do come in. \nWe look forward to serving all of your beading needs on Wednesday\, Thursday\, Friday\, or any other day of the week.   \nJust not Tuesdays.  🙂 \nDusti \n 
URL:https://beadsatdusticreek.com/event/bdc-closed-on-tuesdays-109/
END:VEVENT
BEGIN:VEVENT
DTSTART;TZID=America/Los_Angeles:20210906T080000
DTEND;TZID=America/Los_Angeles:20210906T170000
DTSTAMP:20260420T085134
CREATED:20210904T012215Z
LAST-MODIFIED:20210904T012430Z
UID:3042-1630915200-1630947600@beadsatdusticreek.com
SUMMARY:BDC CLOSED Labor Day\, Sept. 6
DESCRIPTION: Homage to our Labor Heritage. \n\nBDC will be CLOSED on Monday\, Sept. 6th in recognition of the Labor Day Holiday.   Tuesday\, September 7th is our Regular Weekly CLOSED day\,  so we will return to OPEN and serve all your beading needs on Wednesday\, September 8th.  \n \n  \n 
URL:https://beadsatdusticreek.com/event/bdc-closed-monday-sept-6/
END:VEVENT
BEGIN:VEVENT
DTSTART;VALUE=DATE:20210831
DTEND;VALUE=DATE:20210901
DTSTAMP:20260420T085134
CREATED:20210703T223500Z
LAST-MODIFIED:20210703T223652Z
UID:3008-1630368000-1630454399@beadsatdusticreek.com
SUMMARY:BDC CLOSED on Tuesdays
DESCRIPTION:We’re CLOSED on Tuesdays.  It’s the one day each week that we rest\, relax\, and take stock. \nTuesday closures were not chosen at random: Traditionally\, Tuesdays have had the lowest number of Customer visits of any day of the week.  And we want to be at our best when you do come in. \nWe look forward to serving all of your beading needs on Wednesday\, Thursday\, Friday\, or any other day of the week.   \nJust not Tuesdays.  🙂 \nDusti \n 
URL:https://beadsatdusticreek.com/event/bdc-closed-on-tuesdays-107/
END:VEVENT
BEGIN:VEVENT
DTSTART;VALUE=DATE:20210824
DTEND;VALUE=DATE:20210825
DTSTAMP:20260420T085134
CREATED:20210703T223740Z
LAST-MODIFIED:20210703T223740Z
UID:3010-1629763200-1629849599@beadsatdusticreek.com
SUMMARY:BDC CLOSED on Tuesdays
DESCRIPTION:We’re CLOSED on Tuesdays.  It’s the one day each week that we rest\, relax\, and take stock. \nTuesday closures were not chosen at random: Traditionally\, Tuesdays have had the lowest number of Customer visits of any day of the week.  And we want to be at our best when you do come in. \nWe look forward to serving all of your beading needs on Wednesday\, Thursday\, Friday\, or any other day of the week.   \nJust not Tuesdays.  🙂 \nDusti \n 
URL:https://beadsatdusticreek.com/event/bdc-closed-on-tuesdays-108/
END:VEVENT
BEGIN:VEVENT
DTSTART;VALUE=DATE:20210817
DTEND;VALUE=DATE:20210818
DTSTAMP:20260420T085134
CREATED:20210703T223411Z
LAST-MODIFIED:20210703T223411Z
UID:3006-1629158400-1629244799@beadsatdusticreek.com
SUMMARY:BDC CLOSED on Tuesdays
DESCRIPTION:We’re CLOSED on Tuesdays.  It’s the one day each week that we rest\, relax\, and take stock. \nTuesday closures were not chosen at random: Traditionally\, Tuesdays have had the lowest number of Customer visits of any day of the week.  And we want to be at our best when you do come in. \nWe look forward to serving all of your beading needs on Wednesday\, Thursday\, Friday\, or any other day of the week.   \nJust not Tuesdays.  🙂 \nDusti \n 
URL:https://beadsatdusticreek.com/event/bdc-closed-on-tuesdays-106/
END:VEVENT
BEGIN:VEVENT
DTSTART;VALUE=DATE:20210810
DTEND;VALUE=DATE:20210811
DTSTAMP:20260420T085134
CREATED:20210703T222844Z
LAST-MODIFIED:20210703T222844Z
UID:2985-1628553600-1628639999@beadsatdusticreek.com
SUMMARY:BDC CLOSED on Tuesdays
DESCRIPTION:We’re CLOSED on Tuesdays.  It’s the one day each week that we rest\, relax\, and take stock. \nTuesday closures were not chosen at random: Traditionally\, Tuesdays have had the lowest number of Customer visits of any day of the week.  And we want to be at our best when you do come in. \nWe look forward to serving all of your beading needs on Wednesday\, Thursday\, Friday\, or any other day of the week.   \nJust not Tuesdays.  🙂 \nDusti \n 
URL:https://beadsatdusticreek.com/event/bdc-closed-on-tuesdays-105/
END:VEVENT
BEGIN:VEVENT
DTSTART;VALUE=DATE:20210803
DTEND;VALUE=DATE:20210804
DTSTAMP:20260420T085134
CREATED:20210703T222809Z
LAST-MODIFIED:20210703T222809Z
UID:2986-1627948800-1628035199@beadsatdusticreek.com
SUMMARY:BDC CLOSED on Tuesdays
DESCRIPTION:We’re CLOSED on Tuesdays.  It’s the one day each week that we rest\, relax\, and take stock. \nTuesday closures were not chosen at random: Traditionally\, Tuesdays have had the lowest number of Customer visits of any day of the week.  And we want to be at our best when you do come in. \nWe look forward to serving all of your beading needs on Wednesday\, Thursday\, Friday\, or any other day of the week.   \nJust not Tuesdays.  🙂 \nDusti \n 
URL:https://beadsatdusticreek.com/event/bdc-closed-on-tuesdays-104/
END:VEVENT
BEGIN:VEVENT
DTSTART;VALUE=DATE:20210727
DTEND;VALUE=DATE:20210728
DTSTAMP:20260420T085134
CREATED:20210703T222726Z
LAST-MODIFIED:20210703T222726Z
UID:2987-1627344000-1627430399@beadsatdusticreek.com
SUMMARY:BDC CLOSED on Tuesdays
DESCRIPTION:We’re CLOSED on Tuesdays.  It’s the one day each week that we rest\, relax\, and take stock. \nTuesday closures were not chosen at random: Traditionally\, Tuesdays have had the lowest number of Customer visits of any day of the week.  And we want to be at our best when you do come in. \nWe look forward to serving all of your beading needs on Wednesday\, Thursday\, Friday\, or any other day of the week.   \nJust not Tuesdays.  🙂 \nDusti \n 
URL:https://beadsatdusticreek.com/event/bdc-closed-on-tuesdays-103/
END:VEVENT
BEGIN:VEVENT
DTSTART;VALUE=DATE:20210720
DTEND;VALUE=DATE:20210721
DTSTAMP:20260420T085134
CREATED:20210703T222654Z
LAST-MODIFIED:20210703T222654Z
UID:2989-1626739200-1626825599@beadsatdusticreek.com
SUMMARY:BDC CLOSED on Tuesdays
DESCRIPTION:We’re CLOSED on Tuesdays.  It’s the one day each week that we rest\, relax\, and take stock. \nTuesday closures were not chosen at random: Traditionally\, Tuesdays have had the lowest number of Customer visits of any day of the week.  And we want to be at our best when you do come in. \nWe look forward to serving all of your beading needs on Wednesday\, Thursday\, Friday\, or any other day of the week.   \nJust not Tuesdays.  🙂 \nDusti \n 
URL:https://beadsatdusticreek.com/event/bdc-closed-on-tuesdays-102/
END:VEVENT
BEGIN:VEVENT
DTSTART;VALUE=DATE:20210713
DTEND;VALUE=DATE:20210714
DTSTAMP:20260420T085134
CREATED:20210703T222603Z
LAST-MODIFIED:20210703T222603Z
UID:2988-1626134400-1626220799@beadsatdusticreek.com
SUMMARY:BDC CLOSED on Tuesdays
DESCRIPTION:We’re CLOSED on Tuesdays.  It’s the one day each week that we rest\, relax\, and take stock. \nTuesday closures were not chosen at random: Traditionally\, Tuesdays have had the lowest number of Customer visits of any day of the week.  And we want to be at our best when you do come in. \nWe look forward to serving all of your beading needs on Wednesday\, Thursday\, Friday\, or any other day of the week.   \nJust not Tuesdays.  🙂 \nDusti \n 
URL:https://beadsatdusticreek.com/event/bdc-closed-on-tuesdays-100/
END:VEVENT
BEGIN:VEVENT
DTSTART;VALUE=DATE:20210706
DTEND;VALUE=DATE:20210707
DTSTAMP:20260420T085134
CREATED:20210703T222322Z
LAST-MODIFIED:20210703T222322Z
UID:2982-1625529600-1625615999@beadsatdusticreek.com
SUMMARY:BDC CLOSED on Tuesdays
DESCRIPTION:We’re CLOSED on Tuesdays.  It’s the one day each week that we rest\, relax\, and take stock. \nTuesday closures were not chosen at random: Traditionally\, Tuesdays have had the lowest number of Customer visits of any day of the week.  And we want to be at our best when you do come in. \nWe look forward to serving all of your beading needs on Wednesday\, Thursday\, Friday\, or any other day of the week.   \nJust not Tuesdays.  🙂 \nDusti \n 
URL:https://beadsatdusticreek.com/event/bdc-closed-on-tuesdays-101/
END:VEVENT
BEGIN:VEVENT
DTSTART;VALUE=DATE:20210705
DTEND;VALUE=DATE:20210706
DTSTAMP:20260420T085134
CREATED:20210703T225203Z
LAST-MODIFIED:20210703T230007Z
UID:3012-1625443200-1625529599@beadsatdusticreek.com
SUMMARY:BDC OPEN Monday\, July 5th !
DESCRIPTION:While Monday\, July 5th is the “Official” Forth of July Holiday Observance\, it’s not ours.  We celebrate our Declaration of Independence on the actual day\, July 4th.  That’s why we were closed yesterday\, Sunday. \nHowever\, because many of our customers are off work on the “Official” day\, and may have an opportunity today to come by that they otherwise wouldn’t\, we’re going to be OPEN on Monday. \nConfused?  Thank Congress. \n“Suppose you were an idiot\, and suppose you were a member of Congress; but I repeat myself.” ~ Mark Twain \nWe welcome all non-congressional peoples to BDC today\, Monday\, July 5th\, 2021\, the non-Independence Day. 😀 
URL:https://beadsatdusticreek.com/event/bdc-open-monday-july-5th/
END:VEVENT
BEGIN:VEVENT
DTSTART;VALUE=DATE:20210704
DTEND;VALUE=DATE:20210705
DTSTAMP:20260420T085134
CREATED:20210703T221205Z
LAST-MODIFIED:20210703T221205Z
UID:2977-1625356800-1625443199@beadsatdusticreek.com
SUMMARY:BDC CLOSED July 4th
DESCRIPTION:BDC CLOSED for Independence Day\, July 4th. \n\nWe pause this 4th of July to remember the courage\, strength\, and perseverance of Molly Pitcher\, during the Battle of Monmouth. Stepping in to load and fire the cannon when the regular gun crew was killed and injured\, she remained calm under enemy fire. This was not part of her normal training or experience\, but she was no shrinking violet. And yet she was nimble enough to get the job done. She even earned recognition from General Washington.\n\n\nWe believe that creative problem solving such as found in bead work\, (planning\, design\, and execution) nurtures the creative muscle\, and helps make the mind more nimble. So we celebrate Molly Pitcher this 4th of July. \nStay Nimble. \nDusti
URL:https://beadsatdusticreek.com/event/bdc-closed-july-4th-3/
END:VEVENT
BEGIN:VEVENT
DTSTART;VALUE=DATE:20210625
DTEND;VALUE=DATE:20210628
DTSTAMP:20260420T085134
CREATED:20210619T001906Z
LAST-MODIFIED:20210626T012855Z
UID:2951-1624579200-1624838399@beadsatdusticreek.com
SUMMARY:Janu Gems T.S. @ BDC
DESCRIPTION:Even though it may “feel” like we’re going to \n be living  in the Desert Southwest\,  \nThis weekend Janu Gems\, is holding a  \nTrunk Show at BDC.  \nFriday thru Sunday  \nJune 25 thru 27\, 2021 \n  \nJanu Gems is pleased to be offering an expanded assortment of Loose Stones (Gem stone quality)\, as well as more Finished Jewelry.  All at tempting prices.  He’s offering the loose beads either by the scoop (gram weight) or by the individual bead.  Either way\, you’ll find great prices. \nHere are some candid shots of the other items \nthat he’ll be bringing for you\, our customers.\n \n \n \n \n    And there will be plenty of your favorites. \n   Yes.  It’s an “Event.”  Anytime Janu Gems is at BDC ! \nWould you like to see more of Theodore’s offerings?   \nClick Here
URL:https://beadsatdusticreek.com/event/janu-gems-t-s-bdc-6/
END:VEVENT
BEGIN:VEVENT
DTSTART;VALUE=DATE:20210601
DTEND;VALUE=DATE:20210602
DTSTAMP:20260420T085134
CREATED:20210424T184412Z
LAST-MODIFIED:20210424T184412Z
UID:2904-1622505600-1622591999@beadsatdusticreek.com
SUMMARY:BDC CLOSED on Tuesdays
DESCRIPTION:
URL:https://beadsatdusticreek.com/event/bdc-closed-on-tuesdays-99/
END:VEVENT
BEGIN:VEVENT
DTSTART;VALUE=DATE:20210531
DTEND;VALUE=DATE:20210601
DTSTAMP:20260420T085134
CREATED:20210528T015906Z
LAST-MODIFIED:20210529T191206Z
UID:2923-1622419200-1622505599@beadsatdusticreek.com
SUMMARY:BDC CLOSED - MONDAY - Memorial Day
DESCRIPTION:BDC will be CLOSED for Memorial Day  (Decoration Day)\, which is Monday\, May 31st\, this year.  We will also be Closed on Tuesday\, June 1st\, as our normal\, weekly Closed day.   \nWe will re-open on Wednesday\, June 2nd\, at 11 AM. \nPlease note\,  we will be OPEN all this Weekend\, Saturday & Sunday\, May 29th & 30th\, Prior to Memorial  Day\, to serve your beading needs. \nSo Plan Appropriately! \nBut whenever you come to visit\, we will be delighted to see you. \n 
URL:https://beadsatdusticreek.com/event/bdc-closed-monday-for-memorial-day/
END:VEVENT
BEGIN:VEVENT
DTSTART;VALUE=DATE:20210529
DTEND;VALUE=DATE:20210531
DTSTAMP:20260420T085134
CREATED:20210529T165853Z
LAST-MODIFIED:20210529T192841Z
UID:2928-1622246400-1622419199@beadsatdusticreek.com
SUMMARY:BDC OPEN This Wk End (Sat. & Sun.)
DESCRIPTION:Got some spare time over the long weekend? \nThinking about working on that beading project? \nBDC will be OPEN both Saturday\, May 29th &  \nSunday\, May 30th. \nLet us fill your beading needs.   \nBe ready to relax on Monday.     😎
URL:https://beadsatdusticreek.com/event/bdc-open/
END:VEVENT
BEGIN:VEVENT
DTSTART;VALUE=DATE:20210525
DTEND;VALUE=DATE:20210526
DTSTAMP:20260420T085134
CREATED:20210413T182525Z
LAST-MODIFIED:20210424T184134Z
UID:2892-1621900800-1621987199@beadsatdusticreek.com
SUMMARY:BDC CLOSED on Tuesdays
DESCRIPTION:
URL:https://beadsatdusticreek.com/event/bdc-closed-on-tuesdays-97/
END:VEVENT
BEGIN:VEVENT
DTSTART;VALUE=DATE:20210524
DTEND;VALUE=DATE:20210525
DTSTAMP:20260420T085134
CREATED:20210424T184844Z
LAST-MODIFIED:20210424T185227Z
UID:2907-1621814400-1621900799@beadsatdusticreek.com
SUMMARY:BDC CLOSED on Memorial Day
DESCRIPTION: BDC will be CLOSED on Monday\, May 24th\, in observance of Memorial Day. \nTuesday\, May 25th is a normally CLOSED day for BDC.  \nWe will return to serve all your beading needs on Wednesday\, May 26th. 
URL:https://beadsatdusticreek.com/event/bdc-closed-memorial-day-3/
END:VEVENT
BEGIN:VEVENT
DTSTART;VALUE=DATE:20210518
DTEND;VALUE=DATE:20210519
DTSTAMP:20260420T085134
CREATED:20210424T184241Z
LAST-MODIFIED:20210424T184241Z
UID:2903-1621296000-1621382399@beadsatdusticreek.com
SUMMARY:BDC CLOSED on Tuesdays
DESCRIPTION:
URL:https://beadsatdusticreek.com/event/bdc-closed-on-tuesdays-98/
END:VEVENT
BEGIN:VEVENT
DTSTART;VALUE=DATE:20210511
DTEND;VALUE=DATE:20210512
DTSTAMP:20260420T085134
CREATED:20210424T184047Z
LAST-MODIFIED:20210424T184047Z
UID:2893-1620691200-1620777599@beadsatdusticreek.com
SUMMARY:BDC CLOSED on Tuesdays
DESCRIPTION:
URL:https://beadsatdusticreek.com/event/bdc-closed-on-tuesdays-96/
END:VEVENT
BEGIN:VEVENT
DTSTART;VALUE=DATE:20210507
DTEND;VALUE=DATE:20210510
DTSTAMP:20260420T085134
CREATED:20210424T190315Z
LAST-MODIFIED:20210424T190315Z
UID:2847-1620345600-1620604799@beadsatdusticreek.com
SUMMARY:Janu Gems T.S. @ BDC
DESCRIPTION:In a change of pace from mid-week Trunk Shows\, Theodore\, of Janu Gems\, is holding a   \nFriday thru Sunday  \nTrunk Show at BDC.  This Weekend\, \nMay 7 – 9\, 2021 \n  \n\nFirst\, the NEW.   Janu Gems is pleased to be offering an expanded assortment of Loose Stones (Gem stone quality)\, as well as more Finished Jewelry.  All at tempting prices.\n\n  \n\nNext\, Special Pricing on Large Size Beads.  These are  entry level beads that are priced by the gram\, rather than by the strand.  The result is that they will be sold at up to 75% OFF their Retail price.\n\n  \n\nFinally\, For those of you working on gift projects for the Holidays\, any Janu Gems purchase will entitle you to 15% OFF on any BDC Findings.  (Some already discounted Bulk findings are excluded. )\n\n  \nHe sent along some candid shots of the special items that he’ll be bringing for you\, our customers. \n \n \n \n \n    And there will be plenty of your favorites. \n   Yes.  It’s an “Event.”  Anytime Janu Gems is at BDC ! \nWould you like to see more of Theodore’s offerings?   \nClick Here
URL:https://beadsatdusticreek.com/event/janu-gems-t-s-bdc-5/
END:VEVENT
BEGIN:VEVENT
DTSTART;VALUE=DATE:20210504
DTEND;VALUE=DATE:20210505
DTSTAMP:20260420T085134
CREATED:20210424T183927Z
LAST-MODIFIED:20210424T183946Z
UID:2894-1620086400-1620172799@beadsatdusticreek.com
SUMMARY:BDC CLOSED on Tuesdays
DESCRIPTION:
URL:https://beadsatdusticreek.com/event/bdc-closed-on-tuesdays-95/
END:VEVENT
BEGIN:VEVENT
DTSTART;VALUE=DATE:20210427
DTEND;VALUE=DATE:20210428
DTSTAMP:20260420T085134
CREATED:20210424T183622Z
LAST-MODIFIED:20210424T183846Z
UID:2896-1619481600-1619567999@beadsatdusticreek.com
SUMMARY:BDC CLOSED on Tuesdays
DESCRIPTION:
URL:https://beadsatdusticreek.com/event/bdc-closed-on-tuesdays-94/
END:VEVENT
BEGIN:VEVENT
DTSTART;VALUE=DATE:20210420
DTEND;VALUE=DATE:20210421
DTSTAMP:20260420T085134
CREATED:20210424T183054Z
LAST-MODIFIED:20210424T183054Z
UID:2895-1618876800-1618963199@beadsatdusticreek.com
SUMMARY:BDC CLOSED on Tuesdays
DESCRIPTION:
URL:https://beadsatdusticreek.com/event/bdc-closed-on-tuesdays-93/
END:VEVENT
BEGIN:VEVENT
DTSTART;VALUE=DATE:20210413
DTEND;VALUE=DATE:20210414
DTSTAMP:20260420T085134
CREATED:20210217T213501Z
LAST-MODIFIED:20210424T182957Z
UID:2831-1618272000-1618358399@beadsatdusticreek.com
SUMMARY:BDC CLOSED on Tuesdays
DESCRIPTION:
URL:https://beadsatdusticreek.com/event/bdc-closed-on-tuesdays-91/
END:VEVENT
BEGIN:VEVENT
DTSTART;VALUE=DATE:20210406
DTEND;VALUE=DATE:20210407
DTSTAMP:20260420T085134
CREATED:20210217T212315Z
LAST-MODIFIED:20210424T182833Z
UID:2828-1617667200-1617753599@beadsatdusticreek.com
SUMMARY:BDC CLOSED on Tuesdays
DESCRIPTION:
URL:https://beadsatdusticreek.com/event/bdc-closed-on-tuesdays-84/
END:VEVENT
BEGIN:VEVENT
DTSTART;VALUE=DATE:20210404
DTEND;VALUE=DATE:20210405
DTSTAMP:20260420T085134
CREATED:20210401T143949Z
LAST-MODIFIED:20210401T144652Z
UID:2884-1617494400-1617494400@beadsatdusticreek.com
SUMMARY:BDC CLOSED for Easter Sunday.
DESCRIPTION:Beads At Dusti Creek will be CLOSED for Easter Sunday. We’ll look forward to serving your beading needs once again\, starting  Monday\, April 5th.   
URL:https://beadsatdusticreek.com/event/bdc-closed-for-easter-sunday-3/
END:VEVENT
BEGIN:VEVENT
DTSTART;VALUE=DATE:20210330
DTEND;VALUE=DATE:20210331
DTSTAMP:20260420T085134
CREATED:20210217T213654Z
LAST-MODIFIED:20210217T213654Z
UID:2844-1617062400-1617148799@beadsatdusticreek.com
SUMMARY:BDC CLOSED on Tuesdays
DESCRIPTION:
URL:https://beadsatdusticreek.com/event/bdc-closed-on-tuesdays-92/
END:VEVENT
BEGIN:VEVENT
DTSTART;VALUE=DATE:20210316
DTEND;VALUE=DATE:20210317
DTSTAMP:20260420T085134
CREATED:20210217T213400Z
LAST-MODIFIED:20210217T213400Z
UID:2832-1615852800-1615939199@beadsatdusticreek.com
SUMMARY:BDC CLOSED on Tuesdays
DESCRIPTION:
URL:https://beadsatdusticreek.com/event/bdc-closed-on-tuesdays-90/
END:VEVENT
END:VCALENDAR