BEGIN:VCALENDAR
VERSION:2.0
PRODID:-//Beads At Dusti Creek - ECPv6.15.20//NONSGML v1.0//EN
CALSCALE:GREGORIAN
METHOD:PUBLISH
X-WR-CALNAME:Beads At Dusti Creek
X-ORIGINAL-URL:https://beadsatdusticreek.com
X-WR-CALDESC:Events for Beads At Dusti Creek
REFRESH-INTERVAL;VALUE=DURATION:PT1H
X-Robots-Tag:noindex
X-PUBLISHED-TTL:PT1H
BEGIN:VTIMEZONE
TZID:America/Los_Angeles
BEGIN:DAYLIGHT
TZOFFSETFROM:-0800
TZOFFSETTO:-0700
TZNAME:PDT
DTSTART:20170312T100000
END:DAYLIGHT
BEGIN:STANDARD
TZOFFSETFROM:-0700
TZOFFSETTO:-0800
TZNAME:PST
DTSTART:20171105T090000
END:STANDARD
BEGIN:DAYLIGHT
TZOFFSETFROM:-0800
TZOFFSETTO:-0700
TZNAME:PDT
DTSTART:20180311T100000
END:DAYLIGHT
BEGIN:STANDARD
TZOFFSETFROM:-0700
TZOFFSETTO:-0800
TZNAME:PST
DTSTART:20181104T090000
END:STANDARD
BEGIN:DAYLIGHT
TZOFFSETFROM:-0800
TZOFFSETTO:-0700
TZNAME:PDT
DTSTART:20190310T100000
END:DAYLIGHT
BEGIN:STANDARD
TZOFFSETFROM:-0700
TZOFFSETTO:-0800
TZNAME:PST
DTSTART:20191103T090000
END:STANDARD
BEGIN:DAYLIGHT
TZOFFSETFROM:-0800
TZOFFSETTO:-0700
TZNAME:PDT
DTSTART:20200308T100000
END:DAYLIGHT
BEGIN:STANDARD
TZOFFSETFROM:-0700
TZOFFSETTO:-0800
TZNAME:PST
DTSTART:20201101T090000
END:STANDARD
END:VTIMEZONE
BEGIN:VTIMEZONE
TZID:America/Denver
BEGIN:DAYLIGHT
TZOFFSETFROM:-0700
TZOFFSETTO:-0600
TZNAME:MDT
DTSTART:20170312T090000
END:DAYLIGHT
BEGIN:STANDARD
TZOFFSETFROM:-0600
TZOFFSETTO:-0700
TZNAME:MST
DTSTART:20171105T080000
END:STANDARD
BEGIN:DAYLIGHT
TZOFFSETFROM:-0700
TZOFFSETTO:-0600
TZNAME:MDT
DTSTART:20180311T090000
END:DAYLIGHT
BEGIN:STANDARD
TZOFFSETFROM:-0600
TZOFFSETTO:-0700
TZNAME:MST
DTSTART:20181104T080000
END:STANDARD
BEGIN:DAYLIGHT
TZOFFSETFROM:-0700
TZOFFSETTO:-0600
TZNAME:MDT
DTSTART:20190310T090000
END:DAYLIGHT
BEGIN:STANDARD
TZOFFSETFROM:-0600
TZOFFSETTO:-0700
TZNAME:MST
DTSTART:20191103T080000
END:STANDARD
END:VTIMEZONE
BEGIN:VEVENT
DTSTART;VALUE=DATE:20190604
DTEND;VALUE=DATE:20190605
DTSTAMP:20260422T151047
CREATED:20190426T011920Z
LAST-MODIFIED:20190426T011920Z
UID:1889-1559606400-1559692799@beadsatdusticreek.com
SUMMARY:BDC CLOSED on Tuesdays
DESCRIPTION:
URL:https://beadsatdusticreek.com/event/bdc-closed-on-tuesdays-10/
END:VEVENT
BEGIN:VEVENT
DTSTART;VALUE=DATE:20190528
DTEND;VALUE=DATE:20190529
DTSTAMP:20260422T151047
CREATED:20190407T200617Z
LAST-MODIFIED:20190407T200741Z
UID:1816-1559001600-1559087999@beadsatdusticreek.com
SUMMARY:BDC CLOSED on Tuesdays
DESCRIPTION:
URL:https://beadsatdusticreek.com/event/bdc-closed-on-tuesdays-8/
END:VEVENT
BEGIN:VEVENT
DTSTART;VALUE=DATE:20190527
DTEND;VALUE=DATE:20190528
DTSTAMP:20260422T151047
CREATED:20190407T200914Z
LAST-MODIFIED:20190525T193406Z
UID:1818-1558915200-1559001599@beadsatdusticreek.com
SUMMARY:BDC CLOSED MONDAY For Memorial Day
DESCRIPTION:BDC will be CLOSED for Memorial Day  (Decoration Day)\, which is Monday\, May 27th\, this year.  We will also be Closed on Tuesday\, May 28th\, as our normal\, weekly Closed day.  (But we will re-open on Wednesday\, May 29th\, at 11 AM.) \nPlease note\,  we will be OPEN all Weekend\, Saturday & Sunday\, May 25th & 26th\, Prior to Memorial  Day\, to serve your beading needs. \nSo Plan Appropriately! \nBut whenever you come to visit\, we will be delighted to see you. \n 
URL:https://beadsatdusticreek.com/event/bdc-closed-for-memorial-day/
END:VEVENT
BEGIN:VEVENT
DTSTART;VALUE=DATE:20190521
DTEND;VALUE=DATE:20190522
DTSTAMP:20260422T151047
CREATED:20190407T200958Z
LAST-MODIFIED:20190407T200958Z
UID:1820-1558396800-1558483199@beadsatdusticreek.com
SUMMARY:BDC CLOSED on Tuesdays
DESCRIPTION:
URL:https://beadsatdusticreek.com/event/bdc-closed-on-tuesdays-9/
END:VEVENT
BEGIN:VEVENT
DTSTART;VALUE=DATE:20190517
DTEND;VALUE=DATE:20190520
DTSTAMP:20260422T151047
CREATED:20190422T194151Z
LAST-MODIFIED:20190516T215048Z
UID:1882-1558051200-1558310399@beadsatdusticreek.com
SUMMARY:"Silks of Asia" Trunk Show
DESCRIPTION:“Silks of Asia” Comes to BDC This Weekend !  \nSilk garments are indisputably exotic & luxurious. And they’re going all be at Beads At Dusti Creek this  \nFriday – Sunday.  \nLarry Hermsen has traveled all over Asia to personally select each of the garments\, scarves\, and bolts of raw silk spilling from his closets.  \nLarry is a “Motivated Seller.” He keeps trying to retire. So when you combine sensuous appeal and a unique selection\, with attractive pricing\, 25 – 50% Off\, and this becomes a “Not To Be Missed” event.  \nAs they say\, “The Choice is Yours.”  \nSale Dates:  \nFriday\, 11 AM – 6 PM\,  \nSaturday\, 10 AM – 5 PM  \nSunday\, 10 AM – 3 PM \n         \nOLYMPUS DIGITAL CAMERA
URL:https://beadsatdusticreek.com/event/silks-of-asia-trunk-show-2/
END:VEVENT
BEGIN:VEVENT
DTSTART;VALUE=DATE:20190514
DTEND;VALUE=DATE:20190515
DTSTAMP:20260422T151047
CREATED:20190407T200547Z
LAST-MODIFIED:20190407T200547Z
UID:1814-1557792000-1557878399@beadsatdusticreek.com
SUMMARY:BDC CLOSED on Tuesdays
DESCRIPTION:
URL:https://beadsatdusticreek.com/event/bdc-closed-on-tuesdays-7/
END:VEVENT
BEGIN:VEVENT
DTSTART;VALUE=DATE:20190507
DTEND;VALUE=DATE:20190508
DTSTAMP:20260422T151047
CREATED:20190407T200509Z
LAST-MODIFIED:20190407T200509Z
UID:1812-1557187200-1557273599@beadsatdusticreek.com
SUMMARY:BDC CLOSED on Tuesdays
DESCRIPTION:
URL:https://beadsatdusticreek.com/event/bdc-closed-on-tuesdays-6/
END:VEVENT
BEGIN:VEVENT
DTSTART;VALUE=DATE:20190430
DTEND;VALUE=DATE:20190501
DTSTAMP:20260422T151047
CREATED:20190407T185405Z
LAST-MODIFIED:20190407T185405Z
UID:1806-1556582400-1556668799@beadsatdusticreek.com
SUMMARY:BDC CLOSED on Tuesdays
DESCRIPTION:
URL:https://beadsatdusticreek.com/event/bdc-closed-on-tuesdays-5/
END:VEVENT
BEGIN:VEVENT
DTSTART;VALUE=DATE:20190423
DTEND;VALUE=DATE:20190424
DTSTAMP:20260422T151047
CREATED:20190407T185033Z
LAST-MODIFIED:20190407T185033Z
UID:1804-1555977600-1556063999@beadsatdusticreek.com
SUMMARY:BDC CLOSED on Tuesdays
DESCRIPTION:
URL:https://beadsatdusticreek.com/event/bdc-closed-on-tuesdays-4/
END:VEVENT
BEGIN:VEVENT
DTSTART;VALUE=DATE:20190421
DTEND;VALUE=DATE:20190422
DTSTAMP:20260422T151047
CREATED:20190408T201209Z
LAST-MODIFIED:20190408T201538Z
UID:1825-1555804800-1555891199@beadsatdusticreek.com
SUMMARY:BDC CLOSED for Easter Sunday.
DESCRIPTION:Beads At Dusti Creek will be CLOSED for Easter Sunday. \nWe’ll look forward to serving your beading needs once again\, starting  Monday\, April 22.  \n 
URL:https://beadsatdusticreek.com/event/bdc-closed-for-easter-sunday/
END:VEVENT
BEGIN:VEVENT
DTSTART;VALUE=DATE:20190419
DTEND;VALUE=DATE:20190421
DTSTAMP:20260422T151047
CREATED:20190407T185809Z
LAST-MODIFIED:20190419T003818Z
UID:1808-1555632000-1555804799@beadsatdusticreek.com
SUMMARY:"The Power of Pastels"  David V. Horste T.S.
DESCRIPTION:David V Horste\, Lapidary Artist \nTrunk Show\n“The Power of Pastels” \n  \n \nThis is the dictionary definition of “Pastels.”   \nIt is an art medium.  Paint with chalk. \n  \nBut this is what David is thinking of when he talks about “Pastels\,” in his Bead world. \n  \n    \nThese Focal beads are similar to the “Ford-ite” that David has shown to us in the past. \nHowever\, these are made from the “over spray” of a surfboard manufacturer.   \n“Hang Ten\, dude!” \n  \nMore traditionally\, David has prepared some “Easter Eggs”\,  for us\, in the form of both Cabochons & Focal Beads.   \n  \n \nTOP: Hemimorphite\, Thulite\, Lapis Lazuli\,\n \nBOTTOM: Rhodochrosite\, Shattuckite\, Kingman Turquoise \n \nTOP:  Amazonite\, K2 Azurite in Granite\, Thulite\, Citron Chrysoprase \nMIDDLE: Ruby in Zoisite\, Persian Turquoise\, BumbleBee Stone\, Shattuckite \nBOTTOM:  Rhodochrosite\, Chevron Amethyst\, Lapis Lazuli\, Emerald \nFor many people\, this is Holy week and in honor of this David has cut up a batch of focal beads and cabs out of his limited stock of genuine Bloodstone.   \nBloodstone has been seen as a special stone since ancient times.  The Greeks  believed it was a stone that affected the rain\, solar eclipses\, and could cause invisibility.   \nIn more recent history the stone was adopted by people of the Christian faith to represent the blood of Christ.   \nBloodstone is also the classic\, traditional\, birthstone for the month of March.  \n   \n  \nFinally\, David will have a good stock of genuine Persian turquoise from Iran and sparkling natural surface astrophyllite from Russia\, both of which were stones he scored big with in Tucson this year!    Take a look at this gorgeous and remarkable stone. \n  \n    \nAstrophyllite.  From Russia. \nThis is David’s first Trunk Show at BDC in  over  1 1/2 years.  I think you’ll have to agree that it’s going to be a “druzzy”.  😳
URL:https://beadsatdusticreek.com/event/david-v-horste-lapidary-artist/
END:VEVENT
BEGIN:VEVENT
DTSTART;VALUE=DATE:20190416
DTEND;VALUE=DATE:20190417
DTSTAMP:20260422T151047
CREATED:20190407T184951Z
LAST-MODIFIED:20190407T184951Z
UID:1802-1555372800-1555459199@beadsatdusticreek.com
SUMMARY:BDC CLOSED on Tuesdays
DESCRIPTION:
URL:https://beadsatdusticreek.com/event/bdc-closed-on-tuesdays-3/
END:VEVENT
BEGIN:VEVENT
DTSTART;VALUE=DATE:20190409
DTEND;VALUE=DATE:20190410
DTSTAMP:20260422T151047
CREATED:20190407T184620Z
LAST-MODIFIED:20190407T184850Z
UID:1800-1554768000-1554854399@beadsatdusticreek.com
SUMMARY:BDC CLOSED on Tuesdays
DESCRIPTION:
URL:https://beadsatdusticreek.com/event/bdc-closed-on-tuesdays-2/
END:VEVENT
BEGIN:VEVENT
DTSTART;VALUE=DATE:20190402
DTEND;VALUE=DATE:20190403
DTSTAMP:20260422T151047
CREATED:20190407T184513Z
LAST-MODIFIED:20190407T184815Z
UID:1798-1554163200-1554249599@beadsatdusticreek.com
SUMMARY:BDC CLOSED on Tuesdays
DESCRIPTION:
URL:https://beadsatdusticreek.com/event/bdc-closed-on-tuesdays/
END:VEVENT
BEGIN:VEVENT
DTSTART;VALUE=DATE:20190331
DTEND;VALUE=DATE:20190402
DTSTAMP:20260422T151047
CREATED:20190328T213229Z
LAST-MODIFIED:20190401T000639Z
UID:1751-1553990400-1554163199@beadsatdusticreek.com
SUMMARY:Janu Gems Returns AFTER Tucson!
DESCRIPTION:  \n \n                        Finished 30″ Turquoise Necklace from the famous\,                                  (now closed) “Sleeping Beauty” Mine. 189.8 grams.  Gold Clasps. \nTheodore of Janu Gems is returning to BDC for the final day of his Trunk Show. \nNotice that this is Unusual because this Last DAY is on a Monday\, April 1st.  \nAnd that’s no joke. \nYes\, he was here just this past January. \nThat was right after a successful visit to Quartzite. \nFor this visit he is bringing all  those treasures\, enhanced by wonderful additions from February’s famous “Tucson Gem & Mineral Show.” \nTheodore described his newest items to me as “Lots and lots of briolettes.” \n\nCoral\nFlorite\nBlue Aragonite\nAppetite\nRhodochrosite\nCitrine\nLabradorite\nPink Moonstone\nSmokey Quartz\nBlue Topaz\nSeawater Pearls\nMini (short) Strands of the above\nSpinels\, Black & Multi-Color\n\nTsavorite Green Garnet \n\nClear Quartz\n\n   \n  \nSo\, in a nutshell\, you’ll have a greater selection to chose from\, on days that are quieter in the neighborhood\, meaning better access. \nA good combination. \nHere is a link to the Slide Show from Theodore’s January 2019 visit.   \nhttps://beadsatdusticreek.com/wp-content/uploads/2019/01/January-2019-Janu-Gems-T.-S.-Movie.mp4
URL:https://beadsatdusticreek.com/event/theo/
END:VEVENT
BEGIN:VEVENT
DTSTART;VALUE=DATE:20190330
DTEND;VALUE=DATE:20190331
DTSTAMP:20260422T151047
CREATED:20190322T225219Z
LAST-MODIFIED:20190329T234543Z
UID:1728-1553904000-1553990399@beadsatdusticreek.com
SUMMARY:"Simply Lampwork" T. S.
DESCRIPTION:(Be sure and check out ALL the Pics at the bottom of this post.)\n\n\n\n​​Nancy Gant’s “Simply Lampwork” Studio \nwill be at BDC Saturday\, March 30th\, \nfor ONE DAY ONLY .  The last time Nancy visited \nBDC was  a little over 2 years ago\,\nand this is her only scheduled \nappearance in Portland for the rest of 2019.\n\nYou may have met her on a previous visit\, \nand would have seen the wonderful & whimsical  \nFauna & Flora that she creates\nwith a flame and some special glass. \n \nSo\, what has she been up to? \n\nShe’s expanded her repertoire. \n\nThe cute rabbits above are part of Nancy’s\nNew “Mix ‘n Match”  3 piece bunnies sets\nthat let you assemble them any which way\,\nto suit your fancy.  \n\nThere are also new “Ocean Moon” & “Forrest Scene”\nFocal Beads that now feature Dichroic enhancement. \n\nShe has added a whole new family of delightful Dragons.   \n\nNancy’s signature “Flower” Focal Beads\nnow feature “Double-Sided Bouquets”.   \n\nAnd\, of course\, all of the Fanciful  & Fun Creatures that\nNancy is noted for will also be in the house.\n\n\nSaturday\,  10 AM – 5 PM.\n \nThese “thematically correct” Easter Bunnies are “Mix ‘n Match”\, that is they come in 3 pieces\, so you can select the head\, body\, and legs in any combination you like !! \n 
URL:https://beadsatdusticreek.com/event/nancy/
END:VEVENT
BEGIN:VEVENT
DTSTART;VALUE=DATE:20190222
DTEND;VALUE=DATE:20190225
DTSTAMP:20260422T151047
CREATED:20190221T234303Z
LAST-MODIFIED:20190222T020907Z
UID:1675-1550793600-1551052799@beadsatdusticreek.com
SUMMARY:Kazuri Rose Beads Trunk Show
DESCRIPTION:Step away from commercially manufactured beads into the world of individually hand-crafted beads from Kenya. Kazuri means “Small & Beautiful” in Swahili. Kazuri Beads are the result of the vision of Lady Susan Wood\, who was moved by the desperate poverty of women in Kenya.  \n  \nSo\, in 1975\, she purchased a kiln\, harvested clay from and Mt Kenya and hired two women\, whom she taught to make beads.  Their success can be measured by the fact that they continue to hire new ladies\, in addition to the 350 employees that are already there. \n  \nhttps://beadsatdusticreek.com/wp-content/uploads/2019/02/Kazuri-Rose-Trunk-Show-Feb-22-24-2019.mp4\nA short Slide Show w/ more details about Kazuri Beads. \n  \nBecky Forsythe\, from Kazuri Rose\, is bringing these wonderful Fair-trade beads to Beads at Dusti Creek for three days this weekend: Friday thru Sunday. \nIndividual beads\, as well as finished earrings\, bracelets\, and necklaces will be available. \nHere is an opportunity to make a real difference in another’s life.
URL:https://beadsatdusticreek.com/event/kazuri-rose-beads-trunk-show/
END:VEVENT
BEGIN:VEVENT
DTSTART;VALUE=DATE:20190126
DTEND;VALUE=DATE:20190128
DTSTAMP:20260422T151047
CREATED:20190122T015334Z
LAST-MODIFIED:20190126T184022Z
UID:1642-1548460800-1548633599@beadsatdusticreek.com
SUMMARY:Janu Gems: "A Girl's Best Friend" Trunk Show - January 26 & 27
DESCRIPTION:Strands of Diamond Beads. \n  \nJanu Gems will be join us at BDC this Weekend\,  \nSaturday & Sunday. \nWhat’s New?    \nIn addition to the extraordinary Natural Stones\, Precious & Semi-Precious stones that he offers regularly\,  \nTheodore will have something dazzlingly different.   \n“A Girl’s Best Friend.” \nTwo Days\, ONLY.   \nDon’t miss this opportunity. \n  \nMore Info?  How about a Sideshow video? Here you go. \nhttps://beadsatdusticreek.com/wp-content/uploads/2019/01/January-2019-Janu-Gems-T.-S.-Movie.mp4
URL:https://beadsatdusticreek.com/event/janu-gems-a-girls-best-friend/
END:VEVENT
BEGIN:VEVENT
DTSTART;VALUE=DATE:20181202
DTEND;VALUE=DATE:20181203
DTSTAMP:20260422T151047
CREATED:20181130T010758Z
LAST-MODIFIED:20190329T004221Z
UID:1550-1543708800-1543795199@beadsatdusticreek.com
SUMMARY:"Mini Hanging Plants" Workshop
DESCRIPTION:And Now\, for something completely different.\n  \n\nNOW YOU CAN HANG POTS ANYWHERE YOU ARE\, GIVE THEM AS STOCKING STUFFERS TO YOUR PLANT LOVING FRIEND\, OR COVER YOUR CHRISTMAS TREE IN THEM!\n \nCome play with thread\, knots\, beads and plants in this fun workshop where you’ll learn how to create your very own mini hanging pot macrame! Join Brianna Kindell as she guides you through the process of what she considers knot therapy and learn skills that you can take with you to your next macramé project. \nClick Here: Examples from Brianna’s Site \nSunday\, December 2nd\, 1 PM thru 2:30 PM.  Cost is $65; pre-registration is required. Registration fee applies towards materials to make up to 2 mini hanging pots\, a take home workbook\, supplies and 1 air plant (additional air plants may be purchased through Oh The Greenery and additional beads can be purchased in store). No Refunds. \nSign Up for Class via this Link \n 
URL:https://beadsatdusticreek.com/event/p1823/
END:VEVENT
BEGIN:VEVENT
DTSTART;VALUE=DATE:20181129
DTEND;VALUE=DATE:20181202
DTSTAMP:20260422T151047
CREATED:20181130T000918Z
LAST-MODIFIED:20181130T013814Z
UID:1531-1543449600-1543708799@beadsatdusticreek.com
SUMMARY:And Now\, for Something Completely Different!
DESCRIPTION:What does Macro-may have to do  \nwith Beads? \nWould you believe “Earrings”? \n \nWell\, maybe this is stretching things a bit. \nOn Sunday\, December 2nd\, BDC will be Hosting \nBrianna Kindell\, of “Oh The Greenery”  \nfor a \n“Mini Hanging Plant Workshop” \nClick Here: Examples from Brianna’s Site \nShe is a designer + maker\, plant enthusiast\, and the founder of Oh The Greenery. She has a passion to bring greenery indoors as a means to draw creative inspiration for herself and others. Brianna offers her creative direction\, hand-made products and in depth knowledge of plant care through Oh The Greenery and works with clients for social content creation\, marketing strategy\, and workshops taught throughout the United States. \n  \n \nPre-Registration is Required:  Here is a Link to Sign-Up.
URL:https://beadsatdusticreek.com/event/and-now-for-something-completely-different/
END:VEVENT
BEGIN:VEVENT
DTSTART;VALUE=DATE:20181122
DTEND;VALUE=DATE:20181123
DTSTAMP:20260422T151047
CREATED:20181122T011118Z
LAST-MODIFIED:20181122T011231Z
UID:1504-1542844800-1542931199@beadsatdusticreek.com
SUMMARY:BDC CLOSED Thanksgiving Day\, Nov. 22.
DESCRIPTION:Yes\, Beads At Dusti Creek will be CLOSED on Thursday\, Thanksgiving Day\, so that we and our staff can spend the day with friends and family. \nWe will re-open on Friday\, at our regular time\,  11 AM.  We look forward to serving you and all of your beading needs then.
URL:https://beadsatdusticreek.com/event/bdc-closed-thanksgiving-day-nov-22/
END:VEVENT
BEGIN:VEVENT
DTSTART;VALUE=DATE:20181012
DTEND;VALUE=DATE:20181015
DTSTAMP:20260422T151047
CREATED:20181011T230411Z
LAST-MODIFIED:20181012T013627Z
UID:1466-1539302400-1539561599@beadsatdusticreek.com
SUMMARY:Janu Gems Trunk Show - Last Visit in '18
DESCRIPTION:Theodore of Janu Gems is joining us this weekend\,     Friday\, Oct. 12\, Saturday\, Oct. 13\, & Sunday\, Oct. 14. \nThis will be his last visit for 2018\, and your last chance to select Pearls\, Natural Stones\, Semi-Precious Gems\, and More. \nHere is a quick video to help you remember what a great selection Janu Gems has to offer. \nhttps://beadsatdusticreek.com/wp-content/uploads/2018/10/Janu-October-2018.mp4
URL:https://beadsatdusticreek.com/event/janu-gems-last-visit-in-18/
END:VEVENT
BEGIN:VEVENT
DTSTART;VALUE=DATE:20181005
DTEND;VALUE=DATE:20181008
DTSTAMP:20260422T151047
CREATED:20181005T002804Z
LAST-MODIFIED:20181005T003714Z
UID:1443-1538697600-1538956799@beadsatdusticreek.com
SUMMARY:"Silks of Asia" Trunk Show
DESCRIPTION:“Silks of Asia” Comes to BDC This Weekend !  \nSilk garments are indisputably exotic & luxurious. And they’re going all be at Beads At Dusti Creek this  \nFriday – Sunday.  \nLarry Hermsen has traveled all over Asia to personally select each of the garments\, scarves\, and bolts of raw silk spilling from his closets.  \nLarry is a “Motivated Seller.” He keeps trying to retire. So when you combine sensuous appeal and a unique selection\, with attractive pricing\, 25 – 50% Off\, and this becomes a “Not To Be Missed” event.  \nAs they say\, “The Choice is Yours.”  \nSale Dates:  \nFriday\, 11 AM – 6 PM\,  \nSaturday\, 10 AM – 5 PM  \nSunday\, 10 AM – 4 PM
URL:https://beadsatdusticreek.com/event/silks-of-asia-trunk-show/
END:VEVENT
BEGIN:VEVENT
DTSTART;VALUE=DATE:20180903
DTEND;VALUE=DATE:20180904
DTSTAMP:20260422T151047
CREATED:20180901T011751Z
LAST-MODIFIED:20180901T011751Z
UID:1390-1535932800-1536019199@beadsatdusticreek.com
SUMMARY:We're CLOSED Labor Day !
DESCRIPTION:
URL:https://beadsatdusticreek.com/event/were-closed-labor-day/
END:VEVENT
BEGIN:VEVENT
DTSTART;VALUE=DATE:20180823
DTEND;VALUE=DATE:20180826
DTSTAMP:20260422T151047
CREATED:20180820T235232Z
LAST-MODIFIED:20180823T192057Z
UID:1353-1534982400-1535241599@beadsatdusticreek.com
SUMMARY:Janu Gems T.S. @ BDC
DESCRIPTION:In a change of pace\, Theodore of Janu Gems is holding a Thursday thru Saturday Trunk Show at BDC.  \nAugust 23 – 25.   \nHe sent along some candid shots of the special items that he’ll be bringing for you\, our customers. \n \nStrands of round Turquoise.   \n \nFaceted Iolite. \n \nTourmaline Strands. \n  \n \nMatched Mixed Cabs. \n  \n \nMoonstone.   \n(Personally\, I love any stone with “Fire” in it.) \n  \nAnd there will be plenty of your favorites. \n    \nYes.  It’s an “Event.”  Anytime Janu Gems is at BDC ! \n  \nSpeaking of  the  “Dog Days” of Summer\, here is how a couple of our family dogs are dealing with the “challenge.”  (The slightly hard-to-see pup on the right side is a 12 week old German Shepard\, laying fast asleep on her big sister\, a Husky. ) \n \n 
URL:https://beadsatdusticreek.com/event/janu-gems-t-s-bdc/
END:VEVENT
BEGIN:VEVENT
DTSTART;VALUE=DATE:20180804
DTEND;VALUE=DATE:20180806
DTSTAMP:20260422T151047
CREATED:20180731T013225Z
LAST-MODIFIED:20180802T233106Z
UID:1266-1533340800-1533513599@beadsatdusticreek.com
SUMMARY:Flame Born Bead Designs T.S.
DESCRIPTION:Rhiannon Griffiths\, artist & owner of Flame Born Bead Designs will be joining us at BDC this coming Saturday\, 10A – 5P\, and Sunday\, from 10A to 4P. That’s August 4th & 5th. \nShe will be bringing her exquisitely crafted lamp-work beads\, fresh from her studio. Some are incorporated into finished necklaces\, bracelets\, and earrings. Others will be offered as bead sets\, as well as individual beads. \nThis is only her second visit to BDC\, up from the Oregon Coast\, from which she draws creative inspiration. It’s also a chance to meet Rhiannon and get to know a new artist in this vibrant art form. Rhiannon enjoys answering questions and establishing a connection with folks contemplating investing in one of her pieces. You’ll enjoy her\, too! \nHere is a short slideshow\, featuring more of Rhiannon’s Lampwork & Finished designs. \nhttps://beadsatdusticreek.com/wp-content/uploads/2018/08/Flame-Born-Bead-Designs-August-2018-1.mp4
URL:https://beadsatdusticreek.com/event/flame-born-beads-t-s/
END:VEVENT
BEGIN:VEVENT
DTSTART;VALUE=DATE:20180528
DTEND;VALUE=DATE:20180529
DTSTAMP:20260422T151047
CREATED:20180527T205017Z
LAST-MODIFIED:20180527T205017Z
UID:1185-1527465600-1527551999@beadsatdusticreek.com
SUMMARY:BDC CLOSED Memorial Day
DESCRIPTION:BDC will be CLOSED\, Monday\, May 28\, in Observance of Memorial Day.
URL:https://beadsatdusticreek.com/event/bdc-closed-memorial-day/
END:VEVENT
BEGIN:VEVENT
DTSTART;TZID=America/Denver:20180425T130000
DTEND;TZID=America/Denver:20180427T150000
DTSTAMP:20260422T151047
CREATED:20180424T011343Z
LAST-MODIFIED:20180424T011343Z
UID:1138-1524661200-1524841200@beadsatdusticreek.com
SUMMARY:"Nimble" Janu Gems Returns!
DESCRIPTION:Does anyone remember the old Mother Goose rhyme\,  \n“Jack Be Nimble”? \nIn an age of Tide Pods consumption\, candle stick jumping seems somehow quaint\, yet only slightly less dangerous. \nRegardless\, being “Nimble” is obviously a wonderful\, positive skill. \nScheduling opportunities bring Theodore\, of Janu Gems\, back to BDC this week\, Wednesday afternoon thru mid-afternoon Friday.  (When your wife is the 5th ranked female Sitar player in India\, the concert circuit takes one to exotic locations\, such as Portland.) \nThe opportunity to host Janu Gems again\, even after he’d been here so recently\, we had to jump at the chance.  (No candles were harmed.) \nPerhaps you missed Janu’s visit earlier this year in early March.  Now the cold\, dreary and wet weather has finally been replaced by glorious spring.  And our ever attentive customers realize that a full 1/3 of the year is past.  Mother’s Day\, Father’s Day\, and Graduations are on the horizon.  June Brides won’t be far behind\, and those big holidays at the end of the year will be here before you can say “35 weeks.” \nHere are some pictures to refresh your memory. \n  \n           Theodore’s show is Mid-Week this time.  More opportunity for you to visit with him.   \nBetter parking.  Better weather.  Great lunches close by.   \nWe’ll look forward to seeing you here! \n 
URL:https://beadsatdusticreek.com/event/nimble-janu-gems-returns/
END:VEVENT
BEGIN:VEVENT
DTSTART;VALUE=DATE:20180406
DTEND;VALUE=DATE:20180409
DTSTAMP:20260422T151047
CREATED:20180406T010148Z
LAST-MODIFIED:20180406T010148Z
UID:1133-1522972800-1523231999@beadsatdusticreek.com
SUMMARY:Just Say "No" to Muddy Feet!
DESCRIPTION:Teased by Spring? Too Wet to be Outside playing?  Turn Disappointment into Satisfaction.  We have just the right touches to help finish any project.  \nYes\, Mother Nature teased us with a few nice\, dry days.  \nBut that’s not what’s on tap for this weekend.  \nDusti’s put all of our books and magazines on Sale. “Rainy Day Reads” 50% OFF. How’s that for inspiration?  \nA new shipment of craft wire came in with more gauge sizes.  \nNeed a Unique Focal Bead? All of our Lampwork is 50% OFF.  \nOur Silk Cording selection now features More Colors than ever before.  \nNeed Bling? Strands of Crystal. 50% OFF.  \nBulk Findings? $5 bags are 3 for $12.  \nAnd our “Imagination Station” or “Bead Exchange” is featuring 50% OFF of our already incredibly low prices.  \nDon’t track mud all over your floors. Find the components to finish a project and enjoy the Great Indoors just one more weekend.  \nThis weekend\, at BDC.
URL:https://beadsatdusticreek.com/event/just-say-no-to-muddy-feet/
END:VEVENT
BEGIN:VEVENT
DTSTART;VALUE=DATE:20180401
DTEND;VALUE=DATE:20180402
DTSTAMP:20260422T151047
CREATED:20180328T202230Z
LAST-MODIFIED:20180328T202230Z
UID:1111-1522540800-1522627199@beadsatdusticreek.com
SUMMARY:BDC CLOSED Easter Sunday
DESCRIPTION:BDC will be CLOSED Sunday\, April 1st\, in observance of Easter. \n\n \nWe will return on Monday\, April 2nd\, at 12 Noon\, to  serve your beading needs.
URL:https://beadsatdusticreek.com/event/bdc-closed-easter-sunday/
END:VEVENT
END:VCALENDAR