BEGIN:VCALENDAR
VERSION:2.0
PRODID:-//Beads At Dusti Creek - ECPv6.15.20//NONSGML v1.0//EN
CALSCALE:GREGORIAN
METHOD:PUBLISH
X-WR-CALNAME:Beads At Dusti Creek
X-ORIGINAL-URL:https://beadsatdusticreek.com
X-WR-CALDESC:Events for Beads At Dusti Creek
REFRESH-INTERVAL;VALUE=DURATION:PT1H
X-Robots-Tag:noindex
X-PUBLISHED-TTL:PT1H
BEGIN:VTIMEZONE
TZID:America/Denver
BEGIN:DAYLIGHT
TZOFFSETFROM:-0700
TZOFFSETTO:-0600
TZNAME:MDT
DTSTART:20150308T090000
END:DAYLIGHT
BEGIN:STANDARD
TZOFFSETFROM:-0600
TZOFFSETTO:-0700
TZNAME:MST
DTSTART:20151101T080000
END:STANDARD
BEGIN:DAYLIGHT
TZOFFSETFROM:-0700
TZOFFSETTO:-0600
TZNAME:MDT
DTSTART:20160313T090000
END:DAYLIGHT
BEGIN:STANDARD
TZOFFSETFROM:-0600
TZOFFSETTO:-0700
TZNAME:MST
DTSTART:20161106T080000
END:STANDARD
BEGIN:DAYLIGHT
TZOFFSETFROM:-0700
TZOFFSETTO:-0600
TZNAME:MDT
DTSTART:20170312T090000
END:DAYLIGHT
BEGIN:STANDARD
TZOFFSETFROM:-0600
TZOFFSETTO:-0700
TZNAME:MST
DTSTART:20171105T080000
END:STANDARD
BEGIN:DAYLIGHT
TZOFFSETFROM:-0700
TZOFFSETTO:-0600
TZNAME:MDT
DTSTART:20180311T090000
END:DAYLIGHT
BEGIN:STANDARD
TZOFFSETFROM:-0600
TZOFFSETTO:-0700
TZNAME:MST
DTSTART:20181104T080000
END:STANDARD
END:VTIMEZONE
BEGIN:VEVENT
DTSTART;VALUE=DATE:20170222
DTEND;VALUE=DATE:20170224
DTSTAMP:20260424T011321
CREATED:20170221T041452Z
LAST-MODIFIED:20170221T041452Z
UID:340-1487721600-1487894399@beadsatdusticreek.com
SUMMARY:Janu Gems at BDC Wednesday & Thursday
DESCRIPTION:Did you go to Tucson this year? We didn’t either. But Theodore\, of Janu Gems\, did go and brought back some wonderful semi-precious beads. The Tucson show is world renown\, and just finished it’s 2017 run on February 12\, less than 10 days ago. Still on his way home\, Theodore is stopping at BDC for an unusual mid-week trunk show\, this Wednesday and Thursday\, Feb 22 and 23. To make this special opportunity easier\, we’re going to stay open WEDNESDAY evening\, until 7PM. Thursday will be regular shop hours. \nA few of the new items are in the slide show below. But there will be some special surprises that have yet to be photographed. \nThis will be fun. We’ll look forward to seeing you here.
URL:https://beadsatdusticreek.com/event/janu-gems-bdc-wednesday-thursday/
END:VEVENT
BEGIN:VEVENT
DTSTART;VALUE=DATE:20170101
DTEND;VALUE=DATE:20170102
DTSTAMP:20260424T011321
CREATED:20170101T021521Z
LAST-MODIFIED:20170101T021521Z
UID:319-1483228800-1483315199@beadsatdusticreek.com
SUMMARY:BDC Closed New Year's Day.  Surprise!
DESCRIPTION:
URL:https://beadsatdusticreek.com/event/bdc-closed-new-years-day-surprise/
END:VEVENT
BEGIN:VEVENT
DTSTART;TZID=America/Denver:20161226T120000
DTEND;TZID=America/Denver:20161226T180000
DTSTAMP:20260424T011321
CREATED:20161224T204153Z
LAST-MODIFIED:20161224T204153Z
UID:315-1482753600-1482775200@beadsatdusticreek.com
SUMMARY:BDC OPEN at 12 Noon\, Dec. 26th
DESCRIPTION:BDC Wishes you a \nMerry Christmas\, & a Happy New Year. \nBDC Will Close at 2PM on Christmas Eve\, Saturday\, Dec. 24\, 2016. \nWe will also be Closed for Christmas Day\, Sunday\, Dec. 25\, 2016. \n \nWe will Re-Open at Noon\, on Monday\, December 26th\, 2016
URL:https://beadsatdusticreek.com/event/bdc-open-12-noon-dec-26th/
END:VEVENT
BEGIN:VEVENT
DTSTART;TZID=America/Denver:20161225T100000
DTEND;TZID=America/Denver:20161225T160000
DTSTAMP:20260424T011321
CREATED:20161224T202234Z
LAST-MODIFIED:20161224T202234Z
UID:313-1482660000-1482681600@beadsatdusticreek.com
SUMMARY:BDC Closed Christmas Day
DESCRIPTION:BDC Wishes you a \nMerry Christmas\, & a Happy New Year. \nBDC Will Close at 2PM on Christmas Eve\, Saturday\, Dec. 24\, 2016. \nWe will also be Closed for Christmas Day\, Sunday\, Dec. 25\, 2016. \n \nWe will Re-Open at Noon\, on Monday\, December 26th\, 2016
URL:https://beadsatdusticreek.com/event/bdc-closed-christmas-day/
END:VEVENT
BEGIN:VEVENT
DTSTART;TZID=America/Denver:20161224T100000
DTEND;TZID=America/Denver:20161224T140000
DTSTAMP:20260424T011321
CREATED:20161224T201634Z
LAST-MODIFIED:20161224T201634Z
UID:307-1482573600-1482588000@beadsatdusticreek.com
SUMMARY:BDC Closes at 2 PM\, Saturday\, Christmas Eve.
DESCRIPTION:BDC Wishes you a \nMerry Christmas\, & a Happy New Year. \nBDC Will Close at 2PM on Christmas Eve\, Saturday\, Dec. 24\, 2016. \nWe will also be Closed for Christmas Day\, Sunday\, Dec. 25\, 2016. \n \nWe will Re-Open at Noon\, on Monday\, December 26th\, 2016
URL:https://beadsatdusticreek.com/event/bdc-closes-2-pm-saturday-christmas-eve/
END:VEVENT
BEGIN:VEVENT
DTSTART;VALUE=DATE:20161216
DTEND;VALUE=DATE:20161219
DTSTAMP:20260424T011321
CREATED:20161216T023703Z
LAST-MODIFIED:20161216T031001Z
UID:298-1481846400-1482105599@beadsatdusticreek.com
SUMMARY:5 Local Artists Trunk Show @ BDC
DESCRIPTION:This Weekend\, starting tomorrow\, Friday thru Sunday\, we will be hosting 5 unique local Portland Artists. \nBeautiful “Wear-ables” by Judee Moonbeam.  Her bags\, hats\, scarfs are just stunning statements. \nDavid V Horste:  Lapidary extraordinaire.   Pendant Focal Beads in Colors\, Textures\, Materials almost too numerous to count.  David distills his gift of gab into Focal Beads that are sure-fire conversation starters. \nSeth Fullerton creates beautiful ladies skirts and dresses that could be called ‘retro – chic” design\, using wonderful woolens and then fully lining them with silk.  Who does that anymore? \nSusan Borts:  A Bead Artists\, who uses beads like paint.  They don’t have necklaces at Nordstrom’s  that make a statement like Susan’s.  Dusti received one of Susan’s pieces\, aptly named\, “Crocodile Tears” for Valentines day.  She Loves it! \nSine Morse:  I never knew that Collage could be so exciting.  Sine give her pieces a 3-D effect (No\, they really are 3-d.  There is no “effect”.)  You will be charmed.  I guarantee it. \n  \nHere is a link to the video slide-show that displays a little more detail.  (I.E. Pictures!) \nhttps://www.facebook.com/Beads-at-Dusti-Creek-277460432450/videos/?ref=page_internal \nIf you’d like to see the Email that went out to our customers\, click here. \nhttp://p0.vresp.com/u07e9f \n  \n 
URL:https://beadsatdusticreek.com/event/5-local-artists-trunk-show-bdc/
END:VEVENT
BEGIN:VEVENT
DTSTART;VALUE=DATE:20161209
DTEND;VALUE=DATE:20161212
DTSTAMP:20260424T011321
CREATED:20161207T222145Z
LAST-MODIFIED:20161209T223029Z
UID:291-1481241600-1481500799@beadsatdusticreek.com
SUMMARY:Lisa J Daly\, Lampwork Artist Trunk Show
DESCRIPTION:This Weekend\, Friday thru Sunday\, BDC will host a Trunk Show featuring Lisa J Daly\, Lampworker. \nAre you searching for something to brighten your day?  Something to help explain the Portland ethos to distant friends\, or new arrivals?  This is your chance. \n  \nHere is a link to the Email we sent\, with more pictures and details. \nLink To Lisa’s Trunk Show Email \n 
URL:https://beadsatdusticreek.com/event/lisa-j-daly-lampwork-artist-trunk-show/
END:VEVENT
BEGIN:VEVENT
DTSTART;VALUE=DATE:20161124
DTEND;VALUE=DATE:20161125
DTSTAMP:20260424T011321
CREATED:20161124T185817Z
LAST-MODIFIED:20161124T185817Z
UID:287-1479945600-1480031999@beadsatdusticreek.com
SUMMARY:BDC Closed Thanksgiving Day.
DESCRIPTION:As usual\, BDC will be Closed on Thanksgiving Day. \nCome see us tomorrow\, for all of your beading needs! \n 
URL:https://beadsatdusticreek.com/event/bdc-closed-thanksgiving-day/
END:VEVENT
BEGIN:VEVENT
DTSTART;VALUE=DATE:20161111
DTEND;VALUE=DATE:20161114
DTSTAMP:20260424T011321
CREATED:20161110T232636Z
LAST-MODIFIED:20161110T232636Z
UID:279-1478822400-1479081599@beadsatdusticreek.com
SUMMARY:Desert Sun Mining & Gems Trunk Show
DESCRIPTION:When looking for a distinctive or unique jewelry accessory that is available in a rainbow of colors and can coordinate with virtually any wardrobe\, Oregon Sunstone is a natural choice.  Not only is it native to Oregon\, (and is the Official Oregon Gem) but it is the best in its class: World Class.  No other mining operation in the world produces any thing of comparable quality. \nHere is a link to more our  email that provides more details.
URL:https://beadsatdusticreek.com/event/desert-sun-mining-gems-trunk-show/
END:VEVENT
BEGIN:VEVENT
DTSTART;VALUE=DATE:20161028
DTEND;VALUE=DATE:20161031
DTSTAMP:20260424T011321
CREATED:20161028T002336Z
LAST-MODIFIED:20161028T012027Z
UID:245-1477612800-1477871999@beadsatdusticreek.com
SUMMARY:Janu Gems Trunk Show
DESCRIPTION:Theodore\, of Janu Gems\, will be making his final visit to BDC this weekend. \nHere is a slide show with treats he’s bringing: \nhttp://beadsatdusticreek.com/wp-content/uploads/2016/10/Janu-Trunk-Show-Oct.-28-20-2016.mp4\nHere’s your final chance to select precious and semi-precious gems\, or pearls\, for your holiday projects.  And at great prices\, too. \nFor more Details & Info\, use this link: More Info
URL:https://beadsatdusticreek.com/event/janu-gems-trunk-show-2/
END:VEVENT
BEGIN:VEVENT
DTSTART;TZID=America/Denver:20161007T110000
DTEND;TZID=America/Denver:20161009T160000
DTSTAMP:20260424T011321
CREATED:20161006T011027Z
LAST-MODIFIED:20161007T190635Z
UID:229-1475838000-1476028800@beadsatdusticreek.com
SUMMARY:Kazuri Rose Trunk Show
DESCRIPTION:Kazuri Rose will be here at BDC this weekend\, Friday – Sunday with a delightful selection of the hand-made beads that are the hallmark of this remarkable project. \nRead the Details Here:
URL:https://beadsatdusticreek.com/event/kazuri-rose-trunk-show/
END:VEVENT
BEGIN:VEVENT
DTSTART;TZID=America/Denver:20160924T100000
DTEND;TZID=America/Denver:20160925T180000
DTSTAMP:20260424T011321
CREATED:20160923T014250Z
LAST-MODIFIED:20160923T051214Z
UID:217-1474711200-1474826400@beadsatdusticreek.com
SUMMARY:Carolyn Boch\, Designer & Artist T. S.
DESCRIPTION:Here’s a link to the full details.  Carolyn Boch Designer & Artist T. S.  \n 
URL:https://beadsatdusticreek.com/event/carolyn-boch-designer-artist-t-s/
END:VEVENT
BEGIN:VEVENT
DTSTART;TZID=America/Denver:20160909T110000
DTEND;TZID=America/Denver:20160910T170000
DTSTAMP:20260424T011321
CREATED:20160909T012908Z
LAST-MODIFIED:20160909T014421Z
UID:191-1473418800-1473526800@beadsatdusticreek.com
SUMMARY:David V Horste Trunk Show
DESCRIPTION:David V Horst Designs\, our favorite lapidary\, is joining us for two days\, Friday and Saturday\, September 9 and 10. \nHe’s bringing “Sea Glass”.  Or is it “Beach Glass”?  Or is it “Ocean Glass”?  You’ll enjoy hearing all about it from David. \nHere are some more details\, with a link to a slide show. \n 
URL:https://beadsatdusticreek.com/event/191/
END:VEVENT
BEGIN:VEVENT
DTSTART;VALUE=DATE:20160827
DTEND;VALUE=DATE:20160829
DTSTAMP:20260424T011321
CREATED:20160819T155637Z
LAST-MODIFIED:20160824T053542Z
UID:185-1472256000-1472428799@beadsatdusticreek.com
SUMMARY:Janu Gems Trunk Show
DESCRIPTION:Janu Gems\, Semi-Precious Stones Trunk Show \nChange your perspective.  Enhance your point of view. \n\n\n\nEscape your rut. \nChange your perspective.\nEnhance your point of view.\n\n\n\n\n\nYears ago\, my pre-dawn walks typically followed the same paths.  But simply changing sides of the street changed my experience from the sweet smell of flowering plants\, to the dark\, rich earthiness of freshly turned dirt.  Or\, I’d notice architectural details; covered up coal chutes that had previously helped to heat older homes.  Or tell-tale signs of a by-gone era like horse rings embedded in the curb.\n  \n  \nPortland Horse Ring\n  \n\nThe change in perspective opened my senses to differences realities.  This simple change enhanced my experience\, and expanded my point of view. \n  \n\n\n\n\n\n\nYou can expand your point of view by visiting our “Janu Gems” Trunk Show this weekend.  As a direct importer\, Theodore travels to far more exotic places than SE Portland:  the Far East and India\, to bring back semi-precious gems\, natural stones\, pearls\, and more.  His selections for import are influenced by his experiences as a PhD of Transcendental Meditation.  \nHis equally talented wife Reshma is an internationally known Sitar player\, currently ranked as the fifth best woman player in India. \n\n  \nReshma Srivastava Pizanis\nEven for Portland\, this is an exceptionally talented couple\, whose perspectives are quite different from ours.\n\n\n\nJanu Gems is a Direct Importer of Semi-Precious gems and Natural Stones\, providing an Outstanding Collection of Excellent Quality\, at Great Prices!\n\n\n\n\n\n\nThe Exotic East comes to BDC.\n\n\n\n\nBeads at Dusti Creek \n\nIs Pleased to Present the  \nJanu Gems\nTrunk Show \n“Treasures from the East” \n\n\n\n\n\n    \n\n\n               \n\n\n\nTheodore\, of Janu Gems\, is returning this weekend to BDC\, bringing his collection of gems\, pearls\, beads and ready-made pieces.\n\nHe is just back from overseas\, bringing with him lots of new inventory for his Trunk Show this weekend\, Saturday & Sunday\, August 27 and 28. \nThere are plenty of beads to see\, starting with some very nice\, but budget priced plain beads (Brazilian\, African\, and Cape Amethyst\, Moonstone\, Labradorite\, Peridot\, Apatite\, Rose Quartz\, Citrine\, etc.) which will sell at the show in a range from $3 to $10 per strand. \nMore complex beads\, with plenty of fine micro-facets\, will be available from between $16 and $30 per strand (including Tourmaline\, Amethyst\, Peridot\, Apatite\, Garnet\, Citrine\, Labradorite\, and\, of course\, many more.) \nLooking for larger sized beads in faceted\, or plain nuggets\, briolettes and a wide range of shapes and sizes?  Yes.  This is your chance to find them. \nThen there are the very high end beads\, fashioned from top grade stones\, and not usually available at bead shows.  These will appeal to you designers out there. \nOn top of all that\, there are the loose stones\, perfect for setting in cabs\, or paired with faceted gemstones.  \nTheodore asked us to let you know that in addition to stones that he has featured in the past\, this time he is bringing “… watermelon tourmaline slices\, a wide range of fine cabochons\, also diamond beads and a wide range in tourmalines\, chrysoprase\, and also rhodochrosite”. \n    \n\n\n\n\n\n\n\n  \n\n\n\n \n\n\n\n\nHere is a short\, and rare opportunity to find the High Quality\,  High Value\, Semi-Precious and Natural stones you’ve been searching for.    \nThe take-away is that Janu is a Direct Importer of the best examples from his far flung\, wide-ranging trips to serve you\,  our BDC Customers. \nDon’t miss it. \nThis Saturday & Sunday\, Only! \nAugust 27 & 28 \n   Saturday\, 10AM to 5PM\nSunday\,   10AM to 4PM \nLink to FB Video   \n \n4848 SE Division St.\nPortland\, OR  97206\n(503) 235-4800 \n\n\n\n\n\n 
URL:https://beadsatdusticreek.com/event/janu-gems-trunk-show/
END:VEVENT
BEGIN:VEVENT
DTSTART;VALUE=DATE:20160812
DTEND;VALUE=DATE:20160815
DTSTAMP:20260424T011321
CREATED:20160807T214446Z
LAST-MODIFIED:20160813T004314Z
UID:125-1470960000-1471219199@beadsatdusticreek.com
SUMMARY:Desert Sun Mining & Gems - Oregon Sunstone Trunk Show
DESCRIPTION:Just a little couple pictures as a teaser for the August 12 – 14 Desert Sun Mining & Gems at BDC \n \n \nView the Slide show that tells the Desert Sun Mining & Gems story. \nView the Email with details about the Desert Sun Mining & Gems Trunk Show at BDC.
URL:https://beadsatdusticreek.com/event/httpp0-vresp-comvyzkej/
END:VEVENT
BEGIN:VEVENT
DTSTART;VALUE=DATE:20160722
DTEND;VALUE=DATE:20160725
DTSTAMP:20260424T011321
CREATED:20160720T221030Z
LAST-MODIFIED:20160720T221030Z
UID:98-1469145600-1469404799@beadsatdusticreek.com
SUMMARY:Main Street Bead Connection @ BDC
DESCRIPTION:Main Street Bead Connection is coming to BDC this Weekend\, Friday – Sunday.
URL:https://beadsatdusticreek.com/event/main-street-bead-connection-bdc/
END:VEVENT
BEGIN:VEVENT
DTSTART;VALUE=DATE:20160617
DTEND;VALUE=DATE:20160620
DTSTAMP:20260424T011321
CREATED:20160625T013029Z
LAST-MODIFIED:20160625T013029Z
UID:90-1466121600-1466380799@beadsatdusticreek.com
SUMMARY:Barb Klabunder Estate Sale
DESCRIPTION:http://p0.vresp.com/ufBfQR
URL:https://beadsatdusticreek.com/event/barb-klabunder-estate-sale/
END:VEVENT
END:VCALENDAR