BEGIN:VCALENDAR
VERSION:2.0
PRODID:-//Beads At Dusti Creek - ECPv6.15.20//NONSGML v1.0//EN
CALSCALE:GREGORIAN
METHOD:PUBLISH
X-WR-CALNAME:Beads At Dusti Creek
X-ORIGINAL-URL:https://beadsatdusticreek.com
X-WR-CALDESC:Events for Beads At Dusti Creek
REFRESH-INTERVAL;VALUE=DURATION:PT1H
X-Robots-Tag:noindex
X-PUBLISHED-TTL:PT1H
BEGIN:VTIMEZONE
TZID:America/Los_Angeles
BEGIN:DAYLIGHT
TZOFFSETFROM:-0800
TZOFFSETTO:-0700
TZNAME:PDT
DTSTART:20200308T100000
END:DAYLIGHT
BEGIN:STANDARD
TZOFFSETFROM:-0700
TZOFFSETTO:-0800
TZNAME:PST
DTSTART:20201101T090000
END:STANDARD
BEGIN:DAYLIGHT
TZOFFSETFROM:-0800
TZOFFSETTO:-0700
TZNAME:PDT
DTSTART:20210314T100000
END:DAYLIGHT
BEGIN:STANDARD
TZOFFSETFROM:-0700
TZOFFSETTO:-0800
TZNAME:PST
DTSTART:20211107T090000
END:STANDARD
BEGIN:DAYLIGHT
TZOFFSETFROM:-0800
TZOFFSETTO:-0700
TZNAME:PDT
DTSTART:20220313T100000
END:DAYLIGHT
BEGIN:STANDARD
TZOFFSETFROM:-0700
TZOFFSETTO:-0800
TZNAME:PST
DTSTART:20221106T090000
END:STANDARD
BEGIN:DAYLIGHT
TZOFFSETFROM:-0800
TZOFFSETTO:-0700
TZNAME:PDT
DTSTART:20230312T100000
END:DAYLIGHT
BEGIN:STANDARD
TZOFFSETFROM:-0700
TZOFFSETTO:-0800
TZNAME:PST
DTSTART:20231105T090000
END:STANDARD
END:VTIMEZONE
BEGIN:VTIMEZONE
TZID:America/Denver
BEGIN:DAYLIGHT
TZOFFSETFROM:-0700
TZOFFSETTO:-0600
TZNAME:MDT
DTSTART:20200308T090000
END:DAYLIGHT
BEGIN:STANDARD
TZOFFSETFROM:-0600
TZOFFSETTO:-0700
TZNAME:MST
DTSTART:20201101T080000
END:STANDARD
BEGIN:DAYLIGHT
TZOFFSETFROM:-0700
TZOFFSETTO:-0600
TZNAME:MDT
DTSTART:20210314T090000
END:DAYLIGHT
BEGIN:STANDARD
TZOFFSETFROM:-0600
TZOFFSETTO:-0700
TZNAME:MST
DTSTART:20211107T080000
END:STANDARD
BEGIN:DAYLIGHT
TZOFFSETFROM:-0700
TZOFFSETTO:-0600
TZNAME:MDT
DTSTART:20220313T090000
END:DAYLIGHT
BEGIN:STANDARD
TZOFFSETFROM:-0600
TZOFFSETTO:-0700
TZNAME:MST
DTSTART:20221106T080000
END:STANDARD
END:VTIMEZONE
BEGIN:VEVENT
DTSTART;VALUE=DATE:20210907
DTEND;VALUE=DATE:20210908
DTSTAMP:20260420T122621
CREATED:20210903T233659Z
LAST-MODIFIED:20210903T233659Z
UID:3025-1630972800-1631059199@beadsatdusticreek.com
SUMMARY:BDC CLOSED on Tuesdays
DESCRIPTION:We’re CLOSED on Tuesdays.  It’s the one day each week that we rest\, relax\, and take stock. \nTuesday closures were not chosen at random: Traditionally\, Tuesdays have had the lowest number of Customer visits of any day of the week.  And we want to be at our best when you do come in. \nWe look forward to serving all of your beading needs on Wednesday\, Thursday\, Friday\, or any other day of the week.   \nJust not Tuesdays.  🙂 \nDusti \n 
URL:https://beadsatdusticreek.com/event/bdc-closed-on-tuesdays-109/
END:VEVENT
BEGIN:VEVENT
DTSTART;VALUE=DATE:20210910
DTEND;VALUE=DATE:20210913
DTSTAMP:20260420T122621
CREATED:20210909T234755Z
LAST-MODIFIED:20210909T234755Z
UID:3053-1631232000-1631491199@beadsatdusticreek.com
SUMMARY:Janu Gems T.S. @ BDC
DESCRIPTION:In a change of pace from mid-week Trunk Shows\, Theodore\, of Janu Gems\, is holding a   \nFriday thru Sunday  \nTrunk Show at BDC.  This Weekend\, \nSeptember 10 – 12\, 2021 \n  \n\nFirst\, the NEW.   Janu Gems is pleased to be offering an expanded assortment of Loose Stones (Gem stone quality)\, as well as more Finished Jewelry.  All at tempting prices.\n\n  \n\nNext\, Theodore has greatly expanded his selection of Labradorite\, (One of my personal favorites. I love stones with “fire” in them.)\n\n  \n\n  Finally\, For those of you working on gift projects for the Holidays\, any Janu Gems purchase will entitle you to 15% OFF on any BDC Findings.  (Some already discounted Bulk findings are excluded. )\n\nHe sent along some candid shots of the special items that he’ll be bringing for you\, our customers. \n \n \n \n \n    And there will be plenty of your favorites. \n   Yes.  It’s an “Event.”  Anytime Janu Gems is at BDC ! \nWould you like to see more of Theodore’s offerings?   \nClick Here
URL:https://beadsatdusticreek.com/event/janu-gems-t-s-bdc-7/
END:VEVENT
BEGIN:VEVENT
DTSTART;VALUE=DATE:20210914
DTEND;VALUE=DATE:20210915
DTSTAMP:20260420T122621
CREATED:20210903T233739Z
LAST-MODIFIED:20210903T233739Z
UID:3027-1631577600-1631663999@beadsatdusticreek.com
SUMMARY:BDC CLOSED on Tuesdays
DESCRIPTION:We’re CLOSED on Tuesdays.  It’s the one day each week that we rest\, relax\, and take stock. \nTuesday closures were not chosen at random: Traditionally\, Tuesdays have had the lowest number of Customer visits of any day of the week.  And we want to be at our best when you do come in. \nWe look forward to serving all of your beading needs on Wednesday\, Thursday\, Friday\, or any other day of the week.   \nJust not Tuesdays.  🙂 \nDusti \n 
URL:https://beadsatdusticreek.com/event/bdc-closed-on-tuesdays-110/
END:VEVENT
BEGIN:VEVENT
DTSTART;VALUE=DATE:20210921
DTEND;VALUE=DATE:20210922
DTSTAMP:20260420T122621
CREATED:20210903T233825Z
LAST-MODIFIED:20210903T233825Z
UID:3029-1632182400-1632268799@beadsatdusticreek.com
SUMMARY:BDC CLOSED on Tuesdays
DESCRIPTION:We’re CLOSED on Tuesdays.  It’s the one day each week that we rest\, relax\, and take stock. \nTuesday closures were not chosen at random: Traditionally\, Tuesdays have had the lowest number of Customer visits of any day of the week.  And we want to be at our best when you do come in. \nWe look forward to serving all of your beading needs on Wednesday\, Thursday\, Friday\, or any other day of the week.   \nJust not Tuesdays.  🙂 \nDusti \n 
URL:https://beadsatdusticreek.com/event/bdc-closed-on-tuesdays-111/
END:VEVENT
BEGIN:VEVENT
DTSTART;VALUE=DATE:20210928
DTEND;VALUE=DATE:20210929
DTSTAMP:20260420T122622
CREATED:20210903T233935Z
LAST-MODIFIED:20210903T233935Z
UID:3031-1632787200-1632873599@beadsatdusticreek.com
SUMMARY:BDC CLOSED on Tuesdays
DESCRIPTION:We’re CLOSED on Tuesdays.  It’s the one day each week that we rest\, relax\, and take stock. \nTuesday closures were not chosen at random: Traditionally\, Tuesdays have had the lowest number of Customer visits of any day of the week.  And we want to be at our best when you do come in. \nWe look forward to serving all of your beading needs on Wednesday\, Thursday\, Friday\, or any other day of the week.   \nJust not Tuesdays.  🙂 \nDusti \n 
URL:https://beadsatdusticreek.com/event/bdc-closed-on-tuesdays-112/
END:VEVENT
BEGIN:VEVENT
DTSTART;VALUE=DATE:20211005
DTEND;VALUE=DATE:20211006
DTSTAMP:20260420T122622
CREATED:20210903T234211Z
LAST-MODIFIED:20210903T234404Z
UID:3033-1633392000-1633478399@beadsatdusticreek.com
SUMMARY:BDC CLOSED on Tuesdays
DESCRIPTION:We’re CLOSED on Tuesdays.  It’s the one day each week that we rest\, relax\, and take stock. \nTuesday closures were not chosen at random: Traditionally\, Tuesdays have had the lowest number of Customer visits of any day of the week.  And we want to be at our best when you do come in. \nWe look forward to serving all of your beading needs on Wednesday\, Thursday\, Friday\, or any other day of the week.   \nJust not Tuesdays.  🙂 \nDusti \n 
URL:https://beadsatdusticreek.com/event/bdc-closed-on-tuesdays-113/
END:VEVENT
BEGIN:VEVENT
DTSTART;VALUE=DATE:20211012
DTEND;VALUE=DATE:20211013
DTSTAMP:20260420T122622
CREATED:20210903T234444Z
LAST-MODIFIED:20210903T234444Z
UID:3035-1633996800-1634083199@beadsatdusticreek.com
SUMMARY:BDC CLOSED on Tuesdays
DESCRIPTION:We’re CLOSED on Tuesdays.  It’s the one day each week that we rest\, relax\, and take stock. \nTuesday closures were not chosen at random: Traditionally\, Tuesdays have had the lowest number of Customer visits of any day of the week.  And we want to be at our best when you do come in. \nWe look forward to serving all of your beading needs on Wednesday\, Thursday\, Friday\, or any other day of the week.   \nJust not Tuesdays.  🙂 \nDusti \n 
URL:https://beadsatdusticreek.com/event/bdc-closed-on-tuesdays-114/
END:VEVENT
BEGIN:VEVENT
DTSTART;VALUE=DATE:20211019
DTEND;VALUE=DATE:20211020
DTSTAMP:20260420T122622
CREATED:20210903T234526Z
LAST-MODIFIED:20210903T234526Z
UID:3037-1634601600-1634687999@beadsatdusticreek.com
SUMMARY:BDC CLOSED on Tuesdays
DESCRIPTION:We’re CLOSED on Tuesdays.  It’s the one day each week that we rest\, relax\, and take stock. \nTuesday closures were not chosen at random: Traditionally\, Tuesdays have had the lowest number of Customer visits of any day of the week.  And we want to be at our best when you do come in. \nWe look forward to serving all of your beading needs on Wednesday\, Thursday\, Friday\, or any other day of the week.   \nJust not Tuesdays.  🙂 \nDusti \n 
URL:https://beadsatdusticreek.com/event/bdc-closed-on-tuesdays-115/
END:VEVENT
BEGIN:VEVENT
DTSTART;VALUE=DATE:20211026
DTEND;VALUE=DATE:20211027
DTSTAMP:20260420T122622
CREATED:20210903T234733Z
LAST-MODIFIED:20210903T234733Z
UID:3039-1635206400-1635292799@beadsatdusticreek.com
SUMMARY:BDC CLOSED on Tuesdays
DESCRIPTION:We’re CLOSED on Tuesdays.  It’s the one day each week that we rest\, relax\, and take stock. \nTuesday closures were not chosen at random: Traditionally\, Tuesdays have had the lowest number of Customer visits of any day of the week.  And we want to be at our best when you do come in. \nWe look forward to serving all of your beading needs on Wednesday\, Thursday\, Friday\, or any other day of the week.   \nJust not Tuesdays.  🙂 \nDusti \n 
URL:https://beadsatdusticreek.com/event/bdc-closed-on-tuesdays-116/
END:VEVENT
BEGIN:VEVENT
DTSTART;VALUE=DATE:20211102
DTEND;VALUE=DATE:20211103
DTSTAMP:20260420T122622
CREATED:20211101T230652Z
LAST-MODIFIED:20211101T230652Z
UID:3064-1635811200-1635897599@beadsatdusticreek.com
SUMMARY:BDC CLOSED on Tuesdays
DESCRIPTION:We’re CLOSED on Tuesdays.  It’s the one day each week that we rest\, relax\, and take stock. \nTuesday closures were not chosen at random: Traditionally\, Tuesdays have had the lowest number of Customer visits of any day of the week.  And we want to be at our best when you do come in. \nWe look forward to serving all of your beading needs on Wednesday\, Thursday\, Friday\, or any other day of the week.   \nJust not Tuesdays.  🙂 \nDusti \n 
URL:https://beadsatdusticreek.com/event/bdc-closed-on-tuesdays-117/
END:VEVENT
BEGIN:VEVENT
DTSTART;VALUE=DATE:20211105
DTEND;VALUE=DATE:20211108
DTSTAMP:20260420T122622
CREATED:20211101T231455Z
LAST-MODIFIED:20211101T231455Z
UID:3074-1636070400-1636329599@beadsatdusticreek.com
SUMMARY:Janu Gems T.S. @ BDC
DESCRIPTION:In a change of pace from mid-week Trunk Shows\, Theodore\, of Janu Gems\, is holding a   \nFriday thru Sunday  \nTrunk Show at BDC.  This Weekend\, \nNovember 5 – 7\, 2021 \n  \n\nFirst\, the NEW.   Janu Gems is pleased to be offering an expanded assortment of Loose Stones (Gem stone quality)\, as well as more Finished Jewelry.  All at tempting prices.\n\n  \n\nNext\, Theodore has greatly expanded his selection of Labradorite\, (One of my personal favorites. I love stones with “fire” in them.)\n\n  \n\n  Finally\, For those of you working on gift projects for the Holidays\, any Janu Gems purchase will entitle you to 15% OFF on any BDC Findings.  (Some already discounted Bulk findings are excluded. )\n\nHe sent along some candid shots of the special items that he’ll be bringing for you\, our customers. \n \n \n \n \n    And there will be plenty of your favorites. \n   Yes.  It’s an “Event.”  Anytime Janu Gems is at BDC ! \nWould you like to see more of Theodore’s offerings?   \nClick Here
URL:https://beadsatdusticreek.com/event/janu-gems-t-s-bdc-8/
END:VEVENT
BEGIN:VEVENT
DTSTART;VALUE=DATE:20211109
DTEND;VALUE=DATE:20211110
DTSTAMP:20260420T122622
CREATED:20211101T230811Z
LAST-MODIFIED:20211101T230811Z
UID:3068-1636416000-1636502399@beadsatdusticreek.com
SUMMARY:BDC CLOSED on Tuesdays
DESCRIPTION:We’re CLOSED on Tuesdays.  It’s the one day each week that we rest\, relax\, and take stock. \nTuesday closures were not chosen at random: Traditionally\, Tuesdays have had the lowest number of Customer visits of any day of the week.  And we want to be at our best when you do come in. \nWe look forward to serving all of your beading needs on Wednesday\, Thursday\, Friday\, or any other day of the week.   \nJust not Tuesdays.  🙂 \nDusti \n 
URL:https://beadsatdusticreek.com/event/bdc-closed-on-tuesdays-118/
END:VEVENT
BEGIN:VEVENT
DTSTART;VALUE=DATE:20211116
DTEND;VALUE=DATE:20211117
DTSTAMP:20260420T122622
CREATED:20211101T230927Z
LAST-MODIFIED:20211101T230927Z
UID:3067-1637020800-1637107199@beadsatdusticreek.com
SUMMARY:BDC CLOSED on Tuesdays
DESCRIPTION:We’re CLOSED on Tuesdays.  It’s the one day each week that we rest\, relax\, and take stock. \nTuesday closures were not chosen at random: Traditionally\, Tuesdays have had the lowest number of Customer visits of any day of the week.  And we want to be at our best when you do come in. \nWe look forward to serving all of your beading needs on Wednesday\, Thursday\, Friday\, or any other day of the week.   \nJust not Tuesdays.  🙂 \nDusti \n 
URL:https://beadsatdusticreek.com/event/bdc-closed-on-tuesdays-119/
END:VEVENT
BEGIN:VEVENT
DTSTART;VALUE=DATE:20211123
DTEND;VALUE=DATE:20211124
DTSTAMP:20260420T122622
CREATED:20211101T231101Z
LAST-MODIFIED:20211101T231101Z
UID:3066-1637625600-1637711999@beadsatdusticreek.com
SUMMARY:BDC CLOSED on Tuesdays
DESCRIPTION:We’re CLOSED on Tuesdays.  It’s the one day each week that we rest\, relax\, and take stock. \nTuesday closures were not chosen at random: Traditionally\, Tuesdays have had the lowest number of Customer visits of any day of the week.  And we want to be at our best when you do come in. \nWe look forward to serving all of your beading needs on Wednesday\, Thursday\, Friday\, or any other day of the week.   \nJust not Tuesdays.  🙂 \nDusti \n 
URL:https://beadsatdusticreek.com/event/bdc-closed-on-tuesdays-120/
END:VEVENT
BEGIN:VEVENT
DTSTART;VALUE=DATE:20211130
DTEND;VALUE=DATE:20211201
DTSTAMP:20260420T122622
CREATED:20211101T231132Z
LAST-MODIFIED:20211101T231132Z
UID:3065-1638230400-1638316799@beadsatdusticreek.com
SUMMARY:BDC CLOSED on Tuesdays
DESCRIPTION:We’re CLOSED on Tuesdays.  It’s the one day each week that we rest\, relax\, and take stock. \nTuesday closures were not chosen at random: Traditionally\, Tuesdays have had the lowest number of Customer visits of any day of the week.  And we want to be at our best when you do come in. \nWe look forward to serving all of your beading needs on Wednesday\, Thursday\, Friday\, or any other day of the week.   \nJust not Tuesdays.  🙂 \nDusti \n 
URL:https://beadsatdusticreek.com/event/bdc-closed-on-tuesdays-121/
END:VEVENT
BEGIN:VEVENT
DTSTART;VALUE=DATE:20211203
DTEND;VALUE=DATE:20211206
DTSTAMP:20260420T122622
CREATED:20211201T233727Z
LAST-MODIFIED:20211204T221914Z
UID:3096-1638489600-1638748799@beadsatdusticreek.com
SUMMARY:"Hello\, Gorgeous!" Joyce Lofgreen: Designer\, Creator T.S.
DESCRIPTION:Hello\, Gorgeous ! \n(Excerpts from Katie Backus’ Bio of her Grandmother.   Read her complete and touching  remembrances here.) \n“I’m not exactly sure when Grandma’s love affair with jewelry design and creating began\, but judging by the dates in some of her journals and sketchbooks\, it was around 1970\, just after her sixth and final child was born. At this time\, Joyce was 40 years old and the mother of six boys.” \n \n“I think Joyce had been collecting beads and stones for quite some time; she had inherited her father’s passion as well as his tools\, and one by one\, designs came to Joyce\, and her hobby turned into a profession for her. She aptly\, and perhaps a titch wryly\, named her business “JM’s Significant Others: Antique\, Collectible\, and Signed Designer Bits and Pieces\, Redesigned With a Blend That Is Not Quite A Marriage.”” \n \n“She designed beautiful jewelry pieces and made sales\, participated in ongoing church events\, kept up with the Joneses (and then some) and managed six boys—she also wrote and copyrighted her life story in a screenplay and musical format!” \n“By this time\, Joyce had designed jewelry professionally for William Farrell Jewelers in Seattle and amassed quite a bead\, stone\, and gem collection from all over the country—from small\, dusty southwestern rock and gem shops to century-old attic estate sales in New York City\, and many places in between. She had an eye for the eccentric\, novel\, one-of-a-kind\, and eclectic\, but also classic\, vintage\, elegant\, and subtle beauties which called out to her. For many years\, Joyce participated in some of Seattle’s finest holiday bazaars and gem shows; she sold finished pieces to local shops and boutiques around Seattle and held estate sales out of her home.  Through her beading\, she found solace\, comfort\, and a cathartic way to express herself.” \n \n“We occasionally played in her bead room\, as I would now and again come over to borrow a piece or two when I had a work party to attend or a fundraiser in one of downtown Seattle’s old hotel ballrooms.  I helped her with one holiday bazaar\, held at the Seattle Tennis Club where my father worked\, and I encouraged her over the years to consider the internet as a way of selling her pieces. Still\, she was adamant about steering clear of computers.” \n \n“A friend of mine shared this with me last year before Grandma Joyce passed. She said\, “She who dies with the most beads\, wins.” I had never heard this before\, but as I went through Grandma’s bead room months later\, overwhelmed by the volume of pieces\, their energies\, the hours that passed in that room day after day\, year after year as Joyce sought her own voice and creative expression\, I thought\, “You won Grandma\, you won.”” \n \n“It is an honor for me to present to you now\, with the help of the very kind folks at Dusti Creek Beads\, the remainder of my late Grandma Joyce’s collection\, featuring her one-of-a-kind pieces. There truly is something for everyone. I hope you will come by and take a gander. I look forward to meeting you and exclaiming\, “Hello Gorgeous!“ when you arrive.” \nAll the very best\,\nKatie
URL:https://beadsatdusticreek.com/event/hello-gorgeous-joyce-lofgreen-designer-creator-t-s/
END:VEVENT
BEGIN:VEVENT
DTSTART;VALUE=DATE:20211207
DTEND;VALUE=DATE:20211208
DTSTAMP:20260420T122622
CREATED:20211207T000416Z
LAST-MODIFIED:20211207T000416Z
UID:3146-1638835200-1638921599@beadsatdusticreek.com
SUMMARY:BDC CLOSED on Tuesdays
DESCRIPTION:We’re CLOSED on Tuesdays.  It’s the one day each week that we rest\, relax\, and take stock. \nTuesday closures were not chosen at random: Traditionally\, Tuesdays have had the lowest number of Customer visits of any day of the week.  And we want to be at our best when you do come in. \nWe look forward to serving all of your beading needs on Wednesday\, Thursday\, Friday\, or any other day of the week.   \nJust not Tuesdays.  🙂 \nDusti \n 
URL:https://beadsatdusticreek.com/event/bdc-closed-on-tuesdays-122/
END:VEVENT
BEGIN:VEVENT
DTSTART;VALUE=DATE:20211214
DTEND;VALUE=DATE:20211215
DTSTAMP:20260420T122622
CREATED:20211207T000452Z
LAST-MODIFIED:20211207T000452Z
UID:3143-1639440000-1639526399@beadsatdusticreek.com
SUMMARY:BDC CLOSED on Tuesdays
DESCRIPTION:We’re CLOSED on Tuesdays.  It’s the one day each week that we rest\, relax\, and take stock. \nTuesday closures were not chosen at random: Traditionally\, Tuesdays have had the lowest number of Customer visits of any day of the week.  And we want to be at our best when you do come in. \nWe look forward to serving all of your beading needs on Wednesday\, Thursday\, Friday\, or any other day of the week.   \nJust not Tuesdays.  🙂 \nDusti \n 
URL:https://beadsatdusticreek.com/event/bdc-closed-on-tuesdays-123/
END:VEVENT
BEGIN:VEVENT
DTSTART;VALUE=DATE:20211221
DTEND;VALUE=DATE:20211222
DTSTAMP:20260420T122622
CREATED:20211207T000521Z
LAST-MODIFIED:20211207T000521Z
UID:3145-1640044800-1640131199@beadsatdusticreek.com
SUMMARY:BDC CLOSED on Tuesdays
DESCRIPTION:We’re CLOSED on Tuesdays.  It’s the one day each week that we rest\, relax\, and take stock. \nTuesday closures were not chosen at random: Traditionally\, Tuesdays have had the lowest number of Customer visits of any day of the week.  And we want to be at our best when you do come in. \nWe look forward to serving all of your beading needs on Wednesday\, Thursday\, Friday\, or any other day of the week.   \nJust not Tuesdays.  🙂 \nDusti \n 
URL:https://beadsatdusticreek.com/event/bdc-closed-on-tuesdays-124/
END:VEVENT
BEGIN:VEVENT
DTSTART;TZID=America/Denver:20211224T110000
DTEND;TZID=America/Denver:20211224T140000
DTSTAMP:20260420T122622
CREATED:20211224T015042Z
LAST-MODIFIED:20211224T015148Z
UID:3156-1640343600-1640354400@beadsatdusticreek.com
SUMMARY:BDC Closes at 2 PM\, Friday\, Christmas Eve.
DESCRIPTION:BDC Wishes you a \nMerry Christmas\, & a Happy New Year. \nBDC Closes at 2 PM on Christmas Eve\, Friday\, Dec. 24\, 2021. \nWe will also be Closed for Christmas Day\, Saturday\, Dec. 25\, 2021. \n \nWe will Re-Open at 10 AM\, on Sunday\,  \nDecember 26th\, 2021
URL:https://beadsatdusticreek.com/event/bdc-closes-at-2-pm-saturday-christmas-eve/
END:VEVENT
BEGIN:VEVENT
DTSTART;TZID=America/Denver:20211224T110000
DTEND;TZID=America/Denver:20211224T140000
DTSTAMP:20260420T122622
CREATED:20221121T151456Z
LAST-MODIFIED:20221121T151456Z
UID:3422-1640343600-1640354400@beadsatdusticreek.com
SUMMARY:BDC Closes at 2 PM\, Friday\, Christmas Eve.
DESCRIPTION:BDC Wishes you a \nMerry Christmas\, & a Happy New Year. \nBDC Closes at 2 PM on Christmas Eve\, Saturday\, Dec. 24\, 2022. \nWe will also be Closed for Christmas Day\, Sunday\, Dec. 25\, 2022. \n \nWe will Re-Open at 10 AM\, on Monday\,  \nDecember 26th\, 2022
URL:https://beadsatdusticreek.com/event/bdc-closes-at-2-pm-friday-christmas-eve/
END:VEVENT
BEGIN:VEVENT
DTSTART;VALUE=DATE:20211225
DTEND;VALUE=DATE:20211226
DTSTAMP:20260420T122622
CREATED:20211224T013952Z
LAST-MODIFIED:20211224T013952Z
UID:3153-1640390400-1640476799@beadsatdusticreek.com
SUMMARY:Christmas Day - BDC CLOSED
DESCRIPTION:We are CLOSED this Saturday\, December 25th\, in observance of  \nChristmas Day. \nWe’ll be back on Sunday\, December 26th\, (Boxing Day) to serve all your beading needs. \nMerry Christmas\,  Everybody !.
URL:https://beadsatdusticreek.com/event/christmas-day-bdc-closed-3/
END:VEVENT
BEGIN:VEVENT
DTSTART;VALUE=DATE:20211226
DTEND;VALUE=DATE:20211227
DTSTAMP:20260420T122622
CREATED:20211226T170312Z
LAST-MODIFIED:20211226T172156Z
UID:3168-1640476800-1640563199@beadsatdusticreek.com
SUMMARY:BDC CLOSED Sunday -"Snow Day"
DESCRIPTION:For the safety of our Customers and our Staff\,  \nBDC will be CLOSED on Sunday\, Dec. 26th.   \nWeather forecasts appear to indicate that we can expect improving conditions on Monday\, Dec. 27th\, when BDC will re-open at 12Noon. \nWe look forward to serving all your beading needs then. \nDusti
URL:https://beadsatdusticreek.com/event/snow-day-bdc-closed-sunday/
END:VEVENT
BEGIN:VEVENT
DTSTART;VALUE=DATE:20211228
DTEND;VALUE=DATE:20211229
DTSTAMP:20260420T122622
CREATED:20211207T000555Z
LAST-MODIFIED:20211207T000555Z
UID:3144-1640649600-1640735999@beadsatdusticreek.com
SUMMARY:BDC CLOSED on Tuesdays
DESCRIPTION:We’re CLOSED on Tuesdays.  It’s the one day each week that we rest\, relax\, and take stock. \nTuesday closures were not chosen at random: Traditionally\, Tuesdays have had the lowest number of Customer visits of any day of the week.  And we want to be at our best when you do come in. \nWe look forward to serving all of your beading needs on Wednesday\, Thursday\, Friday\, or any other day of the week.   \nJust not Tuesdays.  🙂 \nDusti \n 
URL:https://beadsatdusticreek.com/event/bdc-closed-on-tuesdays-125/
END:VEVENT
BEGIN:VEVENT
DTSTART;VALUE=DATE:20220104
DTEND;VALUE=DATE:20220105
DTSTAMP:20260420T122622
CREATED:20220102T232546Z
LAST-MODIFIED:20220102T232546Z
UID:3199-1641254400-1641340799@beadsatdusticreek.com
SUMMARY:BDC CLOSED on Tuesdays
DESCRIPTION:We’re CLOSED on Tuesdays.  It’s the one day each week that we rest\, relax\, and take stock. \nTuesday closures were not chosen at random: Traditionally\, Tuesdays have had the lowest number of Customer visits of any day of the week.  And we want to be at our best when you do come in. \nWe look forward to serving all of your beading needs on Wednesday\, Thursday\, Friday\, or any other day of the week.   \nJust not Tuesdays.  🙂 \nDusti \n 
URL:https://beadsatdusticreek.com/event/bdc-closed-on-tuesdays-127/
END:VEVENT
BEGIN:VEVENT
DTSTART;VALUE=DATE:20220111
DTEND;VALUE=DATE:20220112
DTSTAMP:20260420T122622
CREATED:20220102T232503Z
LAST-MODIFIED:20220102T232503Z
UID:3200-1641859200-1641945599@beadsatdusticreek.com
SUMMARY:BDC CLOSED on Tuesdays
DESCRIPTION:We’re CLOSED on Tuesdays.  It’s the one day each week that we rest\, relax\, and take stock. \nTuesday closures were not chosen at random: Traditionally\, Tuesdays have had the lowest number of Customer visits of any day of the week.  And we want to be at our best when you do come in. \nWe look forward to serving all of your beading needs on Wednesday\, Thursday\, Friday\, or any other day of the week.   \nJust not Tuesdays.  🙂 \nDusti \n 
URL:https://beadsatdusticreek.com/event/bdc-closed-on-tuesdays-126/
END:VEVENT
BEGIN:VEVENT
DTSTART;VALUE=DATE:20220118
DTEND;VALUE=DATE:20220119
DTSTAMP:20260420T122622
CREATED:20220102T232645Z
LAST-MODIFIED:20220102T232645Z
UID:3204-1642464000-1642550399@beadsatdusticreek.com
SUMMARY:BDC CLOSED on Tuesdays
DESCRIPTION:We’re CLOSED on Tuesdays.  It’s the one day each week that we rest\, relax\, and take stock. \nTuesday closures were not chosen at random: Traditionally\, Tuesdays have had the lowest number of Customer visits of any day of the week.  And we want to be at our best when you do come in. \nWe look forward to serving all of your beading needs on Wednesday\, Thursday\, Friday\, or any other day of the week.   \nJust not Tuesdays.  🙂 \nDusti \n 
URL:https://beadsatdusticreek.com/event/bdc-closed-on-tuesdays-128/
END:VEVENT
BEGIN:VEVENT
DTSTART;VALUE=DATE:20220125
DTEND;VALUE=DATE:20220126
DTSTAMP:20260420T122622
CREATED:20220102T232730Z
LAST-MODIFIED:20220102T232730Z
UID:3203-1643068800-1643155199@beadsatdusticreek.com
SUMMARY:BDC CLOSED on Tuesdays
DESCRIPTION:We’re CLOSED on Tuesdays.  It’s the one day each week that we rest\, relax\, and take stock. \nTuesday closures were not chosen at random: Traditionally\, Tuesdays have had the lowest number of Customer visits of any day of the week.  And we want to be at our best when you do come in. \nWe look forward to serving all of your beading needs on Wednesday\, Thursday\, Friday\, or any other day of the week.   \nJust not Tuesdays.  🙂 \nDusti \n 
URL:https://beadsatdusticreek.com/event/bdc-closed-on-tuesdays-129/
END:VEVENT
BEGIN:VEVENT
DTSTART;VALUE=DATE:20220201
DTEND;VALUE=DATE:20220202
DTSTAMP:20260420T122622
CREATED:20220102T232832Z
LAST-MODIFIED:20220102T232832Z
UID:3202-1643673600-1643759999@beadsatdusticreek.com
SUMMARY:BDC CLOSED on Tuesdays
DESCRIPTION:We’re CLOSED on Tuesdays.  It’s the one day each week that we rest\, relax\, and take stock. \nTuesday closures were not chosen at random: Traditionally\, Tuesdays have had the lowest number of Customer visits of any day of the week.  And we want to be at our best when you do come in. \nWe look forward to serving all of your beading needs on Wednesday\, Thursday\, Friday\, or any other day of the week.   \nJust not Tuesdays.  🙂 \nDusti \n 
URL:https://beadsatdusticreek.com/event/bdc-closed-on-tuesdays-130/
END:VEVENT
BEGIN:VEVENT
DTSTART;VALUE=DATE:20220208
DTEND;VALUE=DATE:20220209
DTSTAMP:20260420T122622
CREATED:20220102T232914Z
LAST-MODIFIED:20220102T232914Z
UID:3201-1644278400-1644364799@beadsatdusticreek.com
SUMMARY:BDC CLOSED on Tuesdays
DESCRIPTION:We’re CLOSED on Tuesdays.  It’s the one day each week that we rest\, relax\, and take stock. \nTuesday closures were not chosen at random: Traditionally\, Tuesdays have had the lowest number of Customer visits of any day of the week.  And we want to be at our best when you do come in. \nWe look forward to serving all of your beading needs on Wednesday\, Thursday\, Friday\, or any other day of the week.   \nJust not Tuesdays.  🙂 \nDusti \n 
URL:https://beadsatdusticreek.com/event/bdc-closed-on-tuesdays-131/
END:VEVENT
END:VCALENDAR