BEGIN:VCALENDAR
VERSION:2.0
PRODID:-//Beads At Dusti Creek - ECPv6.15.20//NONSGML v1.0//EN
CALSCALE:GREGORIAN
METHOD:PUBLISH
X-WR-CALNAME:Beads At Dusti Creek
X-ORIGINAL-URL:https://beadsatdusticreek.com
X-WR-CALDESC:Events for Beads At Dusti Creek
REFRESH-INTERVAL;VALUE=DURATION:PT1H
X-Robots-Tag:noindex
X-PUBLISHED-TTL:PT1H
BEGIN:VTIMEZONE
TZID:America/Los_Angeles
BEGIN:DAYLIGHT
TZOFFSETFROM:-0800
TZOFFSETTO:-0700
TZNAME:PDT
DTSTART:20190310T100000
END:DAYLIGHT
BEGIN:STANDARD
TZOFFSETFROM:-0700
TZOFFSETTO:-0800
TZNAME:PST
DTSTART:20191103T090000
END:STANDARD
BEGIN:DAYLIGHT
TZOFFSETFROM:-0800
TZOFFSETTO:-0700
TZNAME:PDT
DTSTART:20200308T100000
END:DAYLIGHT
BEGIN:STANDARD
TZOFFSETFROM:-0700
TZOFFSETTO:-0800
TZNAME:PST
DTSTART:20201101T090000
END:STANDARD
BEGIN:DAYLIGHT
TZOFFSETFROM:-0800
TZOFFSETTO:-0700
TZNAME:PDT
DTSTART:20210314T100000
END:DAYLIGHT
BEGIN:STANDARD
TZOFFSETFROM:-0700
TZOFFSETTO:-0800
TZNAME:PST
DTSTART:20211107T090000
END:STANDARD
BEGIN:DAYLIGHT
TZOFFSETFROM:-0800
TZOFFSETTO:-0700
TZNAME:PDT
DTSTART:20220313T100000
END:DAYLIGHT
BEGIN:STANDARD
TZOFFSETFROM:-0700
TZOFFSETTO:-0800
TZNAME:PST
DTSTART:20221106T090000
END:STANDARD
END:VTIMEZONE
BEGIN:VEVENT
DTSTART;VALUE=DATE:20210112
DTEND;VALUE=DATE:20210113
DTSTAMP:20260420T192920
CREATED:20210217T212759Z
LAST-MODIFIED:20210217T212759Z
UID:2834-1610409600-1610495999@beadsatdusticreek.com
SUMMARY:BDC CLOSED on Tuesdays
DESCRIPTION:
URL:https://beadsatdusticreek.com/event/bdc-closed-on-tuesdays-87/
END:VEVENT
BEGIN:VEVENT
DTSTART;VALUE=DATE:20210105
DTEND;VALUE=DATE:20210106
DTSTAMP:20260420T192920
CREATED:20210217T212636Z
LAST-MODIFIED:20210217T212636Z
UID:2836-1609804800-1609891199@beadsatdusticreek.com
SUMMARY:BDC CLOSED on Tuesdays
DESCRIPTION:
URL:https://beadsatdusticreek.com/event/bdc-closed-on-tuesdays-86/
END:VEVENT
BEGIN:VEVENT
DTSTART;VALUE=DATE:20210101
DTEND;VALUE=DATE:20210102
DTSTAMP:20260420T192920
CREATED:20201226T145121Z
LAST-MODIFIED:20201226T145121Z
UID:2777-1609459200-1609545599@beadsatdusticreek.com
SUMMARY:New Year's Day:  BDC CLOSED !
DESCRIPTION:
URL:https://beadsatdusticreek.com/event/new-years-day-bdc-closed/
END:VEVENT
BEGIN:VEVENT
DTSTART;VALUE=DATE:20201231
DTEND;VALUE=DATE:20210101
DTSTAMP:20260420T192920
CREATED:20201231T203342Z
LAST-MODIFIED:20201231T203645Z
UID:2791-1609372800-1609459199@beadsatdusticreek.com
SUMMARY:20% OFF Everything\, Dec. 31\, 2020
DESCRIPTION:Hi\, Fellow Beaders. \nWe’re saying “Goodbye” to 2020 with a 20% OFF Sale on Everything in the shop. \nThat’s TODAY ONLY\, Thursday\, Dec. 31\, 2020.   \nWe’re open our normal hours\, 11A to 6P.   \nWe hope to see you\, if not today\, in the New Year. \nDusti & Eric
URL:https://beadsatdusticreek.com/event/20-off-everything-dec-31-2020/
END:VEVENT
BEGIN:VEVENT
DTSTART;VALUE=DATE:20201231
DTEND;VALUE=DATE:20210101
DTSTAMP:20260420T192920
CREATED:20201229T024933Z
LAST-MODIFIED:20201229T024947Z
UID:2784-1609372800-1609459199@beadsatdusticreek.com
SUMMARY:BDC OPEN ALL DAY\, New Year's Eve !
DESCRIPTION:Yes\, BDC will be OPEN All Day\,  \nThursday\, December 31\, 2020.   \nRegular Hours\, 11 AM to  6 PM.   \nWe just thought you might want to know.   \nIf not\, we’ll look forward to seeing you in 2021. \n  \n  \n  \n 
URL:https://beadsatdusticreek.com/event/bdc-open-all-day-new-years-eve/
END:VEVENT
BEGIN:VEVENT
DTSTART;VALUE=DATE:20201229
DTEND;VALUE=DATE:20201230
DTSTAMP:20260420T192920
CREATED:20201125T153537Z
LAST-MODIFIED:20201125T153537Z
UID:2746-1609200000-1609286399@beadsatdusticreek.com
SUMMARY:BDC CLOSED on Tuesdays
DESCRIPTION:
URL:https://beadsatdusticreek.com/event/bdc-closed-on-tuesdays-79/
END:VEVENT
BEGIN:VEVENT
DTSTART;VALUE=DATE:20201226
DTEND;VALUE=DATE:20201227
DTSTAMP:20260420T192920
CREATED:20201224T024827Z
LAST-MODIFIED:20201224T030128Z
UID:2760-1608940800-1609027199@beadsatdusticreek.com
SUMMARY:Boxing Day BDC OPEN 10AM - 5PM
DESCRIPTION:OPEN Regular Hours:  10 AM – 5 PM.
URL:https://beadsatdusticreek.com/event/boxing-day-bdc-open-10-am-5-pm/
END:VEVENT
BEGIN:VEVENT
DTSTART;VALUE=DATE:20201225
DTEND;VALUE=DATE:20201226
DTSTAMP:20260420T192920
CREATED:20201224T024714Z
LAST-MODIFIED:20201224T030635Z
UID:2758-1608854400-1608940799@beadsatdusticreek.com
SUMMARY:Christmas Day - BDC CLOSED
DESCRIPTION:We are CLOSED this Friday\, December 25th\, in observance of  \nChristmas Day. \nWe’ll be back on Saturday\, December 26th\, (Boxing Day) to serve all your beading needs. \nMerry Christmas\,  Everybody !.
URL:https://beadsatdusticreek.com/event/christmas-day-bdc-closed-2/
END:VEVENT
BEGIN:VEVENT
DTSTART;VALUE=DATE:20201222
DTEND;VALUE=DATE:20201223
DTSTAMP:20260420T192920
CREATED:20201125T153451Z
LAST-MODIFIED:20201125T153451Z
UID:2745-1608595200-1608681599@beadsatdusticreek.com
SUMMARY:BDC CLOSED on Tuesdays
DESCRIPTION:
URL:https://beadsatdusticreek.com/event/bdc-closed-on-tuesdays-78/
END:VEVENT
BEGIN:VEVENT
DTSTART;VALUE=DATE:20201215
DTEND;VALUE=DATE:20201216
DTSTAMP:20260420T192920
CREATED:20201125T153320Z
LAST-MODIFIED:20201125T153320Z
UID:2743-1607990400-1608076799@beadsatdusticreek.com
SUMMARY:BDC CLOSED on Tuesdays
DESCRIPTION:
URL:https://beadsatdusticreek.com/event/bdc-closed-on-tuesdays-77/
END:VEVENT
BEGIN:VEVENT
DTSTART;VALUE=DATE:20201208
DTEND;VALUE=DATE:20201209
DTSTAMP:20260420T192920
CREATED:20201125T153202Z
LAST-MODIFIED:20201125T153202Z
UID:2741-1607385600-1607471999@beadsatdusticreek.com
SUMMARY:BDC CLOSED on Tuesdays
DESCRIPTION:
URL:https://beadsatdusticreek.com/event/bdc-closed-on-tuesdays-76/
END:VEVENT
BEGIN:VEVENT
DTSTART;VALUE=DATE:20201201
DTEND;VALUE=DATE:20201202
DTSTAMP:20260420T192920
CREATED:20201125T153034Z
LAST-MODIFIED:20201125T153034Z
UID:2738-1606780800-1606867199@beadsatdusticreek.com
SUMMARY:BDC CLOSED on Tuesdays
DESCRIPTION:
URL:https://beadsatdusticreek.com/event/bdc-closed-on-tuesdays-75/
END:VEVENT
BEGIN:VEVENT
DTSTART;VALUE=DATE:20201127
DTEND;VALUE=DATE:20201128
DTSTAMP:20260420T192920
CREATED:20201124T172225Z
LAST-MODIFIED:20201124T172225Z
UID:2725-1606435200-1606521599@beadsatdusticreek.com
SUMMARY:Christmas Season Begins
DESCRIPTION:
URL:https://beadsatdusticreek.com/event/christmas-season-begins/
END:VEVENT
BEGIN:VEVENT
DTSTART;VALUE=DATE:20201126
DTEND;VALUE=DATE:20201127
DTSTAMP:20260420T192920
CREATED:20201125T152204Z
LAST-MODIFIED:20201125T155221Z
UID:2728-1606348800-1606435199@beadsatdusticreek.com
SUMMARY:BDC Closed in Observance of Thanksgiving
DESCRIPTION:BDC will be closed on Thursday\, Nov. 26\, 2020 in Observance of Thanksgiving Day. \nWe will return on Friday\, Nov. 27\, during regular business hours. \nWe wish you an enjoyable time with friends and family. \n 
URL:https://beadsatdusticreek.com/event/bdc-closed-in-observance-of-thanksgiving-2/
END:VEVENT
BEGIN:VEVENT
DTSTART;VALUE=DATE:20201124
DTEND;VALUE=DATE:20201125
DTSTAMP:20260420T192920
CREATED:20201125T152842Z
LAST-MODIFIED:20201125T152842Z
UID:2736-1606176000-1606262399@beadsatdusticreek.com
SUMMARY:BDC CLOSED on Tuesdays
DESCRIPTION:
URL:https://beadsatdusticreek.com/event/bdc-closed-on-tuesdays-74/
END:VEVENT
BEGIN:VEVENT
DTSTART;VALUE=DATE:20201117
DTEND;VALUE=DATE:20201118
DTSTAMP:20260420T192920
CREATED:20201125T152710Z
LAST-MODIFIED:20201125T152710Z
UID:2734-1605571200-1605657599@beadsatdusticreek.com
SUMMARY:BDC CLOSED on Tuesdays
DESCRIPTION:
URL:https://beadsatdusticreek.com/event/bdc-closed-on-tuesdays-73/
END:VEVENT
BEGIN:VEVENT
DTSTART;VALUE=DATE:20201113
DTEND;VALUE=DATE:20201116
DTSTAMP:20260420T192920
CREATED:20201113T012213Z
LAST-MODIFIED:20201113T030459Z
UID:2684-1605225600-1605484799@beadsatdusticreek.com
SUMMARY:Janu Gems Returns to BDC
DESCRIPTION:“Would you believe  _____?” \n(A catch phrase made famous in a late 1960’s sit.com.) \nJanu Gems returns to BDC for a pre-Holiday Bead Extravaganza. \n  \n \nTheodore\, of Janu Gems\, returns to BDC this weekend for a 3 day Trunk Show.  Friday – Sunday\,                 November 13th – 15th.  \nFor this visit\, Theodore is telling us that he will be featuring hanks and strands of “micro-faceted” semi-precious beads.  Think regular seed beads\, but with an attitude.  This will be a first\, at least for me. \nWe’re scrambling to reconfigure the shop to satisfy the Governor’s most recent proscriptions and to include masks & distancing\, while at the same time\, providing enhanced and expanded displays of Janu Gems’ tempting offerings. \n \nWill you be one of those unfortunate folks  \nwho has to say\, \n  \n“Sorry\, Chief.” And\, “Missed it by that much.” ? \n  \nFriday – Sunday\,          \nNovember 13th – 15th.  \n  \nHere are some pictures from previous  \nJanu Gems Trunk Shows.    \nPrevious Janu Gems  Trunk Show – Pics. 
URL:https://beadsatdusticreek.com/event/janu-gems-returns-to-bdc/
END:VEVENT
BEGIN:VEVENT
DTSTART;VALUE=DATE:20201110
DTEND;VALUE=DATE:20201111
DTSTAMP:20260420T192920
CREATED:20201125T152507Z
LAST-MODIFIED:20201125T152507Z
UID:2732-1604966400-1605052799@beadsatdusticreek.com
SUMMARY:BDC CLOSED on Tuesdays
DESCRIPTION:
URL:https://beadsatdusticreek.com/event/bdc-closed-on-tuesdays-72/
END:VEVENT
BEGIN:VEVENT
DTSTART;VALUE=DATE:20201103
DTEND;VALUE=DATE:20201104
DTSTAMP:20260420T192920
CREATED:20201125T152406Z
LAST-MODIFIED:20201125T152406Z
UID:2730-1604361600-1604447999@beadsatdusticreek.com
SUMMARY:BDC CLOSED on Tuesdays
DESCRIPTION:
URL:https://beadsatdusticreek.com/event/bdc-closed-on-tuesdays-71/
END:VEVENT
BEGIN:VEVENT
DTSTART;TZID=America/Los_Angeles:20201017T100000
DTEND;TZID=America/Los_Angeles:20201017T170000
DTSTAMP:20260420T192920
CREATED:20201016T032351Z
LAST-MODIFIED:20201016T032351Z
UID:2665-1602928800-1602954000@beadsatdusticreek.com
SUMMARY:Nancy Gant "Simply Lampwork" Day 2
DESCRIPTION:​​Nancy Gant’s “Simply Lampwork” Studio will be at BDC.  \nFriday & Saturday\, Oct. 16 & 17\, for TWO DAYS ONLY.   \nThe last time Nancy visited BDC was a little over seven months ago\, just before the virus. This stop is her final scheduled visit to Portland for the rest of 2020. \n  \nIf you’ve had the good fortune to meet her during one of her previous visits\, you would have recognized her big\, warm personality and would have seen the wonderful & whimsical fauna & flora that she creates with a flame and some special glass.  \n So\, what has she been doing in her “spare” time?  \n \nWell\, she’s expanded her repertoire. In addition to some new Fall and Halloween themed beads\, Nancy has created some “Gnomes.”   \n \n \n \nThere are also new “Ocean Moon” & “Forrest Scene.”Focal Beads that now feature Dichroic enhancement.  \n \nShe has added a whole new family of delightful Dragons. \n  \nNancy’s signature “Flower” Focal Beads now feature “Double-Sided Bouquets.”   \nAnd\, of course\, all of the Fanciful and Fun Creatures Nancy creates will also be in the house. \n \n  \nFriday\, 11 AM – 6 PM. Saturday\, 10 AM – 5 PM. \nBelow you’ll find a sampling of the wide variety of themes that emerge from Nancy’s creative vision. And if you take the time to visit\, you’ll find a warm\, engaging artist eager to share her gift.  \n \n \n     \nThis is just a sample of the artistry of Nancy Gant.  To see it all\, you’ll just have to visit BDC on Friday or Saturday.   \nYou will be delighted. 
URL:https://beadsatdusticreek.com/event/nancy-gant-simply-lampwork-day-2/
END:VEVENT
BEGIN:VEVENT
DTSTART;TZID=America/Los_Angeles:20201016T110000
DTEND;TZID=America/Los_Angeles:20201016T180000
DTSTAMP:20260420T192921
CREATED:20201012T203418Z
LAST-MODIFIED:20201016T035825Z
UID:2610-1602846000-1602871200@beadsatdusticreek.com
SUMMARY:Nancy Gant "Simply Lampwork" Day 1
DESCRIPTION:​​Nancy Gant’s “Simply Lampwork” Studio will be at BDC.  \nFriday & Saturday\, Oct. 16 & 17\, for TWO DAYS ONLY.   \nThe last time Nancy visited BDC was a little over seven months ago\, just before the virus. This stop is her final scheduled visit to Portland for the rest of 2020. \n  \nIf you’ve had the good fortune to meet her during one of her previous visits\, you would have recognized her big\, warm personality and would have seen the wonderful & whimsical fauna & flora that she creates with a flame and some special glass.  \n So\, what has she been doing in her “spare” time?  \n \nWell\, she’s expanded her repertoire. In addition to some new Fall and Halloween themed beads\, Nancy has created some “Gnomes.”   \n \n \n \nThere are also new “Ocean Moon” & “Forrest Scene.”Focal Beads that now feature Dichroic enhancement.  \n \nShe has added a whole new family of delightful Dragons. \n  \nNancy’s signature “Flower” Focal Beads now feature “Double-Sided Bouquets.”   \nAnd\, of course\, all of the Fanciful and Fun Creatures Nancy creates will also be in the house. \n \n  \nFriday\, 11 AM – 6 PM. Saturday\, 10 AM – 5 PM. \nBelow you’ll find a sampling of the wide variety of themes that emerge from Nancy’s creative vision. And if you take the time to visit\, you’ll find a warm\, engaging artist eager to share her gift.  \n \n \n     \nThis is just a sample of the artistry of Nancy Gant.  To see it all\, you’ll just have to visit BDC on Friday or Saturday.   \nYou will be delighted. 
URL:https://beadsatdusticreek.com/event/nancy-gant-simply-lampwork-day-1/
END:VEVENT
BEGIN:VEVENT
DTSTART;VALUE=DATE:20201015
DTEND;VALUE=DATE:20201019
DTSTAMP:20260420T192921
CREATED:20201012T203833Z
LAST-MODIFIED:20201016T002216Z
UID:2613-1602720000-1603065599@beadsatdusticreek.com
SUMMARY:Happy Anniversary\, BDC !  15 Years!
DESCRIPTION:“Time flies like an arrow; fruit flies like a banana.” \n~ Groucho Marx \nIt has been 15 years since Beads At Dusti Creek first opened its doors.   \nWho’d ‘a thunk it?  \nThe concept was simple: To provide local Portland Beaders with the quality of products that we use in our own projects\, displayed in a well-lit and supportive environment. Giving advice for those who wish it gleaned from our own experience and free for the taking.   \nAll in all\, it’s simple to say: Challenging to do. \nBut you liked our approach and supported us.  \nThank you.   \nIt is difficult to express just how grateful we are for your support.  \nThank you. \nIn recognition of our 15th Anniversary\, we’re taking 15% OFF of virtually everything in the store. (Except our visiting Trunk Show\, “Simply Lampwork”) From today\, Thursday\, Oct. 15th\, thru Sunday\, Oct. 18th. There may be some other exceptions\, but they will be limited.  \nDiscounts will be taken at the Register. \n  \nRare Footage: Customers helping secure a BDC Dragonfly during a Ground Test !!
URL:https://beadsatdusticreek.com/event/happy-anniversary-bdc-15-years/
END:VEVENT
BEGIN:VEVENT
DTSTART;VALUE=DATE:20200929
DTEND;VALUE=DATE:20200930
DTSTAMP:20260420T192921
CREATED:20200906T232243Z
LAST-MODIFIED:20200906T232243Z
UID:2600-1601337600-1601423999@beadsatdusticreek.com
SUMMARY:BDC CLOSED on Tuesdays
DESCRIPTION:
URL:https://beadsatdusticreek.com/event/bdc-closed-on-tuesdays-70/
END:VEVENT
BEGIN:VEVENT
DTSTART;VALUE=DATE:20200922
DTEND;VALUE=DATE:20200923
DTSTAMP:20260420T192921
CREATED:20200906T232146Z
LAST-MODIFIED:20200906T232146Z
UID:2598-1600732800-1600819199@beadsatdusticreek.com
SUMMARY:BDC CLOSED on Tuesdays
DESCRIPTION:
URL:https://beadsatdusticreek.com/event/bdc-closed-on-tuesdays-69/
END:VEVENT
BEGIN:VEVENT
DTSTART;VALUE=DATE:20200915
DTEND;VALUE=DATE:20200916
DTSTAMP:20260420T192921
CREATED:20200906T232102Z
LAST-MODIFIED:20200906T232102Z
UID:2596-1600128000-1600214399@beadsatdusticreek.com
SUMMARY:BDC CLOSED on Tuesdays
DESCRIPTION:
URL:https://beadsatdusticreek.com/event/bdc-closed-on-tuesdays-68/
END:VEVENT
BEGIN:VEVENT
DTSTART;VALUE=DATE:20200908
DTEND;VALUE=DATE:20200909
DTSTAMP:20260420T192921
CREATED:20200906T232014Z
LAST-MODIFIED:20200906T232014Z
UID:2593-1599523200-1599609599@beadsatdusticreek.com
SUMMARY:BDC CLOSED on Tuesdays
DESCRIPTION:
URL:https://beadsatdusticreek.com/event/bdc-closed-on-tuesdays-67/
END:VEVENT
BEGIN:VEVENT
DTSTART;VALUE=DATE:20200907
DTEND;VALUE=DATE:20200908
DTSTAMP:20260420T192921
CREATED:20200906T231852Z
LAST-MODIFIED:20200906T231852Z
UID:2590-1599436800-1599523199@beadsatdusticreek.com
SUMMARY:BDC CLOSED for Labor Day Holiday
DESCRIPTION:
URL:https://beadsatdusticreek.com/event/bdc-closed-for-labor-day-holiday/
END:VEVENT
BEGIN:VEVENT
DTSTART;VALUE=DATE:20200901
DTEND;VALUE=DATE:20200902
DTSTAMP:20260420T192921
CREATED:20200705T203616Z
LAST-MODIFIED:20200705T203616Z
UID:2469-1598918400-1599004799@beadsatdusticreek.com
SUMMARY:BDC CLOSED on Tuesdays
DESCRIPTION:
URL:https://beadsatdusticreek.com/event/bdc-closed-on-tuesdays-66/
END:VEVENT
BEGIN:VEVENT
DTSTART;VALUE=DATE:20200825
DTEND;VALUE=DATE:20200826
DTSTAMP:20260420T192921
CREATED:20200705T203501Z
LAST-MODIFIED:20200705T203501Z
UID:2466-1598313600-1598399999@beadsatdusticreek.com
SUMMARY:BDC CLOSED on Tuesdays
DESCRIPTION:
URL:https://beadsatdusticreek.com/event/bdc-closed-on-tuesdays-65/
END:VEVENT
BEGIN:VEVENT
DTSTART;VALUE=DATE:20200818
DTEND;VALUE=DATE:20200819
DTSTAMP:20260420T192921
CREATED:20200705T203421Z
LAST-MODIFIED:20200705T203421Z
UID:2465-1597708800-1597795199@beadsatdusticreek.com
SUMMARY:BDC CLOSED on Tuesdays
DESCRIPTION:
URL:https://beadsatdusticreek.com/event/bdc-closed-on-tuesdays-64/
END:VEVENT
END:VCALENDAR