BEGIN:VCALENDAR
VERSION:2.0
PRODID:-//Beads At Dusti Creek - ECPv6.15.20//NONSGML v1.0//EN
CALSCALE:GREGORIAN
METHOD:PUBLISH
X-WR-CALNAME:Beads At Dusti Creek
X-ORIGINAL-URL:https://beadsatdusticreek.com
X-WR-CALDESC:Events for Beads At Dusti Creek
REFRESH-INTERVAL;VALUE=DURATION:PT1H
X-Robots-Tag:noindex
X-PUBLISHED-TTL:PT1H
BEGIN:VTIMEZONE
TZID:America/Los_Angeles
BEGIN:DAYLIGHT
TZOFFSETFROM:-0800
TZOFFSETTO:-0700
TZNAME:PDT
DTSTART:20180311T100000
END:DAYLIGHT
BEGIN:STANDARD
TZOFFSETFROM:-0700
TZOFFSETTO:-0800
TZNAME:PST
DTSTART:20181104T090000
END:STANDARD
BEGIN:DAYLIGHT
TZOFFSETFROM:-0800
TZOFFSETTO:-0700
TZNAME:PDT
DTSTART:20190310T100000
END:DAYLIGHT
BEGIN:STANDARD
TZOFFSETFROM:-0700
TZOFFSETTO:-0800
TZNAME:PST
DTSTART:20191103T090000
END:STANDARD
BEGIN:DAYLIGHT
TZOFFSETFROM:-0800
TZOFFSETTO:-0700
TZNAME:PDT
DTSTART:20200308T100000
END:DAYLIGHT
BEGIN:STANDARD
TZOFFSETFROM:-0700
TZOFFSETTO:-0800
TZNAME:PST
DTSTART:20201101T090000
END:STANDARD
BEGIN:DAYLIGHT
TZOFFSETFROM:-0800
TZOFFSETTO:-0700
TZNAME:PDT
DTSTART:20210314T100000
END:DAYLIGHT
BEGIN:STANDARD
TZOFFSETFROM:-0700
TZOFFSETTO:-0800
TZNAME:PST
DTSTART:20211107T090000
END:STANDARD
END:VTIMEZONE
BEGIN:VEVENT
DTSTART;VALUE=DATE:20200204
DTEND;VALUE=DATE:20200205
DTSTAMP:20260421T134159
CREATED:20200223T200754Z
LAST-MODIFIED:20200223T200754Z
UID:2301-1580774400-1580860799@beadsatdusticreek.com
SUMMARY:BDC CLOSED on Tuesdays
DESCRIPTION:
URL:https://beadsatdusticreek.com/event/bdc-closed-on-tuesdays-45/
END:VEVENT
BEGIN:VEVENT
DTSTART;VALUE=DATE:20200128
DTEND;VALUE=DATE:20200129
DTSTAMP:20260421T134159
CREATED:20200122T232338Z
LAST-MODIFIED:20200122T232338Z
UID:2265-1580169600-1580255999@beadsatdusticreek.com
SUMMARY:BDC CLOSED on Tuesdays
DESCRIPTION:
URL:https://beadsatdusticreek.com/event/bdc-closed-on-tuesdays-44/
END:VEVENT
BEGIN:VEVENT
DTSTART;VALUE=DATE:20200125
DTEND;VALUE=DATE:20200127
DTSTAMP:20260421T134159
CREATED:20200124T015510Z
LAST-MODIFIED:20200124T021357Z
UID:2268-1579910400-1580083199@beadsatdusticreek.com
SUMMARY:Janu Gems T.S. @ BDC
DESCRIPTION:An Abandoned Mine\, in Quartzite\, Arizona.  \nHigh Temp. Today\, Thursday\, Jan. 23rd.  + 72 F. \n \nFresh from his visit to the 2020 Quartzite\, Arizona \nGem & Mineral Show\, Theodore\, of Janu Gems\,  \nis holding a 2 Day\, Saturday & Sunday  \nTrunk Show at BDC.  This Weekend\, \nJanuary 25 – 26\, 2020   \n  \n While those of us in Portland have been dodging “Epic” Rain\, and enduring  unceasing Weather Forecasts of “Snowmageddon”\, Theodore\, of Janu Gems\, has been diligently buying\, selling\, and trading at the Season’s First Gem and Mineral Show in Quartzite\, Arizona.  He’s been adding to his collection of  Natural & Semi-Precious Stone Beads\, as well as Pearls\, and finished pieces\, including Amber Necklaces. \nHis next visit to BDC is This Weekend\, for 2 Days Only\, Saturday and Sunday\, January 25\, and 26.  \nA Key word for this visit is “Cabochon.”   But\, as usual\, there will be BEADS Galore. \nTheodore will also have many of the other natural and semi-precious stone Beads for which he is so well known. \n We didn’t have enough time to photograph his new acquisitions\, but here are some stock photos of  the categories of new treasures that are on their way to BDC. \n \n \n \n \n \n \n \n  \nSpecial Pricing on Large Size Beads.  These are  entry level beads that are priced by the gram\, rather than by the strand.  The result is that they will be sold at up to 75% OFF their Retail price. \n He did sent along some candid shots  from a recent show\, featuring some of the special items that he’ll be bringing for you\, our customers. \n \n \n \n \n    And there will be plenty of your favorites. \n   Yes.  It’s an “Event.”  Anytime Janu Gems is at BDC ! \nWould you like to see more of Theodore’s offerings?   \nClick Here
URL:https://beadsatdusticreek.com/event/janu-gems-t-s-bdc-4/
END:VEVENT
BEGIN:VEVENT
DTSTART;VALUE=DATE:20200121
DTEND;VALUE=DATE:20200122
DTSTAMP:20260421T134159
CREATED:20200122T232227Z
LAST-MODIFIED:20200122T232227Z
UID:2263-1579564800-1579651199@beadsatdusticreek.com
SUMMARY:BDC CLOSED on Tuesdays
DESCRIPTION:
URL:https://beadsatdusticreek.com/event/bdc-closed-on-tuesdays-43/
END:VEVENT
BEGIN:VEVENT
DTSTART;VALUE=DATE:20200114
DTEND;VALUE=DATE:20200115
DTSTAMP:20260421T134159
CREATED:20200122T232129Z
LAST-MODIFIED:20200122T232129Z
UID:2261-1578960000-1579046399@beadsatdusticreek.com
SUMMARY:BDC CLOSED on Tuesdays
DESCRIPTION:
URL:https://beadsatdusticreek.com/event/bdc-closed-on-tuesdays-42/
END:VEVENT
BEGIN:VEVENT
DTSTART;VALUE=DATE:20200107
DTEND;VALUE=DATE:20200108
DTSTAMP:20260421T134159
CREATED:20200122T231931Z
LAST-MODIFIED:20200122T231931Z
UID:2259-1578355200-1578441599@beadsatdusticreek.com
SUMMARY:BDC CLOSED on Tuesdays
DESCRIPTION:
URL:https://beadsatdusticreek.com/event/bdc-closed-on-tuesdays-41/
END:VEVENT
BEGIN:VEVENT
DTSTART;VALUE=DATE:20200101
DTEND;VALUE=DATE:20200102
DTSTAMP:20260421T134159
CREATED:20191224T023122Z
LAST-MODIFIED:20191224T023122Z
UID:2237-1577836800-1577923199@beadsatdusticreek.com
SUMMARY:BDC CLOSED All Day\,  New Year's Day.
DESCRIPTION:
URL:https://beadsatdusticreek.com/event/bdc-closed-all-day-new-years-day/
END:VEVENT
BEGIN:VEVENT
DTSTART;VALUE=DATE:20191231
DTEND;VALUE=DATE:20200101
DTSTAMP:20260421T134159
CREATED:20191224T022714Z
LAST-MODIFIED:20191224T024000Z
UID:2230-1577750400-1577836799@beadsatdusticreek.com
SUMMARY:BDC CLOSED All Day\, New Year's Eve.
DESCRIPTION:Happy New Year !! \nYes\, We’re CLOSED all Day Tuesday\, December 31\, New Year’s Eve. \nMostly because we’re always CLOSED on Tuesday’s.  And\, we will be CLOSED tomorrow\, January 1st.  Because it is the Holiday.  “Everybody” is CLOSED. \nWe will return on Thursday\, January 2nd\, and look forward to  to serve your beading needs as we head in to the New Year!. \nHappy New Year !!
URL:https://beadsatdusticreek.com/event/bdc-closed-all-day-for-christmas-eve/
END:VEVENT
BEGIN:VEVENT
DTSTART;VALUE=DATE:20191231
DTEND;VALUE=DATE:20200101
DTSTAMP:20260421T134159
CREATED:20191224T022445Z
LAST-MODIFIED:20191224T022445Z
UID:2221-1577750400-1577836799@beadsatdusticreek.com
SUMMARY:BDC CLOSED on Tuesdays
DESCRIPTION:
URL:https://beadsatdusticreek.com/event/bdc-closed-on-tuesdays-40/
END:VEVENT
BEGIN:VEVENT
DTSTART;VALUE=DATE:20191225
DTEND;VALUE=DATE:20191226
DTSTAMP:20260421T134159
CREATED:20191224T022918Z
LAST-MODIFIED:20191224T022956Z
UID:2232-1577232000-1577318399@beadsatdusticreek.com
SUMMARY:BDC CLOSED All Day\,  Christmas Day.
DESCRIPTION:
URL:https://beadsatdusticreek.com/event/bdc-closed-all-day-for-christmas-day/
END:VEVENT
BEGIN:VEVENT
DTSTART;VALUE=DATE:20191224
DTEND;VALUE=DATE:20191225
DTSTAMP:20260421T134159
CREATED:20191224T024836Z
LAST-MODIFIED:20191224T024836Z
UID:2246-1577145600-1577231999@beadsatdusticreek.com
SUMMARY:BDC CLOSED  For Christmas Eve.
DESCRIPTION:Not only are we CLOSED for Tuesday\, December 24th\, because it is a TUESDAY\, \nBut also because we are Celebrating Christmas Eve with Friends and Family. \nWe’ll be back on Thursday\, December 26th\, to serve your beading needs. \nMerry Christmas !.
URL:https://beadsatdusticreek.com/event/bdc-closed-for-christmas-eve/
END:VEVENT
BEGIN:VEVENT
DTSTART;VALUE=DATE:20191224
DTEND;VALUE=DATE:20191225
DTSTAMP:20260421T134159
CREATED:20191224T022340Z
LAST-MODIFIED:20191224T022340Z
UID:2220-1577145600-1577231999@beadsatdusticreek.com
SUMMARY:BDC CLOSED on Tuesdays
DESCRIPTION:
URL:https://beadsatdusticreek.com/event/bdc-closed-on-tuesdays-39/
END:VEVENT
BEGIN:VEVENT
DTSTART;VALUE=DATE:20191217
DTEND;VALUE=DATE:20191218
DTSTAMP:20260421T134159
CREATED:20191224T022054Z
LAST-MODIFIED:20191224T022213Z
UID:2223-1576540800-1576627199@beadsatdusticreek.com
SUMMARY:BDC CLOSED on Tuesdays
DESCRIPTION:
URL:https://beadsatdusticreek.com/event/bdc-closed-on-tuesdays-37/
END:VEVENT
BEGIN:VEVENT
DTSTART;VALUE=DATE:20191210
DTEND;VALUE=DATE:20191211
DTSTAMP:20260421T134159
CREATED:20191224T022259Z
LAST-MODIFIED:20191224T022259Z
UID:2222-1575936000-1576022399@beadsatdusticreek.com
SUMMARY:BDC CLOSED on Tuesdays
DESCRIPTION:
URL:https://beadsatdusticreek.com/event/bdc-closed-on-tuesdays-38/
END:VEVENT
BEGIN:VEVENT
DTSTART;VALUE=DATE:20191203
DTEND;VALUE=DATE:20191204
DTSTAMP:20260421T134159
CREATED:20191224T021850Z
LAST-MODIFIED:20191224T022014Z
UID:2224-1575331200-1575417599@beadsatdusticreek.com
SUMMARY:BDC CLOSED on Tuesdays
DESCRIPTION:
URL:https://beadsatdusticreek.com/event/bdc-closed-on-tuesdays-36/
END:VEVENT
BEGIN:VEVENT
DTSTART;VALUE=DATE:20191128
DTEND;VALUE=DATE:20191129
DTSTAMP:20260421T134159
CREATED:20191127T220151Z
LAST-MODIFIED:20191127T220151Z
UID:2206-1574899200-1574985599@beadsatdusticreek.com
SUMMARY:BDC Closed in Observance of Thanksgiving
DESCRIPTION:BDC will be closed on Thursday\, Nov. 28\, 2019 in Observance of Thanksgiving Day. \nWe will return on Friday\, Nov. 29\, during regular business hours. \nWe wish you an enjoyable time with friends and family. \n 
URL:https://beadsatdusticreek.com/event/bdc-closed-in-observance-of-thanksgiving/
END:VEVENT
BEGIN:VEVENT
DTSTART;VALUE=DATE:20191126
DTEND;VALUE=DATE:20191127
DTSTAMP:20260421T134159
CREATED:20191120T030402Z
LAST-MODIFIED:20191121T031159Z
UID:2185-1574726400-1574812799@beadsatdusticreek.com
SUMMARY:BDC CLOSED on Tuesdays
DESCRIPTION:
URL:https://beadsatdusticreek.com/event/bdc-closed-on-tuesdays-35/
END:VEVENT
BEGIN:VEVENT
DTSTART;VALUE=DATE:20191122
DTEND;VALUE=DATE:20191125
DTSTAMP:20260421T134159
CREATED:20191026T002833Z
LAST-MODIFIED:20191121T035215Z
UID:2159-1574380800-1574639999@beadsatdusticreek.com
SUMMARY:Janu Gems T.S. @ BDC
DESCRIPTION:In a change of pace from mid-week Trunk Shows\, Theodore\, of Janu Gems\, is holding a   \nFriday thru Sunday  \nTrunk Show at BDC.  This Weekend\, \nNovember 22 – 24\, 2019   \n  \n\nFirst\, the NEW.   Janu Gems is pleased to be offering an expanded assortment of Loose Stones (Gem stone quality)\, as well as more Finished Jewelry.  All at tempting prices.\n\n  \n\nNext\, Special Pricing on Large Size Beads.  These are  entry level beads that are priced by the gram\, rather than by the strand.  The result is that they will be sold at up to 75% OFF their Retail price.\n\n  \n\nFinally\, For those of you working on gift projects for the Holidays\, any Janu Gems purchase will entitle you to 15% OFF on any BDC Findings.  (Some already discounted Bulk findings are excluded. )\n\n  \nHe sent along some candid shots of the special items that he’ll be bringing for you\, our customers. \n \n \n \n \n    And there will be plenty of your favorites. \n   Yes.  It’s an “Event.”  Anytime Janu Gems is at BDC ! \nWould you like to see more of Theodore’s offerings?   \nClick Here
URL:https://beadsatdusticreek.com/event/janu-gems-t-s-bdc-3/
END:VEVENT
BEGIN:VEVENT
DTSTART;VALUE=DATE:20191119
DTEND;VALUE=DATE:20191120
DTSTAMP:20260421T134159
CREATED:20191121T031031Z
LAST-MODIFIED:20191121T031031Z
UID:2190-1574121600-1574207999@beadsatdusticreek.com
SUMMARY:BDC CLOSED on Tuesdays
DESCRIPTION:
URL:https://beadsatdusticreek.com/event/bdc-closed-on-tuesdays-33/
END:VEVENT
BEGIN:VEVENT
DTSTART;VALUE=DATE:20191112
DTEND;VALUE=DATE:20191113
DTSTAMP:20260421T134159
CREATED:20191121T030844Z
LAST-MODIFIED:20191121T030844Z
UID:2188-1573516800-1573603199@beadsatdusticreek.com
SUMMARY:BDC CLOSED on Tuesdays
DESCRIPTION:
URL:https://beadsatdusticreek.com/event/bdc-closed-on-tuesdays-32/
END:VEVENT
BEGIN:VEVENT
DTSTART;VALUE=DATE:20191105
DTEND;VALUE=DATE:20191106
DTSTAMP:20260421T134159
CREATED:20190830T003013Z
LAST-MODIFIED:20191121T030612Z
UID:2136-1572912000-1572998399@beadsatdusticreek.com
SUMMARY:BDC CLOSED on Tuesdays
DESCRIPTION:
URL:https://beadsatdusticreek.com/event/bdc-closed-on-tuesdays-31/
END:VEVENT
BEGIN:VEVENT
DTSTART;VALUE=DATE:20191029
DTEND;VALUE=DATE:20191030
DTSTAMP:20260421T134159
CREATED:20191121T031122Z
LAST-MODIFIED:20191121T031122Z
UID:2187-1572307200-1572393599@beadsatdusticreek.com
SUMMARY:BDC CLOSED on Tuesdays
DESCRIPTION:
URL:https://beadsatdusticreek.com/event/bdc-closed-on-tuesdays-34/
END:VEVENT
BEGIN:VEVENT
DTSTART;VALUE=DATE:20191022
DTEND;VALUE=DATE:20191023
DTSTAMP:20260421T134159
CREATED:20190830T002954Z
LAST-MODIFIED:20190830T002954Z
UID:2135-1571702400-1571788799@beadsatdusticreek.com
SUMMARY:BDC CLOSED on Tuesdays
DESCRIPTION:
URL:https://beadsatdusticreek.com/event/bdc-closed-on-tuesdays-30/
END:VEVENT
BEGIN:VEVENT
DTSTART;VALUE=DATE:20191015
DTEND;VALUE=DATE:20191016
DTSTAMP:20260421T134159
CREATED:20190830T002935Z
LAST-MODIFIED:20190830T002935Z
UID:2134-1571097600-1571183999@beadsatdusticreek.com
SUMMARY:BDC CLOSED on Tuesdays
DESCRIPTION:
URL:https://beadsatdusticreek.com/event/bdc-closed-on-tuesdays-29/
END:VEVENT
BEGIN:VEVENT
DTSTART;VALUE=DATE:20191008
DTEND;VALUE=DATE:20191009
DTSTAMP:20260421T134159
CREATED:20190830T002902Z
LAST-MODIFIED:20190830T002902Z
UID:2133-1570492800-1570579199@beadsatdusticreek.com
SUMMARY:BDC CLOSED on Tuesdays
DESCRIPTION:
URL:https://beadsatdusticreek.com/event/bdc-closed-on-tuesdays-28/
END:VEVENT
BEGIN:VEVENT
DTSTART;VALUE=DATE:20191001
DTEND;VALUE=DATE:20191002
DTSTAMP:20260421T134159
CREATED:20190830T002745Z
LAST-MODIFIED:20190830T002745Z
UID:2131-1569888000-1569974399@beadsatdusticreek.com
SUMMARY:BDC CLOSED on Tuesdays
DESCRIPTION:
URL:https://beadsatdusticreek.com/event/bdc-closed-on-tuesdays-27/
END:VEVENT
BEGIN:VEVENT
DTSTART;VALUE=DATE:20190924
DTEND;VALUE=DATE:20190925
DTSTAMP:20260421T134159
CREATED:20190830T002420Z
LAST-MODIFIED:20190830T002420Z
UID:2123-1569283200-1569369599@beadsatdusticreek.com
SUMMARY:BDC CLOSED on Tuesdays
DESCRIPTION:
URL:https://beadsatdusticreek.com/event/bdc-closed-on-tuesdays-26/
END:VEVENT
BEGIN:VEVENT
DTSTART;VALUE=DATE:20190917
DTEND;VALUE=DATE:20190918
DTSTAMP:20260421T134159
CREATED:20190830T002352Z
LAST-MODIFIED:20190830T002352Z
UID:2122-1568678400-1568764799@beadsatdusticreek.com
SUMMARY:BDC CLOSED on Tuesdays
DESCRIPTION:
URL:https://beadsatdusticreek.com/event/bdc-closed-on-tuesdays-25/
END:VEVENT
BEGIN:VEVENT
DTSTART;VALUE=DATE:20190910
DTEND;VALUE=DATE:20190911
DTSTAMP:20260421T134159
CREATED:20190830T002603Z
LAST-MODIFIED:20190830T002603Z
UID:2121-1568073600-1568159999@beadsatdusticreek.com
SUMMARY:BDC CLOSED on Tuesdays
DESCRIPTION:
URL:https://beadsatdusticreek.com/event/bdc-closed-on-tuesdays-23/
END:VEVENT
BEGIN:VEVENT
DTSTART;VALUE=DATE:20190903
DTEND;VALUE=DATE:20190904
DTSTAMP:20260421T134159
CREATED:20190830T002259Z
LAST-MODIFIED:20190830T002259Z
UID:2120-1567468800-1567555199@beadsatdusticreek.com
SUMMARY:BDC CLOSED on Tuesdays
DESCRIPTION:
URL:https://beadsatdusticreek.com/event/bdc-closed-on-tuesdays-24/
END:VEVENT
END:VCALENDAR