BEGIN:VCALENDAR
VERSION:2.0
PRODID:-//Beads At Dusti Creek - ECPv6.15.20//NONSGML v1.0//EN
CALSCALE:GREGORIAN
METHOD:PUBLISH
X-WR-CALNAME:Beads At Dusti Creek
X-ORIGINAL-URL:https://beadsatdusticreek.com
X-WR-CALDESC:Events for Beads At Dusti Creek
REFRESH-INTERVAL;VALUE=DURATION:PT1H
X-Robots-Tag:noindex
X-PUBLISHED-TTL:PT1H
BEGIN:VTIMEZONE
TZID:America/Los_Angeles
BEGIN:DAYLIGHT
TZOFFSETFROM:-0800
TZOFFSETTO:-0700
TZNAME:PDT
DTSTART:20190310T100000
END:DAYLIGHT
BEGIN:STANDARD
TZOFFSETFROM:-0700
TZOFFSETTO:-0800
TZNAME:PST
DTSTART:20191103T090000
END:STANDARD
BEGIN:DAYLIGHT
TZOFFSETFROM:-0800
TZOFFSETTO:-0700
TZNAME:PDT
DTSTART:20200308T100000
END:DAYLIGHT
BEGIN:STANDARD
TZOFFSETFROM:-0700
TZOFFSETTO:-0800
TZNAME:PST
DTSTART:20201101T090000
END:STANDARD
BEGIN:DAYLIGHT
TZOFFSETFROM:-0800
TZOFFSETTO:-0700
TZNAME:PDT
DTSTART:20210314T100000
END:DAYLIGHT
BEGIN:STANDARD
TZOFFSETFROM:-0700
TZOFFSETTO:-0800
TZNAME:PST
DTSTART:20211107T090000
END:STANDARD
END:VTIMEZONE
BEGIN:VEVENT
DTSTART;VALUE=DATE:20200704
DTEND;VALUE=DATE:20200705
DTSTAMP:20260420T205021
CREATED:20200703T234114Z
LAST-MODIFIED:20200703T234114Z
UID:2446-1593820800-1593907199@beadsatdusticreek.com
SUMMARY:BDC CLOSED July 4th
DESCRIPTION:BDC CLOSED for Independence Day\, July 4th. \n\nWe pause this 4th of July to remember the courage\, strength\, and perseverance of Molly Pitcher\, during the Battle of Monmouth. Stepping in to load and fire the cannon when the regular gun crew was killed and injured\, she remained calm under enemy fire. This was not part of her normal training or experience\, but she was no shrinking violet. And yet she was nimble enough to get the job done. She even earned recognition from General Washington.\n\nWe believe that creative problem solving such as found in bead work\, (planning\, design\, and execution) nurtures the creative muscle\, and helps make the mind more nimble. So we celebrate Molly Pitcher this 4th of July. \nStay Nimble. \nDusti
URL:https://beadsatdusticreek.com/event/bdc-closed-july-4th-2/
END:VEVENT
BEGIN:VEVENT
DTSTART;VALUE=DATE:20200707
DTEND;VALUE=DATE:20200708
DTSTAMP:20260420T205021
CREATED:20200705T202946Z
LAST-MODIFIED:20200705T202946Z
UID:2453-1594080000-1594166399@beadsatdusticreek.com
SUMMARY:BDC CLOSED on Tuesdays
DESCRIPTION:
URL:https://beadsatdusticreek.com/event/bdc-closed-on-tuesdays-58/
END:VEVENT
BEGIN:VEVENT
DTSTART;VALUE=DATE:20200714
DTEND;VALUE=DATE:20200715
DTSTAMP:20260420T205021
CREATED:20200705T203012Z
LAST-MODIFIED:20200705T203012Z
UID:2451-1594684800-1594771199@beadsatdusticreek.com
SUMMARY:BDC CLOSED on Tuesdays
DESCRIPTION:
URL:https://beadsatdusticreek.com/event/bdc-closed-on-tuesdays-59/
END:VEVENT
BEGIN:VEVENT
DTSTART;VALUE=DATE:20200721
DTEND;VALUE=DATE:20200722
DTSTAMP:20260420T205021
CREATED:20200705T203049Z
LAST-MODIFIED:20200705T203049Z
UID:2454-1595289600-1595375999@beadsatdusticreek.com
SUMMARY:BDC CLOSED on Tuesdays
DESCRIPTION:
URL:https://beadsatdusticreek.com/event/bdc-closed-on-tuesdays-60/
END:VEVENT
BEGIN:VEVENT
DTSTART;VALUE=DATE:20200728
DTEND;VALUE=DATE:20200729
DTSTAMP:20260420T205021
CREATED:20200705T203124Z
LAST-MODIFIED:20200705T203124Z
UID:2455-1595894400-1595980799@beadsatdusticreek.com
SUMMARY:BDC CLOSED on Tuesdays
DESCRIPTION:
URL:https://beadsatdusticreek.com/event/bdc-closed-on-tuesdays-61/
END:VEVENT
END:VCALENDAR