BEGIN:VCALENDAR
VERSION:2.0
PRODID:-//Beads At Dusti Creek - ECPv6.15.20//NONSGML v1.0//EN
CALSCALE:GREGORIAN
METHOD:PUBLISH
X-ORIGINAL-URL:https://beadsatdusticreek.com
X-WR-CALDESC:Events for Beads At Dusti Creek
REFRESH-INTERVAL;VALUE=DURATION:PT1H
X-Robots-Tag:noindex
X-PUBLISHED-TTL:PT1H
BEGIN:VTIMEZONE
TZID:America/Los_Angeles
BEGIN:DAYLIGHT
TZOFFSETFROM:-0800
TZOFFSETTO:-0700
TZNAME:PDT
DTSTART:20190310T100000
END:DAYLIGHT
BEGIN:STANDARD
TZOFFSETFROM:-0700
TZOFFSETTO:-0800
TZNAME:PST
DTSTART:20191103T090000
END:STANDARD
BEGIN:DAYLIGHT
TZOFFSETFROM:-0800
TZOFFSETTO:-0700
TZNAME:PDT
DTSTART:20200308T100000
END:DAYLIGHT
BEGIN:STANDARD
TZOFFSETFROM:-0700
TZOFFSETTO:-0800
TZNAME:PST
DTSTART:20201101T090000
END:STANDARD
BEGIN:DAYLIGHT
TZOFFSETFROM:-0800
TZOFFSETTO:-0700
TZNAME:PDT
DTSTART:20210314T100000
END:DAYLIGHT
BEGIN:STANDARD
TZOFFSETFROM:-0700
TZOFFSETTO:-0800
TZNAME:PST
DTSTART:20211107T090000
END:STANDARD
END:VTIMEZONE
BEGIN:VEVENT
DTSTART;VALUE=DATE:20201103
DTEND;VALUE=DATE:20201104
DTSTAMP:20260420T140749
CREATED:20201125T152406Z
LAST-MODIFIED:20201125T152406Z
UID:2730-1604361600-1604447999@beadsatdusticreek.com
SUMMARY:BDC CLOSED on Tuesdays
DESCRIPTION:
URL:https://beadsatdusticreek.com/event/bdc-closed-on-tuesdays-71/
END:VEVENT
BEGIN:VEVENT
DTSTART;VALUE=DATE:20201110
DTEND;VALUE=DATE:20201111
DTSTAMP:20260420T140749
CREATED:20201125T152507Z
LAST-MODIFIED:20201125T152507Z
UID:2732-1604966400-1605052799@beadsatdusticreek.com
SUMMARY:BDC CLOSED on Tuesdays
DESCRIPTION:
URL:https://beadsatdusticreek.com/event/bdc-closed-on-tuesdays-72/
END:VEVENT
BEGIN:VEVENT
DTSTART;VALUE=DATE:20201113
DTEND;VALUE=DATE:20201116
DTSTAMP:20260420T140749
CREATED:20201113T012213Z
LAST-MODIFIED:20201113T030459Z
UID:2684-1605225600-1605484799@beadsatdusticreek.com
SUMMARY:Janu Gems Returns to BDC
DESCRIPTION:“Would you believe  _____?” \n(A catch phrase made famous in a late 1960’s sit.com.) \nJanu Gems returns to BDC for a pre-Holiday Bead Extravaganza. \n  \n \nTheodore\, of Janu Gems\, returns to BDC this weekend for a 3 day Trunk Show.  Friday – Sunday\,                 November 13th – 15th.  \nFor this visit\, Theodore is telling us that he will be featuring hanks and strands of “micro-faceted” semi-precious beads.  Think regular seed beads\, but with an attitude.  This will be a first\, at least for me. \nWe’re scrambling to reconfigure the shop to satisfy the Governor’s most recent proscriptions and to include masks & distancing\, while at the same time\, providing enhanced and expanded displays of Janu Gems’ tempting offerings. \n \nWill you be one of those unfortunate folks  \nwho has to say\, \n  \n“Sorry\, Chief.” And\, “Missed it by that much.” ? \n  \nFriday – Sunday\,          \nNovember 13th – 15th.  \n  \nHere are some pictures from previous  \nJanu Gems Trunk Shows.    \nPrevious Janu Gems  Trunk Show – Pics. 
URL:https://beadsatdusticreek.com/event/janu-gems-returns-to-bdc/
END:VEVENT
BEGIN:VEVENT
DTSTART;VALUE=DATE:20201117
DTEND;VALUE=DATE:20201118
DTSTAMP:20260420T140749
CREATED:20201125T152710Z
LAST-MODIFIED:20201125T152710Z
UID:2734-1605571200-1605657599@beadsatdusticreek.com
SUMMARY:BDC CLOSED on Tuesdays
DESCRIPTION:
URL:https://beadsatdusticreek.com/event/bdc-closed-on-tuesdays-73/
END:VEVENT
BEGIN:VEVENT
DTSTART;VALUE=DATE:20201124
DTEND;VALUE=DATE:20201125
DTSTAMP:20260420T140749
CREATED:20201125T152842Z
LAST-MODIFIED:20201125T152842Z
UID:2736-1606176000-1606262399@beadsatdusticreek.com
SUMMARY:BDC CLOSED on Tuesdays
DESCRIPTION:
URL:https://beadsatdusticreek.com/event/bdc-closed-on-tuesdays-74/
END:VEVENT
BEGIN:VEVENT
DTSTART;VALUE=DATE:20201126
DTEND;VALUE=DATE:20201127
DTSTAMP:20260420T140749
CREATED:20201125T152204Z
LAST-MODIFIED:20201125T155221Z
UID:2728-1606348800-1606435199@beadsatdusticreek.com
SUMMARY:BDC Closed in Observance of Thanksgiving
DESCRIPTION:BDC will be closed on Thursday\, Nov. 26\, 2020 in Observance of Thanksgiving Day. \nWe will return on Friday\, Nov. 27\, during regular business hours. \nWe wish you an enjoyable time with friends and family. \n 
URL:https://beadsatdusticreek.com/event/bdc-closed-in-observance-of-thanksgiving-2/
END:VEVENT
BEGIN:VEVENT
DTSTART;VALUE=DATE:20201127
DTEND;VALUE=DATE:20201128
DTSTAMP:20260420T140749
CREATED:20201124T172225Z
LAST-MODIFIED:20201124T172225Z
UID:2725-1606435200-1606521599@beadsatdusticreek.com
SUMMARY:Christmas Season Begins
DESCRIPTION:
URL:https://beadsatdusticreek.com/event/christmas-season-begins/
END:VEVENT
END:VCALENDAR