BEGIN:VCALENDAR
VERSION:2.0
PRODID:-//Beads At Dusti Creek - ECPv6.15.20//NONSGML v1.0//EN
CALSCALE:GREGORIAN
METHOD:PUBLISH
X-ORIGINAL-URL:https://beadsatdusticreek.com
X-WR-CALDESC:Events for Beads At Dusti Creek
REFRESH-INTERVAL;VALUE=DURATION:PT1H
X-Robots-Tag:noindex
X-PUBLISHED-TTL:PT1H
BEGIN:VTIMEZONE
TZID:America/Los_Angeles
BEGIN:DAYLIGHT
TZOFFSETFROM:-0800
TZOFFSETTO:-0700
TZNAME:PDT
DTSTART:20200308T100000
END:DAYLIGHT
BEGIN:STANDARD
TZOFFSETFROM:-0700
TZOFFSETTO:-0800
TZNAME:PST
DTSTART:20201101T090000
END:STANDARD
BEGIN:DAYLIGHT
TZOFFSETFROM:-0800
TZOFFSETTO:-0700
TZNAME:PDT
DTSTART:20210314T100000
END:DAYLIGHT
BEGIN:STANDARD
TZOFFSETFROM:-0700
TZOFFSETTO:-0800
TZNAME:PST
DTSTART:20211107T090000
END:STANDARD
BEGIN:DAYLIGHT
TZOFFSETFROM:-0800
TZOFFSETTO:-0700
TZNAME:PDT
DTSTART:20220313T100000
END:DAYLIGHT
BEGIN:STANDARD
TZOFFSETFROM:-0700
TZOFFSETTO:-0800
TZNAME:PST
DTSTART:20221106T090000
END:STANDARD
END:VTIMEZONE
BEGIN:VEVENT
DTSTART;VALUE=DATE:20210101
DTEND;VALUE=DATE:20210102
DTSTAMP:20260420T103426
CREATED:20201226T145121Z
LAST-MODIFIED:20201226T145121Z
UID:2777-1609459200-1609545599@beadsatdusticreek.com
SUMMARY:New Year's Day:  BDC CLOSED !
DESCRIPTION:
URL:https://beadsatdusticreek.com/event/new-years-day-bdc-closed/
END:VEVENT
BEGIN:VEVENT
DTSTART;VALUE=DATE:20210105
DTEND;VALUE=DATE:20210106
DTSTAMP:20260420T103426
CREATED:20210217T212636Z
LAST-MODIFIED:20210217T212636Z
UID:2836-1609804800-1609891199@beadsatdusticreek.com
SUMMARY:BDC CLOSED on Tuesdays
DESCRIPTION:
URL:https://beadsatdusticreek.com/event/bdc-closed-on-tuesdays-86/
END:VEVENT
BEGIN:VEVENT
DTSTART;VALUE=DATE:20210112
DTEND;VALUE=DATE:20210113
DTSTAMP:20260420T103426
CREATED:20210217T212759Z
LAST-MODIFIED:20210217T212759Z
UID:2834-1610409600-1610495999@beadsatdusticreek.com
SUMMARY:BDC CLOSED on Tuesdays
DESCRIPTION:
URL:https://beadsatdusticreek.com/event/bdc-closed-on-tuesdays-87/
END:VEVENT
BEGIN:VEVENT
DTSTART;VALUE=DATE:20210119
DTEND;VALUE=DATE:20210120
DTSTAMP:20260420T103426
CREATED:20210217T212935Z
LAST-MODIFIED:20210217T212935Z
UID:2835-1611014400-1611100799@beadsatdusticreek.com
SUMMARY:BDC CLOSED on Tuesdays
DESCRIPTION:
URL:https://beadsatdusticreek.com/event/bdc-closed-on-tuesdays-88/
END:VEVENT
BEGIN:VEVENT
DTSTART;VALUE=DATE:20210126
DTEND;VALUE=DATE:20210127
DTSTAMP:20260420T103426
CREATED:20210217T213151Z
LAST-MODIFIED:20210217T213151Z
UID:2833-1611619200-1611705599@beadsatdusticreek.com
SUMMARY:BDC CLOSED on Tuesdays
DESCRIPTION:
URL:https://beadsatdusticreek.com/event/bdc-closed-on-tuesdays-89/
END:VEVENT
END:VCALENDAR