BEGIN:VCALENDAR
VERSION:2.0
PRODID:-//Beads At Dusti Creek - ECPv6.15.20//NONSGML v1.0//EN
CALSCALE:GREGORIAN
METHOD:PUBLISH
X-WR-CALNAME:Beads At Dusti Creek
X-ORIGINAL-URL:https://beadsatdusticreek.com
X-WR-CALDESC:Events for Beads At Dusti Creek
REFRESH-INTERVAL;VALUE=DURATION:PT1H
X-Robots-Tag:noindex
X-PUBLISHED-TTL:PT1H
BEGIN:VTIMEZONE
TZID:America/Los_Angeles
BEGIN:DAYLIGHT
TZOFFSETFROM:-0800
TZOFFSETTO:-0700
TZNAME:PDT
DTSTART:20210314T100000
END:DAYLIGHT
BEGIN:STANDARD
TZOFFSETFROM:-0700
TZOFFSETTO:-0800
TZNAME:PST
DTSTART:20211107T090000
END:STANDARD
BEGIN:DAYLIGHT
TZOFFSETFROM:-0800
TZOFFSETTO:-0700
TZNAME:PDT
DTSTART:20220313T100000
END:DAYLIGHT
BEGIN:STANDARD
TZOFFSETFROM:-0700
TZOFFSETTO:-0800
TZNAME:PST
DTSTART:20221106T090000
END:STANDARD
BEGIN:DAYLIGHT
TZOFFSETFROM:-0800
TZOFFSETTO:-0700
TZNAME:PDT
DTSTART:20230312T100000
END:DAYLIGHT
BEGIN:STANDARD
TZOFFSETFROM:-0700
TZOFFSETTO:-0800
TZNAME:PST
DTSTART:20231105T090000
END:STANDARD
END:VTIMEZONE
BEGIN:VEVENT
DTSTART;VALUE=DATE:20220104
DTEND;VALUE=DATE:20220105
DTSTAMP:20260420T103307
CREATED:20220102T232546Z
LAST-MODIFIED:20220102T232546Z
UID:3199-1641254400-1641340799@beadsatdusticreek.com
SUMMARY:BDC CLOSED on Tuesdays
DESCRIPTION:We’re CLOSED on Tuesdays.  It’s the one day each week that we rest\, relax\, and take stock. \nTuesday closures were not chosen at random: Traditionally\, Tuesdays have had the lowest number of Customer visits of any day of the week.  And we want to be at our best when you do come in. \nWe look forward to serving all of your beading needs on Wednesday\, Thursday\, Friday\, or any other day of the week.   \nJust not Tuesdays.  🙂 \nDusti \n 
URL:https://beadsatdusticreek.com/event/bdc-closed-on-tuesdays-127/
END:VEVENT
BEGIN:VEVENT
DTSTART;VALUE=DATE:20220111
DTEND;VALUE=DATE:20220112
DTSTAMP:20260420T103307
CREATED:20220102T232503Z
LAST-MODIFIED:20220102T232503Z
UID:3200-1641859200-1641945599@beadsatdusticreek.com
SUMMARY:BDC CLOSED on Tuesdays
DESCRIPTION:We’re CLOSED on Tuesdays.  It’s the one day each week that we rest\, relax\, and take stock. \nTuesday closures were not chosen at random: Traditionally\, Tuesdays have had the lowest number of Customer visits of any day of the week.  And we want to be at our best when you do come in. \nWe look forward to serving all of your beading needs on Wednesday\, Thursday\, Friday\, or any other day of the week.   \nJust not Tuesdays.  🙂 \nDusti \n 
URL:https://beadsatdusticreek.com/event/bdc-closed-on-tuesdays-126/
END:VEVENT
BEGIN:VEVENT
DTSTART;VALUE=DATE:20220118
DTEND;VALUE=DATE:20220119
DTSTAMP:20260420T103307
CREATED:20220102T232645Z
LAST-MODIFIED:20220102T232645Z
UID:3204-1642464000-1642550399@beadsatdusticreek.com
SUMMARY:BDC CLOSED on Tuesdays
DESCRIPTION:We’re CLOSED on Tuesdays.  It’s the one day each week that we rest\, relax\, and take stock. \nTuesday closures were not chosen at random: Traditionally\, Tuesdays have had the lowest number of Customer visits of any day of the week.  And we want to be at our best when you do come in. \nWe look forward to serving all of your beading needs on Wednesday\, Thursday\, Friday\, or any other day of the week.   \nJust not Tuesdays.  🙂 \nDusti \n 
URL:https://beadsatdusticreek.com/event/bdc-closed-on-tuesdays-128/
END:VEVENT
BEGIN:VEVENT
DTSTART;VALUE=DATE:20220125
DTEND;VALUE=DATE:20220126
DTSTAMP:20260420T103307
CREATED:20220102T232730Z
LAST-MODIFIED:20220102T232730Z
UID:3203-1643068800-1643155199@beadsatdusticreek.com
SUMMARY:BDC CLOSED on Tuesdays
DESCRIPTION:We’re CLOSED on Tuesdays.  It’s the one day each week that we rest\, relax\, and take stock. \nTuesday closures were not chosen at random: Traditionally\, Tuesdays have had the lowest number of Customer visits of any day of the week.  And we want to be at our best when you do come in. \nWe look forward to serving all of your beading needs on Wednesday\, Thursday\, Friday\, or any other day of the week.   \nJust not Tuesdays.  🙂 \nDusti \n 
URL:https://beadsatdusticreek.com/event/bdc-closed-on-tuesdays-129/
END:VEVENT
END:VCALENDAR