BEGIN:VCALENDAR
VERSION:2.0
PRODID:-//Beads At Dusti Creek - ECPv6.15.20//NONSGML v1.0//EN
CALSCALE:GREGORIAN
METHOD:PUBLISH
X-ORIGINAL-URL:https://beadsatdusticreek.com
X-WR-CALDESC:Events for Beads At Dusti Creek
REFRESH-INTERVAL;VALUE=DURATION:PT1H
X-Robots-Tag:noindex
X-PUBLISHED-TTL:PT1H
BEGIN:VTIMEZONE
TZID:America/Los_Angeles
BEGIN:DAYLIGHT
TZOFFSETFROM:-0800
TZOFFSETTO:-0700
TZNAME:PDT
DTSTART:20210314T100000
END:DAYLIGHT
BEGIN:STANDARD
TZOFFSETFROM:-0700
TZOFFSETTO:-0800
TZNAME:PST
DTSTART:20211107T090000
END:STANDARD
BEGIN:DAYLIGHT
TZOFFSETFROM:-0800
TZOFFSETTO:-0700
TZNAME:PDT
DTSTART:20220313T100000
END:DAYLIGHT
BEGIN:STANDARD
TZOFFSETFROM:-0700
TZOFFSETTO:-0800
TZNAME:PST
DTSTART:20221106T090000
END:STANDARD
BEGIN:DAYLIGHT
TZOFFSETFROM:-0800
TZOFFSETTO:-0700
TZNAME:PDT
DTSTART:20230312T100000
END:DAYLIGHT
BEGIN:STANDARD
TZOFFSETFROM:-0700
TZOFFSETTO:-0800
TZNAME:PST
DTSTART:20231105T090000
END:STANDARD
END:VTIMEZONE
BEGIN:VEVENT
DTSTART;VALUE=DATE:20220503
DTEND;VALUE=DATE:20220504
DTSTAMP:20260420T172403
CREATED:20220520T230018Z
LAST-MODIFIED:20220520T230018Z
UID:3264-1651536000-1651622399@beadsatdusticreek.com
SUMMARY:BDC CLOSED on Tuesdays
DESCRIPTION:We’re CLOSED on Tuesdays.  It’s the one day each week that we rest\, relax\, and take stock. \nTuesday closures were not chosen at random: Traditionally\, Tuesdays have had the lowest number of Customer visits of any day of the week.  And we want to be at our best when you do come in. \nWe look forward to serving all of your beading needs on Wednesday\, Thursday\, Friday\, or any other day of the week.   \nJust not Tuesdays.  🙂 \nDusti \n 
URL:https://beadsatdusticreek.com/event/bdc-closed-on-tuesdays-135/
END:VEVENT
BEGIN:VEVENT
DTSTART;VALUE=DATE:20220517
DTEND;VALUE=DATE:20220518
DTSTAMP:20260420T172403
CREATED:20220520T230151Z
LAST-MODIFIED:20220520T230151Z
UID:3266-1652745600-1652831999@beadsatdusticreek.com
SUMMARY:BDC CLOSED on Tuesdays
DESCRIPTION:We’re CLOSED on Tuesdays.  It’s the one day each week that we rest\, relax\, and take stock. \nTuesday closures were not chosen at random: Traditionally\, Tuesdays have had the lowest number of Customer visits of any day of the week.  And we want to be at our best when you do come in. \nWe look forward to serving all of your beading needs on Wednesday\, Thursday\, Friday\, or any other day of the week.   \nJust not Tuesdays.  🙂 \nDusti \n 
URL:https://beadsatdusticreek.com/event/bdc-closed-on-tuesdays-137/
END:VEVENT
BEGIN:VEVENT
DTSTART;VALUE=DATE:20220524
DTEND;VALUE=DATE:20220525
DTSTAMP:20260420T172403
CREATED:20220520T230727Z
LAST-MODIFIED:20220520T230727Z
UID:3275-1653350400-1653436799@beadsatdusticreek.com
SUMMARY:BDC CLOSED on Tuesdays
DESCRIPTION:We’re CLOSED on Tuesdays.  It’s the one day each week that we rest\, relax\, and take stock. \nTuesday closures were not chosen at random: Traditionally\, Tuesdays have had the lowest number of Customer visits of any day of the week.  And we want to be at our best when you do come in. \nWe look forward to serving all of your beading needs on Wednesday\, Thursday\, Friday\, or any other day of the week.   \nJust not Tuesdays.  🙂 \nDusti \n 
URL:https://beadsatdusticreek.com/event/bdc-closed-on-tuesdays-139/
END:VEVENT
BEGIN:VEVENT
DTSTART;VALUE=DATE:20220530
DTEND;VALUE=DATE:20220531
DTSTAMP:20260420T172403
CREATED:20220520T225814Z
LAST-MODIFIED:20220521T215326Z
UID:3261-1653868800-1653955199@beadsatdusticreek.com
SUMMARY:BDC CLOSED - MONDAY - Memorial Day
DESCRIPTION:BDC will be CLOSED for Memorial Day  (Decoration Day)\, which is Monday\, May 30th\, this year.  We will also be Closed on Tuesday\, May 31st\, as our normal\, weekly Closed day.   \nWe will re-open on Wednesday\, June 1st\, at 11 AM. \nPlease note\,  we will be OPEN all this Weekend\, Saturday & Sunday\, May 28th & 29th\, Prior to Memorial  Day\, to serve your beading needs. \nSo Plan Appropriately! \nBut whenever you come to visit\, we will be delighted to see you. \n 
URL:https://beadsatdusticreek.com/event/bdc-closed-monday-memorial-day/
END:VEVENT
BEGIN:VEVENT
DTSTART;VALUE=DATE:20220531
DTEND;VALUE=DATE:20220601
DTSTAMP:20260420T172403
CREATED:20220520T230602Z
LAST-MODIFIED:20220520T230602Z
UID:3267-1653955200-1654041599@beadsatdusticreek.com
SUMMARY:BDC CLOSED on Tuesdays
DESCRIPTION:We’re CLOSED on Tuesdays.  It’s the one day each week that we rest\, relax\, and take stock. \nTuesday closures were not chosen at random: Traditionally\, Tuesdays have had the lowest number of Customer visits of any day of the week.  And we want to be at our best when you do come in. \nWe look forward to serving all of your beading needs on Wednesday\, Thursday\, Friday\, or any other day of the week.   \nJust not Tuesdays.  🙂 \nDusti \n 
URL:https://beadsatdusticreek.com/event/bdc-closed-on-tuesdays-138/
END:VEVENT
END:VCALENDAR