BEGIN:VCALENDAR
VERSION:2.0
PRODID:-//Beads At Dusti Creek - ECPv6.15.20//NONSGML v1.0//EN
CALSCALE:GREGORIAN
METHOD:PUBLISH
X-WR-CALNAME:Beads At Dusti Creek
X-ORIGINAL-URL:https://beadsatdusticreek.com
X-WR-CALDESC:Events for Beads At Dusti Creek
REFRESH-INTERVAL;VALUE=DURATION:PT1H
X-Robots-Tag:noindex
X-PUBLISHED-TTL:PT1H
BEGIN:VTIMEZONE
TZID:America/Los_Angeles
BEGIN:DAYLIGHT
TZOFFSETFROM:-0800
TZOFFSETTO:-0700
TZNAME:PDT
DTSTART:20210314T100000
END:DAYLIGHT
BEGIN:STANDARD
TZOFFSETFROM:-0700
TZOFFSETTO:-0800
TZNAME:PST
DTSTART:20211107T090000
END:STANDARD
BEGIN:DAYLIGHT
TZOFFSETFROM:-0800
TZOFFSETTO:-0700
TZNAME:PDT
DTSTART:20220313T100000
END:DAYLIGHT
BEGIN:STANDARD
TZOFFSETFROM:-0700
TZOFFSETTO:-0800
TZNAME:PST
DTSTART:20221106T090000
END:STANDARD
BEGIN:DAYLIGHT
TZOFFSETFROM:-0800
TZOFFSETTO:-0700
TZNAME:PDT
DTSTART:20230312T100000
END:DAYLIGHT
BEGIN:STANDARD
TZOFFSETFROM:-0700
TZOFFSETTO:-0800
TZNAME:PST
DTSTART:20231105T090000
END:STANDARD
END:VTIMEZONE
BEGIN:VEVENT
DTSTART;VALUE=DATE:20220704
DTEND;VALUE=DATE:20220705
DTSTAMP:20260421T133002
CREATED:20220701T002600Z
LAST-MODIFIED:20220701T002600Z
UID:3307-1656892800-1656979199@beadsatdusticreek.com
SUMMARY:BDC CLOSED July 4th
DESCRIPTION:BDC CLOSED for Independence Day\, July 4th. \n\nWe pause this 4th of July to remember the courage\, strength\, and perseverance of Molly Pitcher\, during the Battle of Monmouth. Stepping in to load and fire the cannon when the regular gun crew was killed and injured\, she remained calm under enemy fire. This was not part of her normal training or experience\, but she was no shrinking violet. And yet she was nimble enough to get the job done. She even earned recognition from General Washington.\n\n\nWe believe that creative problem solving such as found in bead work\, (planning\, design\, and execution) nurtures the creative muscle\, and helps make the mind more nimble. So we celebrate Molly Pitcher this 4th of July. \nStay Nimble. \nDusti
URL:https://beadsatdusticreek.com/event/bdc-closed-july-4th-4/
END:VEVENT
BEGIN:VEVENT
DTSTART;VALUE=DATE:20220705
DTEND;VALUE=DATE:20220706
DTSTAMP:20260421T133002
CREATED:20220701T003120Z
LAST-MODIFIED:20220701T003120Z
UID:3310-1656979200-1657065599@beadsatdusticreek.com
SUMMARY:BDC CLOSED on Tuesdays
DESCRIPTION:We’re CLOSED on Tuesdays.  It’s the one day each week that we rest\, relax\, and take stock. \nTuesday closures were not chosen at random: Traditionally\, Tuesdays have had the lowest number of Customer visits of any day of the week.  And we want to be at our best when you do come in. \nWe look forward to serving all of your beading needs on Wednesday\, Thursday\, Friday\, or any other day of the week.   \nJust not Tuesdays.  🙂 \nDusti \n 
URL:https://beadsatdusticreek.com/event/bdc-closed-on-tuesdays-143/
END:VEVENT
BEGIN:VEVENT
DTSTART;VALUE=DATE:20220712
DTEND;VALUE=DATE:20220713
DTSTAMP:20260421T133002
CREATED:20220701T003259Z
LAST-MODIFIED:20220701T003259Z
UID:3311-1657584000-1657670399@beadsatdusticreek.com
SUMMARY:BDC CLOSED on Tuesdays
DESCRIPTION:We’re CLOSED on Tuesdays.  It’s the one day each week that we rest\, relax\, and take stock. \nTuesday closures were not chosen at random: Traditionally\, Tuesdays have had the lowest number of Customer visits of any day of the week.  And we want to be at our best when you do come in. \nWe look forward to serving all of your beading needs on Wednesday\, Thursday\, Friday\, or any other day of the week.   \nJust not Tuesdays.  🙂 \nDusti \n 
URL:https://beadsatdusticreek.com/event/bdc-closed-on-tuesdays-144/
END:VEVENT
BEGIN:VEVENT
DTSTART;VALUE=DATE:20220718
DTEND;VALUE=DATE:20220719
DTSTAMP:20260421T133002
CREATED:20220701T003441Z
LAST-MODIFIED:20220701T003441Z
UID:3313-1658102400-1658188799@beadsatdusticreek.com
SUMMARY:BDC CLOSED on Tuesdays
DESCRIPTION:We’re CLOSED on Tuesdays.  It’s the one day each week that we rest\, relax\, and take stock. \nTuesday closures were not chosen at random: Traditionally\, Tuesdays have had the lowest number of Customer visits of any day of the week.  And we want to be at our best when you do come in. \nWe look forward to serving all of your beading needs on Wednesday\, Thursday\, Friday\, or any other day of the week.   \nJust not Tuesdays.  🙂 \nDusti \n 
URL:https://beadsatdusticreek.com/event/bdc-closed-on-tuesdays-145/
END:VEVENT
BEGIN:VEVENT
DTSTART;VALUE=DATE:20220726
DTEND;VALUE=DATE:20220727
DTSTAMP:20260421T133002
CREATED:20220701T003640Z
LAST-MODIFIED:20220701T003640Z
UID:3312-1658793600-1658879999@beadsatdusticreek.com
SUMMARY:BDC CLOSED on Tuesdays
DESCRIPTION:We’re CLOSED on Tuesdays.  It’s the one day each week that we rest\, relax\, and take stock. \nTuesday closures were not chosen at random: Traditionally\, Tuesdays have had the lowest number of Customer visits of any day of the week.  And we want to be at our best when you do come in. \nWe look forward to serving all of your beading needs on Wednesday\, Thursday\, Friday\, or any other day of the week.   \nJust not Tuesdays.  🙂 \nDusti \n 
URL:https://beadsatdusticreek.com/event/bdc-closed-on-tuesdays-146/
END:VEVENT
END:VCALENDAR