BEGIN:VCALENDAR
VERSION:2.0
PRODID:-//Beads At Dusti Creek - ECPv6.15.20//NONSGML v1.0//EN
CALSCALE:GREGORIAN
METHOD:PUBLISH
X-ORIGINAL-URL:https://beadsatdusticreek.com
X-WR-CALDESC:Events for Beads At Dusti Creek
REFRESH-INTERVAL;VALUE=DURATION:PT1H
X-Robots-Tag:noindex
X-PUBLISHED-TTL:PT1H
BEGIN:VTIMEZONE
TZID:America/Los_Angeles
BEGIN:DAYLIGHT
TZOFFSETFROM:-0800
TZOFFSETTO:-0700
TZNAME:PDT
DTSTART:20240310T100000
END:DAYLIGHT
BEGIN:STANDARD
TZOFFSETFROM:-0700
TZOFFSETTO:-0800
TZNAME:PST
DTSTART:20241103T090000
END:STANDARD
BEGIN:DAYLIGHT
TZOFFSETFROM:-0800
TZOFFSETTO:-0700
TZNAME:PDT
DTSTART:20250309T100000
END:DAYLIGHT
BEGIN:STANDARD
TZOFFSETFROM:-0700
TZOFFSETTO:-0800
TZNAME:PST
DTSTART:20251102T090000
END:STANDARD
BEGIN:DAYLIGHT
TZOFFSETFROM:-0800
TZOFFSETTO:-0700
TZNAME:PDT
DTSTART:20260308T100000
END:DAYLIGHT
BEGIN:STANDARD
TZOFFSETFROM:-0700
TZOFFSETTO:-0800
TZNAME:PST
DTSTART:20261101T090000
END:STANDARD
END:VTIMEZONE
BEGIN:VEVENT
DTSTART;VALUE=DATE:20250213
DTEND;VALUE=DATE:20250214
DTSTAMP:20260420T014353
CREATED:20250213T185038Z
LAST-MODIFIED:20250213T185350Z
UID:3960-1739404800-1739491199@beadsatdusticreek.com
SUMMARY:Un-Scheduled BDC "Snow Day"
DESCRIPTION:Yes\, BDC is CLOSED today\, Thursday\, Feb. 13.  \nPPS had declared a “Snow Day”.    \nThe “Storm-With-No-Name” is due to be over by Friday\, Feb. 14. at 10 am. \nWe will Re-Open at 11 AM for Regular Business Hours.  
URL:https://beadsatdusticreek.com/event/un-scheduled-bdc-snow-day/
END:VEVENT
BEGIN:VEVENT
DTSTART;VALUE=DATE:20250215
DTEND;VALUE=DATE:20250216
DTSTAMP:20260420T014353
CREATED:20250213T184522Z
LAST-MODIFIED:20250213T185216Z
UID:3958-1739577600-1739663999@beadsatdusticreek.com
SUMMARY:African Trade Bead Show
DESCRIPTION:Beads At Dusti CreekIs Pleased to WelcomeMusa Jawara\,Importer of African BeadsFor One Day ONLY:This Saturday\, Feb. 15thAfrican Trade Beads are highly sought after.We believe that you’ll enjoy the breadth of choices on offer.This is your chance to find them here at BDC.Please make plans to stop by.Enjoy Art\,Dusti“Create as if there are no critics.”Saturday\, 10 AM – 5 PM
URL:https://beadsatdusticreek.com/event/african-trade-bead-show/
END:VEVENT
END:VCALENDAR